Workbook

Sheet Index
C9: Facts and figures Q4 2017
C10: Results and KPIs for the period ending 31 December 2017
C11: (in millions of euro unless indicated otherwise)
C13: Index of sheets
C14: - | E14: P&L & Cash flow
C15: - | E15: Revenues
C16: - | E16: Opex (excl. D&A)
C17: - | E17: EBITDA & contribution margin
C18: - | E18: Cash flow statement, Capex, Balance sheet & Debt summary
C19: - | E19: FTE
C20: - | E20: Growth analysis (Q4, FY, Q1, Q2, Q3)
C21: - | E21: Consumer Revenues
C22: - | E22: Consumer KPIs
C23: - | E23: Business Revenues
C24: - | E24: Business KPIs
C25: - | E25: Wholesale Revenues
... C27: - | E27: Bond overview
C29: For further information please contact
C30: KPN Investor Relations
C31: Phone | F31: +31 70 44 60986
C32: ir@kpn.com
C33: ir.kpn.com
D66: -318

Sheet P&L & Cash flow
C2: Consolidated figures | D2: 2017 | E2: Q4 '17 | F2: Q3 '17 | G2: Q2 '17 | H2: Q1 '17 | J2: 2016 | K2: Q4 '16 | L2: Q3 '16 | M2: Q2 '16 | N2: Q1 '16 | P2: y-on-y | Q2: y-on-y
C3: Income statement from continuing operations1 | P3: Q4% | Q3: FY%
C5: Revenues | D5: 6498 | E5: 1614 | F5: 1605 | G5: 1631 | H5: 1648 | J5: 6806 | K5: 1723 | L5: 1718 | M5: 1676 | N5: 1689 | P5: -0.063261753 | Q5: -0.045254187
C6: Adjusted revenues | D6: 6500 | E6: 1614 | F6: 1615 | G6: 1623 | H6: 1648 | J6: 6780 | K6: 1704 | L6: 1711 | M6: 1676 | N6: 1689 | P6: -0.052816901 | Q6: -0.041297935
C8: Cost of goods & services | D8: 1923 | E8: 462 | F8: 470 | G8: 491 | H8: 500 | J8: 2103 | K8: 526 | L8: 524 | M8: 528 | N8: 525 | P8: -0.121673 | Q8: -0.085592011
C9: Personnel expenses | D9: 1151 | E9: 287 | F9: 275 | G9: 291 | H9: 298 | J9: 1175 | K9: 282 | L9: 268 | M9: 298 | N9: 327 | P9: 0.017730496 | Q9: -0.020425532
C10: IT/TI | D10: 502 | E10: 126 | F10: 120 | G10: 122 | H10: 134 | J10: 547 | K10: 143 | L10: 127 | M10: 134 | N10: 143 | P10: -0.11888112 | Q10: -0.08226691
C11: Other operating expenses | D11: 616 | E11: 179 | F11: 137 | G11: 140 | H11: 160 | J11: 552 | K11: 146 | L11: 134 | M11: 137 | N11: 135 | P11: 0.2260274 | Q11: 0.11594203
C12: Operating expenses (excl. D&A) | D12: 4192 | E12: 1054 | F12: 1002 | G12: 1044 | H12: 1092 | J12: 4377 | K12: 1097 | L12: 1053 | M12: 1097 | N12: 1130 | P12: -0.039197812 | Q12: -0.042266393
C14: EBITDA | D14: 2306 | E14: 560 | F14: 603 | G14: 587 | H14: 556 | J14: 2429 | K14: 626 | L14: 665 | M14: 579 | N14: 559 | P14: -0.10543131 | Q14: -0.050638123
C15: Adjusted EBITDA | D15: 2417 | E15: 596 | F15: 636 | G15: 601 | H15: 584 | J15: 2428 | K15: 606 | L15: 662 | M15: 592 | N15: 568 | P15: -0.01650165 | Q15: -0.0045304778
C17: Depreciation | D17: 1005 | E17: 257 | F17: 248 | G17: 252 | H17: 248 | J17: 1008 | K17: 254 | L17: 251 | M17: 252 | N17: 251 | P17: 0.011811024 | Q17: -0.0029761905
C18: Amortization | D18: 419 | E18: 107 | F18: 102 | G18: 103 | H18: 107 | J18: 537 | K18: 126 | L18: 122 | M18: 122 | N18: 167 | P18: -0.15079365 | Q18: -0.21973929
C19: Total operating expenses | D19: 5616 | E19: 1418 | F19: 1352 | G19: 1399 | H19: 1447 | J19: 5922 | K19: 1477 | L19: 1426 | M19: 1471 | N19: 1548 | P19: -0.039945836 | Q19: -0.051671733
... C23: Net finance costs | D23: -241 | E23: -86 | F23: -82 | G23: 7 | H23: -80 | J23: -417 | K23: -99 | L23: -246 | M23: 10 | N23: -82 | P23: -0.13131313 | Q23: -0.42206235
C24: Share of the profit of associates and joint ventures | D24: 1 | E24: 1 | F24: -1 | G24: 1 | H24: 0 | J24: -1 | K24: -1 | L24: 1 | M24: -2 | N24: 1 | P24: n.m. | Q24: n.m.
C26: Profit before income tax | D26: 642 | E26: 111 | F26: 170 | G26: 240 | H26: 121 | J26: 466 | K26: 146 | L26: 47 | M26: 213 | N26: 60 | P26: -0.23972603 | Q26: 0.3776824
C28: Income taxes | D28: -157 | E28: -41 | F28: -38 | G28: -49 | H28: -29 | J28: -96 | K28: -31 | L28: -2 | M28: -51 | N28: -12 | P28: 0.32258065 | Q28: 0.63541667
C30: Profit for the period | D30: 485 | E30: 70 | F30: 132 | G30: 191 | H30: 92 | J30: 370 | K30: 115 | L30: 45 | M30: 162 | N30: 48 | P30: -0.39130435 | Q30: 0.31081081
C32: Profit for the period from discontinued operations | D32: -2 | E32: -1 | F32: -1 | G32: 0 | H32: 0 | J32: 430 | K32: 19 | L32: 49 | M32: 0 | N32: 362 | P32: n.m. | Q32: n.m.
C34: Profit for the period (incl. discontinued operations) | D34: 483 | E34: 69 | F34: 131 | G34: 191 | H34: 92 | J34: 800 | K34: 134 | L34: 94 | M34: 162 | N34: 410 | P34: -0.48507463 | Q34: -0.39625
C36: Profit attributable to non-controlling interest (incl. disc. ops.) | D36: 0 | E36: 0 | F36: 0 | G36: 0 | H36: 0 | J36: 7 | K36: 1 | L36: -1 | M36: 1 | N36: 6 | P36: -1 | Q36: -1
C37: Profit attributable to equity holders (incl. discontinued operations) | D37: 483 | E37: 69 | F37: 131 | G37: 191 | H37: 92 | J37: 793 | K37: 133 | L37: 95 | M37: 161 | N37: 404 | P37: -0.48120301 | Q37: -0.39092055
C39: Earnings per share2
C40: From continuing operations (non-diluted) | D40: 0.1 | E40: 0.01 | F40: 0.03 | G40: 0.04 | H40: 0.02 | J40: 0.07 | K40: 0.02 | L40: 0.001 | M40: 0.04 | N40: 0.01 | P40: -0.5 | Q40: 0.42857143
C41: From continuing operations (fully-diluted) | D41: 0.1 | E41: 0.01 | F41: 0.03 | G41: 0.04 | H41: 0.02 | J41: 0.07 | K41: 0.02 | L41: 0.001 | M41: 0.04 | N41: 0.01 | P41: -0.5 | Q41: 0.42857143
C43: Including discontinued operations (non-diluted) | D43: 0.1 | E43: 0.01 | F43: 0.03 | G43: 0.04 | H43: 0.02 | J43: 0.17 | K43: 0.02 | L43: 0.02 | M43: 0.04 | N43: 0.09 | P43: -0.5 | Q43: -0.41176471
C44: Including discontinued operations (fully-diluted) | D44: 0.1 | E44: 0.01 | F44: 0.03 | G44: 0.04 | H44: 0.02 | J44: 0.17 | K44: 0.02 | L44: 0.02 | M44: 0.04 | N44: 0.09 | P44: -0.5 | Q44: -0.41176471
C46: Dividend per share
C47: Dividend per share (in € cents) - Regular | D47: 11 | E47: 7.3 | F47: 0 | G47: 3.7 | H47: 0 | J47: 10 | K47: 6.7 | L47: 0 | M47: 3.3 | N47: 0 | P47: 0.089552239 | Q47: 0.1
C48: Dividend per share (in € cents) - Additional | D48: 1.7 | E48: 0 | F48: 0 | G48: 1.7 | H48: 0 | J48: 2.8 | K48: 0 | L48: 0 | M48: 2.8 | N48: 0 | P48: n.m. | Q48: -0.39285714
C49: Dividend per share (in € cents) - Total | D49: 12.7 | E49: 7.3 | F49: 0 | G49: 5.4 | H49: 0 | J49: 12.8 | K49: 6.7 | L49: 0 | M49: 6.1 | N49: 0 | P49: 0.089552239 | Q49: -0.0078125
B52: 1 Results from discontinued operations include results related to BASE Company and E-Plus
B53: 2 Defined as profit after taxes per ordinary share / ADS (in €)
C57: Consolidated figures | D57: 2017 | E57: Q4 '17 | F57: Q3 '17 | G57: Q2 '17 | H57: Q1 '17 | J57: 2016 | K57: Q4 '16 | L57: Q3 '16 | M57: Q2 '16 | N57: Q1 '16 | P57: y-on-y | Q57: y-on-y
C58: Cash flow from continuing operations & Leverage | P58: Q4% | Q58: FY%
C60: EBITDA | D60: 2306 | E60: 560 | F60: 603 | G60: 587 | H60: 556 | J60: 2429 | K60: 626 | L60: 665 | M60: 579 | N60: 559 | P60: -0.10543131 | Q60: -0.050638123
C61: Interest received (paid) | D61: -349 | E61: -71 | F61: -84 | G61: -39 | H61: -155 | J61: -460 | K61: -61 | L61: -136 | M61: -37 | N61: -226 | P61: 0.16393443 | Q61: -0.24130435
C62: Taxes received (paid) | D62: -13 | E62: 0 | F62: 0 | G62: -14 | H62: 1 | J62: 50 | K62: 6 | L62: 0 | M62: -6 | N62: 50 | P62: -1 | Q62: n.m.
C63: Change in provisions1 | D63: -4 | E63: 11 | F63: -9 | G63: -1 | H63: -5 | J63: -68 | K63: -19 | L63: -15 | M63: -7 | N63: -27 | P63: n.m. | Q63: -0.94117647
...

Sheet Revenues
C2: Consolidated figures | D2: 2017 | E2: Q4 '17 | F2: Q3 '17 | G2: Q2 '17 | H2: Q1 '17 | J2: 2016 | K2: Q4 '16 | L2: Q3 '16 | M2: Q2 '16 | N2: Q1 '16 | P2: y-on-y | Q2: y-on-y
C3: Revenues | P3: Q4% | Q3: FY%
C5: Consumer | D5: 3152 | E5: 791 | F5: 789 | G5: 784 | H5: 788 | J5: 3143 | K5: 802 | L5: 801 | M5: 768 | N5: 772 | P5: -0.013715711 | Q5: 0.0028635062
C6: Business | D6: 2198 | E6: 565 | F6: 541 | G6: 540 | H6: 552 | J6: 2309 | K6: 573 | L6: 569 | M6: 574 | N6: 593 | P6: -0.013961606 | Q6: -0.048072759
C7: Wholesale | D7: 676 | E7: 162 | F7: 158 | G7: 178 | H7: 178 | J7: 760 | K7: 204 | L7: 192 | M7: 184 | N7: 180 | P7: -0.20588235 | Q7: -0.11052632
C8: Network, Operations & IT | D8: 21 | E8: 5 | F8: 6 | G8: 6 | H8: 4 | J8: 17 | K8: 3 | L8: 5 | M8: 5 | N8: 4 | P8: 0.66666667 | Q8: 0.23529412
C9: Other (incl. eliminations) | D9: -171 | E9: -42 | F9: -42 | G9: -45 | H9: -42 | J9: -177 | K9: -44 | L9: -42 | M9: -45 | N9: -46 | P9: -0.045454545 | Q9: -0.033898305
C10: The Netherlands | D10: 5876 | E10: 1481 | F10: 1452 | G10: 1463 | H10: 1480 | J10: 6052 | K10: 1538 | L10: 1525 | M10: 1486 | N10: 1503 | P10: -0.037061118 | Q10: -0.029081295
C12: iBasis | D12: 705 | E12: 146 | F12: 174 | G12: 192 | H12: 193 | J12: 867 | K12: 210 | L12: 224 | M12: 218 | N12: 215 | P12: -0.3047619 | Q12: -0.18685121
C14: Other activities | D14: 1 | E14: 1 | F14: 0 | G14: -1 | H14: 1 | J14: 4 | K14: 3 | L14: 0 | M14: 0 | N14: 1 | P14: -0.66666667 | Q14: -0.75
C16: Intercompany revenues | D16: -84 | E16: -14 | F16: -21 | G16: -23 | H16: -26 | J16: -117 | K16: -28 | L16: -31 | M16: -28 | N16: -30 | P16: -0.5 | Q16: -0.28205128
C18: Total revenues | D18: 6498 | E18: 1614 | F18: 1605 | G18: 1631 | H18: 1648 | J18: 6806 | K18: 1723 | L18: 1718 | M18: 1676 | N18: 1689 | P18: -0.063261753 | Q18: -0.045254187
C24: Consolidated figures | D24: 2017 | E24: Q4 '17 | F24: Q3 '17 | G24: Q2 '17 | H24: Q1 '17 | J24: 2016 | K24: Q4 '16 | L24: Q3 '16 | M24: Q2 '16 | N24: Q1 '16 | O24: 0 | P24: y-on-y | Q24: y-on-y
C25: Adjusted revenues | P25: Q4% | Q25: FY%
C27: Consumer | D27: 3152 | E27: 791 | F27: 789 | G27: 784 | H27: 788 | J27: 3143 | K27: 802 | L27: 801 | M27: 768 | N27: 772 | P27: -0.013715711 | Q27: 0.0028635062
C28: Business | D28: 2198 | E28: 565 | F28: 541 | G28: 540 | H28: 552 | J28: 2309 | K28: 573 | L28: 569 | M28: 574 | N28: 593 | P28: -0.013961606 | Q28: -0.048072759
C29: Wholesale | D29: 678 | E29: 162 | F29: 168 | G29: 170 | H29: 178 | J29: 734 | K29: 185 | L29: 185 | M29: 184 | N29: 180 | P29: -0.12432432 | Q29: -0.076294278
C30: Network, Operations & IT | D30: 21 | E30: 5 | F30: 6 | G30: 6 | H30: 4 | J30: 17 | K30: 3 | L30: 5 | M30: 5 | N30: 4 | P30: 0.66666667 | Q30: 0.23529412
C31: Other (incl. eliminations) | D31: -171 | E31: -42 | F31: -42 | G31: -45 | H31: -42 | J31: -177 | K31: -44 | L31: -42 | M31: -45 | N31: -46 | P31: -0.045454545 | Q31: -0.033898305
C32: The Netherlands | D32: 5878 | E32: 1481 | F32: 1462 | G32: 1455 | H32: 1480 | J32: 6026 | K32: 1519 | L32: 1518 | M32: 1486 | N32: 1503 | P32: -0.025016458 | Q32: -0.024560239
C34: iBasis | D34: 705 | E34: 146 | F34: 174 | G34: 192 | H34: 193 | J34: 867 | K34: 210 | L34: 224 | M34: 218 | N34: 215 | P34: -0.3047619 | Q34: -0.18685121
C36: Other activities | D36: 1 | E36: 1 | F36: 0 | G36: -1 | H36: 1 | J36: 4 | K36: 3 | L36: 0 | M36: 0 | N36: 1 | P36: -0.66666667 | Q36: -0.75
C38: Intercompany revenues | D38: -84 | E38: -14 | F38: -21 | G38: -23 | H38: -26 | J38: -117 | K38: -28 | L38: -31 | M38: -28 | N38: -30 | P38: -0.5 | Q38: -0.28205128
C40: Total adjusted revenues | D40: 6500 | E40: 1614 | F40: 1615 | G40: 1623 | H40: 1648 | J40: 6780 | K40: 1704 | L40: 1711 | M40: 1676 | N40: 1689 | P40: -0.052816901 | Q40: -0.041297935

Sheet Opex (excl. D&A)
C2: Consolidated figures | D2: 2017 | E2: Q4 '17 | F2: Q3 '17 | G2: =Revenues!G2 -> Q2 '17 | H2: Q1 '17 | J2: 2016 | K2: Q4 '16 | L2: Q3 '16 | M2: Q2 '16 | N2: Q1 '16 | P2: y-on-y | Q2: y-on-y
C3: Operating expenses excl. D&A by function | P3: ='P&L & Cash flow'!P3 -> Q4% | Q3: FY%
C5: Costs of goods & services | D5: =SUM(E5:H5) -> 1368 | E5: 346 | F5: 336 | G5: 337 | H5: 349 | J5: 1421 | K5: 360 | L5: 348 | M5: 357 | N5: 356 | P5: =+IFERROR(IF(E5*K5<0,"n.m.",IF(E5/K5-1>100%,">100%",E5/K5-1)),"n.m.") -> -0.038888889 | Q5: =+IFERROR(IF(D5*J5<0,"n.m.",IF(D5/J5-1>100%,">100%",D5/J5-1)),"n.m.") -> -0.037297678
C6: Personnel expenses | D6: =SUM(E6:H6) -> 1119 | E6: 282 | F6: 264 | G6: 284 | H6: 289 | J6: 1149 | K6: 285 | L6: 259 | M6: 291 | N6: 314 | P6: =+IFERROR(IF(E6*K6<0,"n.m.",IF(E6/K6-1>100%,">100%",E6/K6-1)),"n.m.") -> -0.010526316 | Q6: =+IFERROR(IF(D6*J6<0,"n.m.",IF(D6/J6-1>100%,">100%",D6/J6-1)),"n.m.") -> -0.026109661
C7: IT/TI | D7: =SUM(E7:H7) -> 502 | E7: 126 | F7: 120 | G7: 122 | H7: 134 | J7: 547 | K7: 143 | L7: 127 | M7: 134 | N7: 143 | P7: =+IFERROR(IF(E7*K7<0,"n.m.",IF(E7/K7-1>100%,">100%",E7/K7-1)),"n.m.") -> -0.11888112 | Q7: =+IFERROR(IF(D7*J7<0,"n.m.",IF(D7/J7-1>100%,">100%",D7/J7-1)),"n.m.") -> -0.08226691
C8: Other operating expenses | D8: =SUM(E8:H8) -> 587 | E8: 166 | F8: 132 | G8: 136 | H8: 153 | J8: 533 | K8: 141 | L8: 130 | M8: 130 | N8: 132 | P8: =+IFERROR(IF(E8*K8<0,"n.m.",IF(E8/K8-1>100%,">100%",E8/K8-1)),"n.m.") -> 0.17730496 | Q8: =+IFERROR(IF(D8*J8<0,"n.m.",IF(D8/J8-1>100%,">100%",D8/J8-1)),"n.m.") -> 0.10131332
C9: The Netherlands | D9: =SUM(D5:D8) -> 3576 | E9: =SUM(E5:E8) -> 920 | F9: =SUM(F5:F8) -> 852 | G9: =SUM(G5:G8) -> 879 | H9: =H5+H6+H7+H8 -> 925 | J9: 3650 | K9: 929 | L9: 864 | M9: 912 | N9: 945 | P9: =+IFERROR(IF(E9*K9<0,"n.m.",IF(E9/K9-1>100%,">100%",E9/K9-1)),"n.m.") -> -0.0096878364 | Q9: =+IFERROR(IF(D9*J9<0,"n.m.",IF(D9/J9-1>100%,">100%",D9/J9-1)),"n.m.") -> -0.020273973
C11: iBasis | D11: =SUM(E11:H11) -> 681 | E11: 140 | F11: 165 | G11: 188 | H11: 188 | J11: 844 | K11: 205 | L11: 218 | M11: 212 | N11: 209 | P11: =+IFERROR(IF(E11*K11<0,"n.m.",IF(E11/K11-1>100%,">100%",E11/K11-1)),"n.m.") -> -0.31707317 | Q11: =+IFERROR(IF(D11*J11<0,"n.m.",IF(D11/J11-1>100%,">100%",D11/J11-1)),"n.m.") -> -0.19312796
C13: Other activities | D13: =SUM(E13:H13) -> 19 | E13: 8 | F13: 6 | G13: 0 | H13: 5 | J13: 0 | K13: -9 | L13: 2 | M13: 1 | N13: 6 | P13: =+IFERROR(IF(E13*K13<0,"n.m.",IF(E13/K13-1>100%,">100%",E13/K13-1)),"n.m.") -> n.m. | Q13: =+IFERROR(IF(D13*J13<0,"n.m.",IF(D13/J13-1>100%,">100%",D13/J13-1)),"n.m.") -> n.m.
C15: Intercompany expenses | D15: =SUM(E15:H15) -> -84 | E15: -14 | F15: -21 | G15: -23 | H15: -26 | J15: -117 | K15: -28 | L15: -31 | M15: -28 | N15: -30 | P15: =+IFERROR(IF(E15*K15<0,"n.m.",IF(E15/K15-1>100%,">100%",E15/K15-1)),"n.m.") -> -0.5 | Q15: =+IFERROR(IF(D15*J15<0,"n.m.",IF(D15/J15-1>100%,">100%",D15/J15-1)),"n.m.") -> -0.28205128
C17: Total operating expenses | D17: =SUM(E17:H17) -> 4192 | E17: =SUM(E9:E15) -> 1054 | F17: =SUM(F9:F15) -> 1002 | G17: =SUM(G9:G16) -> 1044 | H17: =H9+H11+H13+H15 -> 1092 | J17: 4377 | K17: 1097 | L17: 1053 | M17: 1097 | N17: 1130 | P17: =+IFERROR(IF(E17*K17<0,"n.m.",IF(E17/K17-1>100%,">100%",E17/K17-1)),"n.m.") -> -0.039197812 | Q17: =+IFERROR(IF(D17*J17<0,"n.m.",IF(D17/J17-1>100%,">100%",D17/J17-1)),"n.m.") -> -0.042266393
C23: Consolidated figures | D23: =D2 -> 2017 | E23: =E2 -> Q4 '17 | F23: Q3 '17 | G23: =Revenues!G2 -> Q2 '17 | H23: Q1 '17 | J23: =J2 -> 2016 | K23: =K2 -> Q4 '16 | L23: =L2 -> Q3 '16 | M23: =M2 -> Q2 '16 | N23: =N2 -> Q1 '16 | O23: =O2 -> 0 | P23: =P2 -> y-on-y | Q23: =Q2 -> y-on-y
C24: Adj. operating expenses excl. D&A by function | P24: =P3 -> Q4% | Q24: =Q3 -> FY%
C26: Costs of goods & services | D26: =SUM(E26:H26) -> 1368 | E26: 346 | F26: 336 | G26: 337 | H26: 349 | J26: 1421 | K26: 360 | L26: 348 | M26: 357 | N26: 356 | P26: =+IFERROR(IF(E26*K26<0,"n.m.",IF(E26/K26-1>100%,">100%",E26/K26-1)),"n.m.") -> -0.038888889 | Q26: =+IFERROR(IF(D26*J26<0,"n.m.",IF(D26/J26-1>100%,">100%",D26/J26-1)),"n.m.") -> -0.037297678
C27: Personnel expenses | D27: =SUM(E27:H27) -> 1119 | E27: 282 | F27: 264 | G27: 284 | H27: 289 | J27: 1149 | K27: 285 | L27: 259 | M27: 291 | N27: 314 | P27: =+IFERROR(IF(E27*K27<0,"n.m.",IF(E27/K27-1>100%,">100%",E27/K27-1)),"n.m.") -> -0.010526316 | Q27: =+IFERROR(IF(D27*J27<0,"n.m.",IF(D27/J27-1>100%,">100%",D27/J27-1)),"n.m.") -> -0.026109661
C28: IT/TI | D28: =SUM(E28:H28) -> 502 | E28: 126 | F28: 120 | G28: 122 | H28: 134 | J28: 547 | K28: 143 | L28: 127 | M28: 134 | N28: 143 | P28: =+IFERROR(IF(E28*K28<0,"n.m.",IF(E28/K28-1>100%,">100%",E28/K28-1)),"n.m.") -> -0.11888112 | Q28: =+IFERROR(IF(D28*J28<0,"n.m.",IF(D28/J28-1>100%,">100%",D28/J28-1)),"n.m.") -> -0.08226691
C29: Other operating expenses | D29: =SUM(E29:H29) -> 488 | E29: 133 | F29: 111 | G29: 115 | H29: 129 | J29: 498 | K29: 129 | L29: 127 | M29: 117 | N29: 125 | P29: =+IFERROR(IF(E29*K29<0,"n.m.",IF(E29/K29-1>100%,">100%",E29/K29-1)),"n.m.") -> 0.031007752 | Q29: =+IFERROR(IF(D29*J29<0,"n.m.",IF(D29/J29-1>100%,">100%",D29/J29-1)),"n.m.") -> -0.020080321
C30: The Netherlands | D30: =SUM(D26:D29) -> 3477 | E30: =SUM(E26:E29) -> 887 | F30: =SUM(F26:F29) -> 831 | G30: =SUM(G26:G29) -> 858 | H30: 901 | J30: 3615 | K30: 917 | L30: 861 | M30: 899 | N30: 938 | P30: =+IFERROR(IF(E30*K30<0,"n.m.",IF(E30/K30-1>100%,">100%",E30/K30-1)),"n.m.") -> -0.032715376 | Q30: =+IFERROR(IF(D30*J30<0,"n.m.",IF(D30/J30-1>100%,">100%",D30/J30-1)),"n.m.") -> -0.038174274
C32: iBasis | D32: =SUM(E32:H32) -> 681 | E32: 140 | F32: 165 | G32: 188 | H32: 188 | J32: 844 | K32: 205 | L32: 218 | M32: 212 | N32: 209 | P32: =+IFERROR(IF(E32*K32<0,"n.m.",IF(E32/K32-1>100%,">100%",E32/K32-1)),"n.m.") -> -0.31707317 | Q32: =+IFERROR(IF(D32*J32<0,"n.m.",IF(D32/J32-1>100%,">100%",D32/J32-1)),"n.m.") -> -0.19312796
C34: Other activities | D34: =SUM(E34:H34) -> 9 | E34: 5 | F34: 4 | G34: -1 | H34: 1 | J34: 10 | K34: 4 | L34: 1 | M34: 1 | N34: 4 | P34: =+IFERROR(IF(E34*K34<0,"n.m.",IF(E34/K34-1>100%,">100%",E34/K34-1)),"n.m.") -> 0.25 | Q34: =+IFERROR(IF(D34*J34<0,"n.m.",IF(D34/J34-1>100%,">100%",D34/J34-1)),"n.m.") -> -0.1
C36: Intercompany expenses | D36: =SUM(E36:H36) -> -84 | E36: =E15 -> -14 | F36: -21 | G36: -23 | H36: -26 | J36: -117 | K36: -28 | L36: -31 | M36: -28 | N36: -30 | P36: =+IFERROR(IF(E36*K36<0,"n.m.",IF(E36/K36-1>100%,">100%",E36/K36-1)),"n.m.") -> -0.5 | Q36: =+IFERROR(IF(D36*J36<0,"n.m.",IF(D36/J36-1>100%,">100%",D36/J36-1)),"n.m.") -> -0.28205128
C38: Total operating expenses | D38: =D36+D30+D32+D34 -> 4083 | E38: =SUM(E30:E37) -> 1018 | F38: =SUM(F30:F37) -> 979 | G38: =SUM(G26:G29)+SUM(G31:G36) -> 1022 | H38: =H30+H32+H34+H36 -> 1064 | J38: =J36+J30+J32+J34 -> 4352 | K38: =K36+K30+K32+K34 -> 1098 | L38: =L36+L30+L32+L34 -> 1049 | M38: =M36+M30+M32+M34 -> 1084 | N38: =N36+N30+N32+N34 -> 1121 | P38: =+IFERROR(IF(E38*K38<0,"n.m.",IF(E38/K38-1>100%,">100%",E38/K38-1)),"n.m.") -> -0.072859745 | Q38: =+IFERROR(IF(D38*J38<0,"n.m.",IF(D38/J38-1>100%,">100%",D38/J38-1)),"n.m.") -> -0.061810662
C44: Consolidated figures | D44: =D2 -> 2017 | E44: =E2 -> Q4 '17 | F44: =F23 -> Q3 '17 | G44: =G23 -> Q2 '17 | H44: Q1 '17 | J44: 2016 | K44: Q4 '16 | L44: Q3 '16 | M44: Q2 '16 | N44: Q1 '16 | P44: y-on-y | Q44: y-on-y
C45: Adj. operating expenses excl. D&A by segment | P45: =P3 -> Q4% | Q45: =Q3 -> FY%
C47: Consumer | D47: =SUM(E47:H47) -> 1163 | E47: 298 | F47: 276 | G47: 292 | H47: 297 | J47: 1242 | K47: 306 | L47: 303 | M47: 316 | N47: 317 | P47: =+IFERROR(IF(E47*K47<0,"n.m.",IF(E47/K47-1>100%,">100%",E47/K47-1)),"n.m.") -> -0.026143791 | Q47: =+IFERROR(IF(D47*J47<0,"n.m.",IF(D47/J47-1>100%,">100%",D47/J47-1)),"n.m.") -> -0.063607085
C48: Business | D48: =SUM(E48:H48) -> 978 | E48: 262 | F48: 236 | G48: 234 | H48: 246 | J48: 929 | K48: 239 | L48: 221 | M48: 231 | N48: 238 | P48: =+IFERROR(IF(E48*K48<0,"n.m.",IF(E48/K48-1>100%,">100%",E48/K48-1)),"n.m.") -> 0.09623431 | Q48: =+IFERROR(IF(D48*J48<0,"n.m.",IF(D48/J48-1>100%,">100%",D48/J48-1)),"n.m.") -> 0.052744887
C49: Wholesale | D49: =SUM(E49:H49) -> 206 | E49: 43 | F49: 50 | G49: 54 | H49: 59 | J49: 252 | K49: 63 | L49: 66 | M49: 62 | N49: 61 | P49: =+IFERROR(IF(E49*K49<0,"n.m.",IF(E49/K49-1>100%,">100%",E49/K49-1)),"n.m.") -> -0.31746032 | Q49: =+IFERROR(IF(D49*J49<0,"n.m.",IF(D49/J49-1>100%,">100%",D49/J49-1)),"n.m.") -> -0.18253968
C50: Network, Operations & IT | D50: =SUM(E50:H50) -> 1033 | E50: 254 | F50: 248 | G50: 258 | H50: 273 | J50: 1106 | K50: 282 | L50: 253 | M50: 271 | N50: 300 | P50: =+IFERROR(IF(E50*K50<0,"n.m.",IF(E50/K50-1>100%,">100%",E50/K50-1)),"n.m.") -> -0.09929078 | Q50: =+IFERROR(IF(D50*J50<0,"n.m.",IF(D50/J50-1>100%,">100%",D50/J50-1)),"n.m.") -> -0.066003617
C51: Other (incl. eliminations) | D51: =SUM(E51:H51) -> 97 | E51: 30 | F51: 21 | G51: 20 | H51: 26 | J51: 86 | K51: 27 | L51: 18 | M51: 19 | N51: 22 | P51: =+IFERROR(IF(E51*K51<0,"n.m.",IF(E51/K51-1>100%,">100%",E51/K51-1)),"n.m.") -> 0.11111111 | Q51: =+IFERROR(IF(D51*J51<0,"n.m.",IF(D51/J51-1>100%,">100%",D51/J51-1)),"n.m.") -> 0.12790698
C52: The Netherlands | D52: =SUM(D47:D51) -> 3477 | E52: =SUM(E47:E51) -> 887 | F52: =SUM(F47:F51) -> 831 | G52: =SUM(G47:G51) -> 858 | H52: =SUM(H47:H51) -> 901 | J52: 3615 | K52: 917 | L52: 861 | M52: 899 | N52: 938 | P52: =+IFERROR(IF(E52*K52<0,"n.m.",IF(E52/K52-1>100%,">100%",E52/K52-1)),"n.m.") -> -0.032715376 | Q52: =+IFERROR(IF(D52*J52<0,"n.m.",IF(D52/J52-1>100%,">100%",D52/J52-1)),"n.m.") -> -0.038174274
C54: iBasis | D54: =SUM(E54:H54) -> 681 | E54: 140 | F54: 165 | G54: 188 | H54: 188 | J54: 844 | K54: 205 | L54: 218 | M54: 212 | N54: 209 | P54: =+IFERROR(IF(E54*K54<0,"n.m.",IF(E54/K54-1>100%,">100%",E54/K54-1)),"n.m.") -> -0.31707317 | Q54: =+IFERROR(IF(D54*J54<0,"n.m.",IF(D54/J54-1>100%,">100%",D54/J54-1)),"n.m.") -> -0.19312796
C56: Other activities | D56: =SUM(E56:H56) -> 9 | E56: =E34 -> 5 | F56: 4 | G56: -1 | H56: 1 | J56: 10 | K56: 4 | L56: 1 | M56: 1 | N56: 4 | P56: =+IFERROR(IF(E56*K56<0,"n.m.",IF(E56/K56-1>100%,">100%",E56/K56-1)),"n.m.") -> 0.25 | Q56: =+IFERROR(IF(D56*J56<0,"n.m.",IF(D56/J56-1>100%,">100%",D56/J56-1)),"n.m.") -> -0.1
C58: Intercompany expenses | D58: =SUM(E58:H58) -> -84 | E58: =E15 -> -14 | F58: -21 | G58: -23 | H58: -26 | J58: -117 | K58: -28 | L58: -31 | M58: -28 | N58: -30 | P58: =+IFERROR(IF(E58*K58<0,"n.m.",IF(E58/K58-1>100%,">100%",E58/K58-1)),"n.m.") -> -0.5 | Q58: =+IFERROR(IF(D58*J58<0,"n.m.",IF(D58/J58-1>100%,">100%",D58/J58-1)),"n.m.") -> -0.28205128
C60: Total operating expenses | D60: =D52+D54+D56+D58 -> 4083 | E60: =SUM(E52:E59) -> 1018 | F60: =SUM(F52:F59) -> 979 | G60: =SUM(G47:G51)+SUM(G53:G58) -> 1022 | H60: =H52+H54+H56+H58 -> 1064 | J60: =J52+J54+J56+J58 -> 4352 | K60: =K52+K54+K56+K58 -> 1098 | L60: =L52+L54+L56+L58 -> 1049 | M60: =M52+M54+M56+M58 -> 1084 | N60: =N52+N54+N56+N58 -> 1121 | P60: =+IFERROR(IF(E60*K60<0,"n.m.",IF(E60/K60-1>100%,">100%",E60/K60-1)),"n.m.") -> -0.072859745 | Q60: =+IFERROR(IF(D60*J60<0,"n.m.",IF(D60/J60-1>100%,">100%",D60/J60-1)),"n.m.") -> -0.061810662

Sheet EBITDA & contribution margin
C2: Consolidated figures | D2: ='P&L & Cash flow'!D2 -> 2017 | E2: ='P&L & Cash flow'!E2 -> Q4 '17 | F2: Q3 '17 | G2: ='P&L & Cash flow'!G2 -> Q2 '17 | H2: Q1 '17 | J2: 2016 | K2: Q4 '16 | L2: =+Revenues!L2 -> Q3 '16 | M2: =+Revenues!M2 -> Q2 '16 | N2: =+Revenues!N2 -> Q1 '16 | P2: y-on-y | Q2: y-on-y
C3: EBITDA | P3: Q4% | Q3: FY%
C5: The Netherlands | D5: =SUM(E5:H5) -> 2300 | E5: ='Growth analysis Q4'!D40 -> 561 | F5: ='Growth analysis Q3'!D40 -> 600 | G5: ='Growth analysis Q2 '!D40 -> 584 | H5: ='Growth analysis Q1'!D40 -> 555 | J5: 2402 | K5: 609 | L5: 661 | M5: 574 | N5: 558 | P5: =+IFERROR(IF(E5*K5<0,"n.m.",IF(E5/K5-1>100%,">100%",E5/K5-1)),"n.m.") -> -0.078817734 | Q5: =+IFERROR(IF(D5*J5<0,"n.m.",IF(D5/J5-1>100%,">100%",D5/J5-1)),"n.m.") -> -0.042464613
C7: iBasis | D7: =SUM(E7:H7) -> 24 | E7: ='Growth analysis Q4'!D42 -> 6 | F7: ='Growth analysis Q3'!D42 -> 9 | G7: ='Growth analysis Q2 '!D42 -> 4 | H7: ='Growth analysis Q1'!D42 -> 5 | J7: 23 | K7: 5 | L7: 6 | M7: 6 | N7: 6 | P7: =+IFERROR(IF(E7*K7<0,"n.m.",IF(E7/K7-1>100%,">100%",E7/K7-1)),"n.m.") -> 0.2 | Q7: =+IFERROR(IF(D7*J7<0,"n.m.",IF(D7/J7-1>100%,">100%",D7/J7-1)),"n.m.") -> 0.043478261
C9: Other activities | D9: =SUM(E9:H9) -> -18 | E9: ='Growth analysis Q4'!D44 -> -7 | F9: ='Growth analysis Q3'!D44 -> -6 | G9: ='Growth analysis Q2 '!D44 -> -1 | H9: ='Growth analysis Q1'!D44 -> -4 | J9: 4 | K9: 12 | L9: -2 | M9: -1 | N9: -5 | P9: =+IFERROR(IF(E9*K9<0,"n.m.",IF(E9/K9-1>100%,">100%",E9/K9-1)),"n.m.") -> n.m. | Q9: =+IFERROR(IF(D9*J9<0,"n.m.",IF(D9/J9-1>100%,">100%",D9/J9-1)),"n.m.") -> n.m.
C11: Total EBITDA (reported) | D11: =SUM(E11:H11) -> 2306 | E11: ='Growth analysis Q4'!D46 -> 560 | F11: ='Growth analysis Q3'!D46 -> 603 | G11: ='Growth analysis Q2 '!D46 -> 587 | H11: ='Growth analysis Q1'!D46 -> 556 | J11: 2429 | K11: 626 | L11: 665 | M11: 579 | N11: 559 | P11: =+IFERROR(IF(E11*K11<0,"n.m.",IF(E11/K11-1>100%,">100%",E11/K11-1)),"n.m.") -> -0.10543131 | Q11: =+IFERROR(IF(D11*J11<0,"n.m.",IF(D11/J11-1>100%,">100%",D11/J11-1)),"n.m.") -> -0.050638123
C16: Consolidated figures | D16: =D2 -> 2017 | E16: =E2 -> Q4 '17 | F16: Q3 '17 | G16: =G2 -> Q2 '17 | H16: =H2 -> Q1 '17 | J16: 2016 | K16: Q4 '16 | L16: Q3 '16 | M16: Q2 '16 | N16: Q1 '16 | P16: =+P2 -> y-on-y | Q16: =+Q2 -> y-on-y
C17: Adjusted EBITDA | P17: =+P3 -> Q4% | Q17: =+Q3 -> FY%
C19: The Netherlands | D19: =SUM(E19:H19) -> 2401 | E19: ='Growth analysis Q4'!G40 -> 594 | F19: ='Growth analysis Q3'!G40 -> 631 | G19: ='Growth analysis Q2 '!G40 -> 597 | H19: ='Growth analysis Q1'!G40 -> 579 | J19: 2411 | K19: 602 | L19: 657 | M19: 587 | N19: 565 | P19: =+IFERROR(IF(E19*K19<0,"n.m.",IF(E19/K19-1>100%,">100%",E19/K19-1)),"n.m.") -> -0.013289037 | Q19: =+IFERROR(IF(D19*J19<0,"n.m.",IF(D19/J19-1>100%,">100%",D19/J19-1)),"n.m.") -> -0.0041476566
C21: iBasis | D21: =SUM(E21:H21) -> 24 | E21: ='Growth analysis Q4'!G42 -> 6 | F21: ='Growth analysis Q3'!G42 -> 9 | G21: ='Growth analysis Q2 '!G42 -> 4 | H21: ='Growth analysis Q1'!G42 -> 5 | J21: 23 | K21: 5 | L21: 6 | M21: 6 | N21: 6 | P21: =+IFERROR(IF(E21*K21<0,"n.m.",IF(E21/K21-1>100%,">100%",E21/K21-1)),"n.m.") -> 0.2 | Q21: =+IFERROR(IF(D21*J21<0,"n.m.",IF(D21/J21-1>100%,">100%",D21/J21-1)),"n.m.") -> 0.043478261
C23: Other activities | D23: =SUM(E23:H23) -> -8 | E23: ='Growth analysis Q4'!G44 -> -4 | F23: ='Growth analysis Q3'!G44 -> -4 | G23: ='Growth analysis Q2 '!G44 -> 0 | H23: ='Growth analysis Q1'!G44 -> 0 | J23: -6 | K23: -1 | L23: -1 | M23: -1 | N23: -3 | P23: =+IFERROR(IF(E23*K23<0,"n.m.",IF(E23/K23-1>100%,">100%",E23/K23-1)),"n.m.") -> >100% | Q23: =+IFERROR(IF(D23*J23<0,"n.m.",IF(D23/J23-1>100%,">100%",D23/J23-1)),"n.m.") -> 0.33333333
C25: Total adjusted EBITDA | D25: =SUM(E25:H25) -> 2417 | E25: ='Growth analysis Q4'!G46 -> 596 | F25: ='Growth analysis Q3'!G46 -> 636 | G25: ='Growth analysis Q2 '!G46 -> 601 | H25: ='Growth analysis Q1'!G46 -> 584 | J25: 2428 | K25: 606 | L25: 662 | M25: 592 | N25: 568 | P25: =+IFERROR(IF(E25*K25<0,"n.m.",IF(E25/K25-1>100%,">100%",E25/K25-1)),"n.m.") -> -0.01650165 | Q25: =+IFERROR(IF(D25*J25<0,"n.m.",IF(D25/J25-1>100%,">100%",D25/J25-1)),"n.m.") -> -0.0045304778
C30: Consolidated figures | D30: =D16 -> 2017 | E30: =E16 -> Q4 '17 | F30: Q3 '17 | G30: =G2 -> Q2 '17 | H30: Q1 '17 | J30: 2016 | K30: Q4 '16 | L30: Q3 '16 | M30: Q2 '16 | N30: Q1 '16
C31: Adjusted EBITDA margin
C33: The Netherlands | D33: ='Growth analysis FY'!G55 -> 0.40847227 | E33: ='Growth analysis Q4'!G55 -> 0.40108035 | F33: ='Growth analysis Q3'!G55 -> 0.43160055 | G33: ='Growth analysis Q2 '!G55 -> 0.41030928 | H33: 0.39121622 | J33: 0.4 | K33: 0.396 | L33: 0.433 | M33: 0.395 | N33: 0.376
C35: iBasis | D35: ='Growth analysis FY'!G57 -> 0.034042553 | E35: ='Growth analysis Q4'!G57 -> 0.04109589 | F35: ='Growth analysis Q3'!G57 -> 0.051724138 | G35: ='Growth analysis Q2 '!G57 -> 0.020833333 | H35: 0.025906736 | J35: 0.027 | K35: 0.024 | L35: 0.027 | M35: 0.028 | N35: 0.028
C37: Other activities | D37: ='Growth analysis FY'!G59 -> n.m. | E37: ='Growth analysis Q4'!G59 -> n.m. | F37: ='Growth analysis Q3'!G59 -> n.m. | G37: ='Growth analysis Q2 '!G59 -> n.m. | H37: n.m. | J37: n.m. | K37: n.m. | L37: n.m. | M37: n.m. | N37: n.m.
C39: Total adjusted EBITDA margin | D39: ='Growth analysis FY'!G61 -> 0.37184615 | E39: ='Growth analysis Q4'!G61 -> 0.3692689 | F39: ='Growth analysis Q3'!G61 -> 0.39380805 | G39: ='Growth analysis Q2 '!G61 -> 0.37030191 | H39: 0.35436893 | J39: 0.358 | K39: 0.356 | L39: 0.387 | M39: 0.353 | N39: 0.336
C44: Consolidated figures | D44: =D30 -> 2017 | E44: =E30 -> Q4 '17 | F44: Q3 '17 | G44: =G2 -> Q2 '17 | H44: Q1 '17 | J44: 2016 | K44: Q4 '16 | L44: Q3 '16 | M44: Q2 '16 | N44: Q1 '16 | P44: y-on-y | Q44: y-on-y
C45: Adjusted contribution margin by segment | P45: =P3 -> Q4% | Q45: =Q3 -> FY%
C47: Consumer | D47: =SUM(E47:H47) -> 1989 | E47: 493 | F47: 513 | G47: 492 | H47: 491 | J47: 1901 | K47: 496 | L47: 498 | M47: 452 | N47: 455 | P47: =+IFERROR(IF(E47*K47<0,"n.m.",IF(E47/K47-1>100%,">100%",E47/K47-1)),"n.m.") -> -0.0060483871 | Q47: =+IFERROR(IF(D47*J47<0,"n.m.",IF(D47/J47-1>100%,">100%",D47/J47-1)),"n.m.") -> 0.046291426
C48: Margin | D48: =D47/Revenues!D27 -> 0.63102792 | E48: =E47/Revenues!E27 -> 0.62326169 | F48: =F47/Revenues!F27 -> 0.65019011 | G48: =G47/Revenues!G27 -> 0.62755102 | H48: =H47/Revenues!H27 -> 0.62309645 | J48: 0.605 | K48: 0.618 | L48: 0.622 | M48: 0.589 | N48: 0.589
C49: Business | D49: =SUM(E49:H49) -> 1220 | E49: 303 | F49: 305 | G49: 306 | H49: 306 | J49: 1380 | K49: 334 | L49: 348 | M49: 343 | N49: 355 | P49: =+IFERROR(IF(E49*K49<0,"n.m.",IF(E49/K49-1>100%,">100%",E49/K49-1)),"n.m.") -> -0.092814371 | Q49: =+IFERROR(IF(D49*J49<0,"n.m.",IF(D49/J49-1>100%,">100%",D49/J49-1)),"n.m.") -> -0.11594203
C50: Margin | D50: =D49/Revenues!D28 -> 0.55505005 | E50: =E49/Revenues!E28 -> 0.53628319 | F50: =F49/Revenues!F28 -> 0.56377079 | G50: =G49/Revenues!G28 -> 0.56666667 | H50: 0.55434783 | J50: 0.598 | K50: 0.583 | L50: 0.612 | M50: 0.598 | N50: 0.599
C51: Wholesale | D51: =SUM(E51:H51) -> 472 | E51: 119 | F51: 118 | G51: 116 | H51: 119 | J51: 482 | K51: 122 | L51: 119 | M51: 122 | N51: 119 | P51: =+IFERROR(IF(E51*K51<0,"n.m.",IF(E51/K51-1>100%,">100%",E51/K51-1)),"n.m.") -> -0.024590164 | Q51: =+IFERROR(IF(D51*J51<0,"n.m.",IF(D51/J51-1>100%,">100%",D51/J51-1)),"n.m.") -> -0.020746888
C52: Margin | D52: =D51/Revenues!D29 -> 0.69616519 | E52: =E51/Revenues!E29 -> 0.7345679 | F52: =F51/Revenues!F29 -> 0.70238095 | G52: =G51/Revenues!G29 -> 0.68235294 | H52: =H51/Revenues!H29 -> 0.66853933 | J52: 0.657 | K52: 0.659 | L52: 0.643 | M52: 0.663 | N52: 0.661
C53: Network, Operations & IT | D53: =SUM(E53:H53) -> -1012 | E53: -249 | F53: -242 | G53: -252 | H53: -269 | J53: -1089 | K53: -279 | L53: -248 | M53: -266 | N53: -296 | P53: =+IFERROR(IF(E53*K53<0,"n.m.",IF(E53/K53-1>100%,">100%",E53/K53-1)),"n.m.") -> -0.10752688 | Q53: =+IFERROR(IF(D53*J53<0,"n.m.",IF(D53/J53-1>100%,">100%",D53/J53-1)),"n.m.") -> -0.070707071
C54: Other (incl. eliminations) | D54: =SUM(E54:H54) -> -268 | E54: -72 | F54: -63 | G54: -65 | H54: -68 | J54: -263 | K54: -71 | L54: -60 | M54: -64 | N54: -68 | P54: =+IFERROR(IF(E54*K54<0,"n.m.",IF(E54/K54-1>100%,">100%",E54/K54-1)),"n.m.") -> 0.014084507 | Q54: =+IFERROR(IF(D54*J54<0,"n.m.",IF(D54/J54-1>100%,">100%",D54/J54-1)),"n.m.") -> 0.019011407

Sheet CF, Capex, BS & Debt sum
C2: Consolidated figures | D2: ='P&L & Cash flow'!D2 -> 2017 | E2: ='P&L & Cash flow'!E2 -> Q4 '17 | F2: Q3 '17 | G2: ='P&L & Cash flow'!G2 -> Q2 '17 | H2: Q1 '17 | J2: =+'EBITDA & contribution margin'!J2 -> 2016 | K2: Q4 '16 | L2: =+'EBITDA & contribution margin'!L2 -> Q3 '16 | M2: =+'EBITDA & contribution margin'!M2 -> Q2 '16 | N2: =+'EBITDA & contribution margin'!N2 -> Q1 '16 | P2: y-on-y | Q2: =+'EBITDA & contribution margin'!Q2 -> y-on-y
C3: Cash flow from continuing operations1 | P3: ='P&L & Cash flow'!P3 -> Q4% | Q3: =+'EBITDA & contribution margin'!Q3 -> FY%
C5: Profit before income tax | D5: ='P&L & Cash flow'!D26 -> 642 | E5: ='P&L & Cash flow'!E26 -> 111 | F5: ='P&L & Cash flow'!F26 -> 170 | G5: ='P&L & Cash flow'!G26 -> 240 | H5: ='P&L & Cash flow'!H26 -> 121 | J5: ='P&L & Cash flow'!J26 -> 466 | K5: ='P&L & Cash flow'!K26 -> 146 | L5: ='P&L & Cash flow'!L26 -> 47 | M5: ='P&L & Cash flow'!M26 -> 213 | N5: ='P&L & Cash flow'!N26 -> 60 | P5: =+IFERROR(IF(E5*K5<0,"n.m.",IF(E5/K5-1>100%,">100%",E5/K5-1)),"n.m.") -> -0.23972603 | Q5: =+IFERROR(IF(D5*J5<0,"n.m.",IF(D5/J5-1>100%,">100%",D5/J5-1)),"n.m.") -> 0.3776824
C6: Net finance costs | D6: =SUM(E6:H6) -> 241 | E6: 86 | F6: 82 | G6: -7 | H6: 80 | J6: 417 | K6: 99 | L6: 246 | M6: -10 | N6: 82 | P6: =+IFERROR(IF(E6*K6<0,"n.m.",IF(E6/K6-1>100%,">100%",E6/K6-1)),"n.m.") -> -0.13131313 | Q6: =+IFERROR(IF(D6*J6<0,"n.m.",IF(D6/J6-1>100%,">100%",D6/J6-1)),"n.m.") -> -0.42206235
C7: Share of the profit of associates and joint ventures | D7: =SUM(E7:H7) -> -1 | E7: 0 | F7: 0 | G7: -1 | H7: 0 | J7: 1 | K7: 1 | L7: -1 | M7: 2 | N7: -1 | P7: =+IFERROR(IF(E7*K7<0,"n.m.",IF(E7/K7-1>100%,">100%",E7/K7-1)),"n.m.") -> -1 | Q7: =+IFERROR(IF(D7*J7<0,"n.m.",IF(D7/J7-1>100%,">100%",D7/J7-1)),"n.m.") -> n.m.
C9: Adjustments for:
C10: Depreciation, amortization and impairments | D10: =SUM(E10:H10) -> 1424 | E10: 364 | F10: 350 | G10: 355 | H10: 355 | J10: 1545 | K10: 380 | L10: 373 | M10: 374 | N10: 418 | P10: =+IFERROR(IF(E10*K10<0,"n.m.",IF(E10/K10-1>100%,">100%",E10/K10-1)),"n.m.") -> -0.042105263 | Q10: =+IFERROR(IF(D10*J10<0,"n.m.",IF(D10/J10-1>100%,">100%",D10/J10-1)),"n.m.") -> -0.078317152
C11: Share-based compensation | D11: =SUM(E11:I11) -> 6 | E11: 2 | F11: 4 | G11: -2 | H11: 2 | J11: 7 | K11: 3 | L11: 2 | M11: 2 | N11: 0 | P11: =+IFERROR(IF(E11*K11<0,"n.m.",IF(E11/K11-1>100%,">100%",E11/K11-1)),"n.m.") -> -0.33333333 | Q11: =+IFERROR(IF(D11*J11<0,"n.m.",IF(D11/J11-1>100%,">100%",D11/J11-1)),"n.m.") -> -0.14285714
C12: Other non-cash income and expense | D12: =SUM(E12:I12) -> 4 | E12: 1 | F12: 0 | G12: 3 | H12: 0 | J12: -23 | K12: -5 | L12: -10 | M12: -8 | N12: 0 | P12: =+IFERROR(IF(E12*K12<0,"n.m.",IF(E12/K12-1>100%,">100%",E12/K12-1)),"n.m.") -> n.m. | Q12: =+IFERROR(IF(D12*J12<0,"n.m.",IF(D12/J12-1>100%,">100%",D12/J12-1)),"n.m.") -> n.m.
C13: Change in provisions2 | D13: =SUM(E13:I13) -> -4 | E13: 11 | F13: -9 | G13: -1 | H13: -5 | J13: -68 | K13: -19 | L13: -15 | M13: -7 | N13: -27 | P13: =+IFERROR(IF(E13*K13<0,"n.m.",IF(E13/K13-1>100%,">100%",E13/K13-1)),"n.m.") -> n.m. | Q13: =+IFERROR(IF(D13*J13<0,"n.m.",IF(D13/J13-1>100%,">100%",D13/J13-1)),"n.m.") -> -0.94117647
C15: Inventories | D15: =SUM(E15:I15) -> -14 | E15: 0 | F15: -2 | G15: -1 | H15: -11 | J15: 19 | K15: 11 | L15: 0 | M15: 8 | N15: 0 | P15: =+IFERROR(IF(E15*K15<0,"n.m.",IF(E15/K15-1>100%,">100%",E15/K15-1)),"n.m.") -> -1 | Q15: =+IFERROR(IF(D15*J15<0,"n.m.",IF(D15/J15-1>100%,">100%",D15/J15-1)),"n.m.") -> n.m.
C16: Trade receivables | D16: =SUM(E16:I16) -> 3 | E16: -40 | F16: 21 | G16: -10 | H16: 32 | J16: 7 | K16: -15 | L16: 4 | M16: 7 | N16: 11 | P16: =+IFERROR(IF(E16*K16<0,"n.m.",IF(E16/K16-1>100%,">100%",E16/K16-1)),"n.m.") -> >100% | Q16: =+IFERROR(IF(D16*J16<0,"n.m.",IF(D16/J16-1>100%,">100%",D16/J16-1)),"n.m.") -> -0.57142857
C17: Prepayments and accrued income | D17: =SUM(E17:I17) -> -18 | E17: 19 | F17: -9 | G17: 29 | H17: -57 | J17: 15 | K17: 49 | L17: 0 | M17: 2 | N17: -36 | P17: =+IFERROR(IF(E17*K17<0,"n.m.",IF(E17/K17-1>100%,">100%",E17/K17-1)),"n.m.") -> -0.6122449 | Q17: =+IFERROR(IF(D17*J17<0,"n.m.",IF(D17/J17-1>100%,">100%",D17/J17-1)),"n.m.") -> n.m.
C18: Other current assets | D18: =SUM(E18:I18) -> 3 | E18: 5 | F18: 0 | G18: 1 | H18: -3 | J18: 1 | K18: 1 | L18: 0 | M18: 0 | N18: 0 | P18: =+IFERROR(IF(E18*K18<0,"n.m.",IF(E18/K18-1>100%,">100%",E18/K18-1)),"n.m.") -> >100% | Q18: =+IFERROR(IF(D18*J18<0,"n.m.",IF(D18/J18-1>100%,">100%",D18/J18-1)),"n.m.") -> >100%
C19: Trade payables | D19: =SUM(E19:I19) -> -17 | E19: 131 | F19: -35 | G19: 1 | H19: -114 | J19: -137 | K19: 45 | L19: -77 | M19: 42 | N19: -147 | P19: =+IFERROR(IF(E19*K19<0,"n.m.",IF(E19/K19-1>100%,">100%",E19/K19-1)),"n.m.") -> >100% | Q19: =+IFERROR(IF(D19*J19<0,"n.m.",IF(D19/J19-1>100%,">100%",D19/J19-1)),"n.m.") -> -0.87591241
C20: Accruals and deferred income | D20: =SUM(E20:I20) -> 3 | E20: -7 | F20: 27 | G20: -98 | H20: 81 | J20: -44 | K20: 16 | L20: -34 | M20: -131 | N20: 105 | P20: =+IFERROR(IF(E20*K20<0,"n.m.",IF(E20/K20-1>100%,">100%",E20/K20-1)),"n.m.") -> n.m. | Q20: =+IFERROR(IF(D20*J20<0,"n.m.",IF(D20/J20-1>100%,">100%",D20/J20-1)),"n.m.") -> n.m.
C21: Current liabilities (excl. short-term financing) | D21: =SUM(E21:I21) -> -29 | E21: 5 | F21: -15 | G21: 8 | H21: -27 | J21: 18 | K21: 20 | L21: 4 | M21: 5 | N21: -11 | P21: =+IFERROR(IF(E21*K21<0,"n.m.",IF(E21/K21-1>100%,">100%",E21/K21-1)),"n.m.") -> -0.75 | Q21: =+IFERROR(IF(D21*J21<0,"n.m.",IF(D21/J21-1>100%,">100%",D21/J21-1)),"n.m.") -> n.m.
C22: Change in working capital2 | D22: =SUM(E22:I22) -> -69 | E22: =SUM(E15:E21) -> 113 | F22: =SUM(F15:F21) -> -13 | G22: =SUM(G15:G21) -> -70 | H22: =H15+H16+H17+H18+H19+H20+H21 -> -99 | J22: -121 | K22: 127 | L22: -103 | M22: -67 | N22: -78 | P22: =+IFERROR(IF(E22*K22<0,"n.m.",IF(E22/K22-1>100%,">100%",E22/K22-1)),"n.m.") -> -0.11023622 | Q22: =+IFERROR(IF(D22*J22<0,"n.m.",IF(D22/J22-1>100%,">100%",D22/J22-1)),"n.m.") -> -0.42975207
C24: Received dividends | D24: =SUM(E24:H24) -> 71 | E24: 0 | F24: 0 | G24: 70 | H24: 1 | J24: 110 | K24: 0 | L24: 0 | M24: 110 | N24: 0 | P24: =+IFERROR(IF(E24*K24<0,"n.m.",IF(E24/K24-1>100%,">100%",E24/K24-1)),"n.m.") -> n.m. | Q24: =+IFERROR(IF(D24*J24<0,"n.m.",IF(D24/J24-1>100%,">100%",D24/J24-1)),"n.m.") -> -0.35454545
C25: Taxes received (paid) | D25: =SUM(E25:H25) -> -13 | E25: 0 | F25: 0 | G25: -14 | H25: 1 | J25: 50 | K25: 6 | L25: 0 | M25: -6 | N25: 50 | P25: =+IFERROR(IF(E25*K25<0,"n.m.",IF(E25/K25-1>100%,">100%",E25/K25-1)),"n.m.") -> -1 | Q25: =+IFERROR(IF(D25*J25<0,"n.m.",IF(D25/J25-1>100%,">100%",D25/J25-1)),"n.m.") -> n.m.
C26: Interest received (paid) | D26: =SUM(E26:H26) -> -349 | E26: -71 | F26: -84 | G26: -39 | H26: -155 | J26: -460 | K26: -61 | L26: -136 | M26: -37 | N26: -226 | P26: =+IFERROR(IF(E26*K26<0,"n.m.",IF(E26/K26-1>100%,">100%",E26/K26-1)),"n.m.") -> 0.16393443 | Q26: =+IFERROR(IF(D26*J26<0,"n.m.",IF(D26/J26-1>100%,">100%",D26/J26-1)),"n.m.") -> -0.24130435
C27: Net cash flow from continuing operating activities | D27: =+H27+G27+F27+E27 -> 1952 | E27: =SUM(E5:E13)+E22+SUM(E24:E26) -> 617 | F27: =SUM(F5:F13)+F22+SUM(F24:F26) -> 500 | G27: =SUM(G5:G13)+G22+SUM(G24:G26) -> 534 | H27: =H5+H6+H7+H10+H11+H12+H13+H22+H24+H25+H26 -> 301 | J27: =+N27+M27+L27+K27 -> 1924 | K27: =+K24+K25+K26+K22+K5+K6+K7+K10+K11+K12+K13 -> 677 | L27: =+L24+L25+L26+L22+L5+L6+L7+L10+L11+L12+L13 -> 403 | M27: =+M24+M25+M26+M22+M5+M6+M7+M10+M11+M12+M13 -> 566 | N27: =+N24+N25+N26+N22+N5+N6+N7+N10+N11+N12+N13 -> 278 | P27: =+IFERROR(IF(E27*K27<0,"n.m.",IF(E27/K27-1>100%,">100%",E27/K27-1)),"n.m.") -> -0.088626292 | Q27: =+IFERROR(IF(D27*J27<0,"n.m.",IF(D27/J27-1>100%,">100%",D27/J27-1)),"n.m.") -> 0.014553015
C28: Net cash flow from discontinued operating activities | D28: =SUM(E28:H28) -> -2 | E28: -1 | F28: -1 | G28: 0 | H28: 0 | J28: -7 | K28: -4 | L28: 0 | M28: -1 | N28: -2 | P28: =+IFERROR(IF(E28*K28<0,"n.m.",IF(E28/K28-1>100%,">100%",E28/K28-1)),"n.m.") -> -0.75 | Q28: =+IFERROR(IF(D28*J28<0,"n.m.",IF(D28/J28-1>100%,">100%",D28/J28-1)),"n.m.") -> -0.71428571
C30: Acquisitions and disposals | D30: 721 | E30: 15 | F30: -16 | G30: 531 | H30: 191 | J30: -3 | K30: 1 | L30: -1 | M30: 4 | N30: -7 | P30: =+IFERROR(IF(E30*K30<0,"n.m.",IF(E30/K30-1>100%,">100%",E30/K30-1)),"n.m.") -> >100% | Q30: =+IFERROR(IF(D30*J30<0,"n.m.",IF(D30/J30-1>100%,">100%",D30/J30-1)),"n.m.") -> n.m.
C31: Investments in intangible assets (excl. software) | D31: =SUM(E31:H31) -> -1 | E31: 0 | F31: 0 | G31: -1 | H31: 0 | J31: -26 | K31: 0 | L31: 1 | M31: -3 | N31: -24 | P31: =+IFERROR(IF(E31*K31<0,"n.m.",IF(E31/K31-1>100%,">100%",E31/K31-1)),"n.m.") -> n.m. | Q31: =+IFERROR(IF(D31*J31<0,"n.m.",IF(D31/J31-1>100%,">100%",D31/J31-1)),"n.m.") -> -0.96153846
C32: Disposal of intangibles | D32: =SUM(E32:H32) -> 0 | E32: 0 | F32: 0 | G32: 0 | H32: 0 | J32: 0 | K32: 0 | L32: 0 | M32: 0 | N32: 0 | P32: =+IFERROR(IF(E32*K32<0,"n.m.",IF(E32/K32-1>100%,">100%",E32/K32-1)),"n.m.") -> n.m. | Q32: =+IFERROR(IF(D32*J32<0,"n.m.",IF(D32/J32-1>100%,">100%",D32/J32-1)),"n.m.") -> n.m.
C33: Investments in property, plant & equipment and software | D33: =SUM(E33:H33) -> -1139 | E33: -394 | F33: -241 | G33: -238 | H33: -266 | J33: -1193 | K33: -298 | L33: -265 | M33: -312 | N33: -318 | P33: =+IFERROR(IF(E33*K33<0,"n.m.",IF(E33/K33-1>100%,">100%",E33/K33-1)),"n.m.") -> 0.32214765 | Q33: =+IFERROR(IF(D33*J33<0,"n.m.",IF(D33/J33-1>100%,">100%",D33/J33-1)),"n.m.") -> -0.04526404
C34: Disposal of property, plant & equipment and software | D34: =SUM(E34:H34) -> 2 | E34: 0 | F34: 2 | G34: 0 | H34: 0 | J34: 10 | K34: 2 | L34: 8 | M34: 0 | N34: 0 | P34: =+IFERROR(IF(E34*K34<0,"n.m.",IF(E34/K34-1>100%,">100%",E34/K34-1)),"n.m.") -> -1 | Q34: =+IFERROR(IF(D34*J34<0,"n.m.",IF(D34/J34-1>100%,">100%",D34/J34-1)),"n.m.") -> -0.8
C35: Changes in other financial non-current assets | D35: =SUM(E35:H35) -> -190 | E35: -65 | F35: -25 | G35: 0 | H35: -100 | J35: 436 | K35: -89 | L35: 50 | M35: 360 | N35: 115 | P35: =+IFERROR(IF(E35*K35<0,"n.m.",IF(E35/K35-1>100%,">100%",E35/K35-1)),"n.m.") -> -0.26966292 | Q35: =+IFERROR(IF(D35*J35<0,"n.m.",IF(D35/J35-1>100%,">100%",D35/J35-1)),"n.m.") -> n.m.
C36: Net cash flow from continuing investing activities | D36: =SUM(D30:D35) -> -607 | E36: =SUM(E30:E35) -> -444 | F36: =SUM(F30:F35) -> -280 | G36: =SUM(G30:G35) -> 292 | H36: =SUM(H30:H35) -> -175 | J36: =SUM(J30:J35) -> -776 | K36: =SUM(K30:K35) -> -384 | L36: =SUM(L30:L35) -> -207 | M36: =SUM(M30:M35) -> 49 | N36: =SUM(N30:N35) -> -234 | P36: =+IFERROR(IF(E36*K36<0,"n.m.",IF(E36/K36-1>100%,">100%",E36/K36-1)),"n.m.") -> 0.15625 | Q36: =+IFERROR(IF(D36*J36<0,"n.m.",IF(D36/J36-1>100%,">100%",D36/J36-1)),"n.m.") -> -0.21778351
C37: Net cash flow from discontinued investing activities | D37: =SUM(E37:H37) -> -3 | E37: 0 | F37: 0 | G37: 0 | H37: -3 | J37: 1183 | K37: -1 | L37: -4 | M37: 0 | N37: 1188 | P37: =+IFERROR(IF(E37*K37<0,"n.m.",IF(E37/K37-1>100%,">100%",E37/K37-1)),"n.m.") -> -1 | Q37: =+IFERROR(IF(D37*J37<0,"n.m.",IF(D37/J37-1>100%,">100%",D37/J37-1)),"n.m.") -> n.m.
C39: Share repurchases | D39: =SUM(E39:H39) -> -209 | E39: 0 | F39: -93 | G39: -116 | H39: 0 | J39: 0 | K39: 0 | L39: 0 | M39: 0 | N39: 0 | P39: =+IFERROR(IF(E39*K39<0,"n.m.",IF(E39/K39-1>100%,">100%",E39/K39-1)),"n.m.") -> n.m. | Q39: =+IFERROR(IF(D39*J39<0,"n.m.",IF(D39/J39-1>100%,">100%",D39/J39-1)),"n.m.") -> n.m.
C40: Share repurchases for option plans | D40: =SUM(E40:H40) -> 0 | E40: 0 | F40: 0 | G40: 0 | H40: 0 | J40: 0 | K40: 0 | L40: 0 | M40: 0 | N40: 0 | P40: =+IFERROR(IF(E40*K40<0,"n.m.",IF(E40/K40-1>100%,">100%",E40/K40-1)),"n.m.") -> n.m. | Q40: =+IFERROR(IF(D40*J40<0,"n.m.",IF(D40/J40-1>100%,">100%",D40/J40-1)),"n.m.") -> n.m.
C41: Dividends paid | D41: =SUM(E41:H41) -> -514 | E41: 0 | F41: -156 | G41: -358 | H41: 0 | J41: -487 | K41: 0 | L41: -141 | M41: -320 | N41: -26 | P41: =+IFERROR(IF(E41*K41<0,"n.m.",IF(E41/K41-1>100%,">100%",E41/K41-1)),"n.m.") -> n.m. | Q41: =+IFERROR(IF(D41*J41<0,"n.m.",IF(D41/J41-1>100%,">100%",D41/J41-1)),"n.m.") -> 0.055441478
C42: Paid coupon perpetual hybrid bonds | D42: =SUM(E42:H42) -> -67 | E42: 0 | F42: -67 | G42: 0 | H42: 0 | J42: -67 | K42: 0 | L42: -67 | M42: 0 | N42: 0 | P42: =+IFERROR(IF(E42*K42<0,"n.m.",IF(E42/K42-1>100%,">100%",E42/K42-1)),"n.m.") -> n.m. | Q42: =+IFERROR(IF(D42*J42<0,"n.m.",IF(D42/J42-1>100%,">100%",D42/J42-1)),"n.m.") -> 0
C43: Exercised options | D43: =SUM(E43:H43) -> 0 | E43: 0 | F43: 0 | G43: 0 | H43: 0 | J43: 0 | K43: 0 | L43: 0 | M43: 0 | N43: 0 | P43: =+IFERROR(IF(E43*K43<0,"n.m.",IF(E43/K43-1>100%,">100%",E43/K43-1)),"n.m.") -> n.m. | Q43: =+IFERROR(IF(D43*J43<0,"n.m.",IF(D43/J43-1>100%,">100%",D43/J43-1)),"n.m.") -> n.m.
C44: Proceeds from borrowings | D44: =SUM(E44:H44) -> 0 | E44: 0 | F44: 0 | G44: 0 | H44: 0 | J44: 1235 | K44: 0 | L44: 1235 | M44: 0 | N44: 0 | P44: =+IFERROR(IF(E44*K44<0,"n.m.",IF(E44/K44-1>100%,">100%",E44/K44-1)),"n.m.") -> n.m. | Q44: =+IFERROR(IF(D44*J44<0,"n.m.",IF(D44/J44-1>100%,">100%",D44/J44-1)),"n.m.") -> -1
C45: Repayments from borrowings and settlement of derivatives | D45: =SUM(E45:H45) -> -872 | E45: -78 | F45: -56 | G45: -28 | H45: -710 | J45: -2137 | K45: 31 | L45: -1299 | M45: -12 | N45: -857 | P45: =+IFERROR(IF(E45*K45<0,"n.m.",IF(E45/K45-1>100%,">100%",E45/K45-1)),"n.m.") -> n.m. | Q45: =+IFERROR(IF(D45*J45<0,"n.m.",IF(D45/J45-1>100%,">100%",D45/J45-1)),"n.m.") -> -0.59195133
C46: Changes in Share capital and Share premium reserve | D46: =SUM(E46:H46) -> 0 | E46: 0 | F46: 0 | G46: 0 | H46: 0 | J46: -1193 | K46: 0 | L46: 0 | M46: -1193 | N46: 0 | P46: =+IFERROR(IF(E46*K46<0,"n.m.",IF(E46/K46-1>100%,">100%",E46/K46-1)),"n.m.") -> n.m. | Q46: =+IFERROR(IF(D46*J46<0,"n.m.",IF(D46/J46-1>100%,">100%",D46/J46-1)),"n.m.") -> -1
C47: Other changes in interest-bearing current liabilities | D47: =SUM(E47:H47) -> -3 | E47: -1 | F47: -1 | G47: 0 | H47: -1 | J47: -72 | K47: 0 | L47: -16 | M47: -55 | N47: -1 | P47: =+IFERROR(IF(E47*K47<0,"n.m.",IF(E47/K47-1>100%,">100%",E47/K47-1)),"n.m.") -> n.m. | Q47: =+IFERROR(IF(D47*J47<0,"n.m.",IF(D47/J47-1>100%,">100%",D47/J47-1)),"n.m.") -> -0.95833333
...

Sheet FTE 
C2: Consolidated figures | D2: =+'CF, Capex, BS & Debt sum'!D2 -> 2017 | E2: Q4 '17 | F2: Q3 '17 | G2: Q2 '17 | H2: ='P&L & Cash flow'!H2 -> Q1 '17 | J2: =+'CF, Capex, BS & Debt sum'!J2 -> 2016 | K2: Q4 '16 | L2: =+'CF, Capex, BS & Debt sum'!L2 -> Q3 '16 | M2: =+'CF, Capex, BS & Debt sum'!M2 -> Q2 '16 | N2: =+'CF, Capex, BS & Debt sum'!N2 -> Q1 '16 | P2: =+'CF, Capex, BS & Debt sum'!Q2 -> y-on-y
C3: FTE own personnel | P3: FY%
C5: KPN Group | D5: =E5 -> 13275 | E5: =E6+E7 -> 13275 | F5: =F6+F7 -> 13213 | G5: =G6+G7 -> 13262 | H5: =H6+H7 -> 13444 | J5: 13530 | K5: 13530 | L5: 13705 | M5: 13800 | N5: 13961 | P5: =+IFERROR(IF(D5*J5<0,"n.m.",IF(D5/J5-1>100%,">100%",D5/J5-1)),"n.m.") -> -0.018847007
C6: - KPN The Netherlands | D6: =E6 -> 13021 | E6: 13021 | F6: 12958 | G6: 12996 | H6: 13166 | J6: 13249 | K6: 13249 | L6: 13421 | M6: 13499 | N6: 13682 | P6: =+IFERROR(IF(D6*J6<0,"n.m.",IF(D6/J6-1>100%,">100%",D6/J6-1)),"n.m.") -> -0.017208846
C7: - KPN abroad | D7: =E7 -> 254 | E7: 254 | F7: 255 | G7: 266 | H7: 278 | J7: 281 | K7: 281 | L7: 284 | M7: 301 | N7: 279 | P7: =+IFERROR(IF(D7*J7<0,"n.m.",IF(D7/J7-1>100%,">100%",D7/J7-1)),"n.m.") -> -0.096085409

Sheet Growth analysis Q4
C2: Consolidated figures | D2: Q4 2017 | E2: =+J2 -> Incidentals | G2: =+D2 -> Q4 2017 | I2: Q4 2016 | J2: Incidentals | L2: Q4 2016 | N2: Δ y-on-y | O2: Δ y-on-y
C3: Growth analysis - Revenues | D3: Reported | G3: Adjusted | I3: Reported | L3: Adjusted | N3: Reported | O3: Adjusted
C5: Consumer | D5: 791 | E5: 0 | G5: =D5-E5 -> 791 | I5: 802 | J5: 0 | L5: =I5-J5 -> 802 | N5: =+IFERROR(IF(D5*I5<0,"n.m.",IF(D5/I5-1>100%,">100%",D5/I5-1)),"n.m.") -> -0.013715711 | O5: =+IFERROR(IF(G5*L5<0,"n.m.",IF(G5/L5-1>100%,">100%",G5/L5-1)),"n.m.") -> -0.013715711
C6: Business | D6: 565 | E6: 0 | G6: =D6-E6 -> 565 | I6: 573 | J6: 0 | L6: =I6-J6 -> 573 | N6: =+IFERROR(IF(D6*I6<0,"n.m.",IF(D6/I6-1>100%,">100%",D6/I6-1)),"n.m.") -> -0.013961606 | O6: =+IFERROR(IF(G6*L6<0,"n.m.",IF(G6/L6-1>100%,">100%",G6/L6-1)),"n.m.") -> -0.013961606
C7: Wholesale | D7: 162 | E7: 0 | G7: =D7-E7 -> 162 | I7: 204 | J7: 19 | L7: =I7-J7 -> 185 | N7: =+IFERROR(IF(D7*I7<0,"n.m.",IF(D7/I7-1>100%,">100%",D7/I7-1)),"n.m.") -> -0.20588235 | O7: =+IFERROR(IF(G7*L7<0,"n.m.",IF(G7/L7-1>100%,">100%",G7/L7-1)),"n.m.") -> -0.12432432
C8: Network, Operations & IT | D8: 5 | E8: 0 | G8: =D8-E8 -> 5 | I8: 3 | J8: 0 | L8: =I8-J8 -> 3 | N8: =+IFERROR(IF(D8*I8<0,"n.m.",IF(D8/I8-1>100%,">100%",D8/I8-1)),"n.m.") -> 0.66666667 | O8: =+IFERROR(IF(G8*L8<0,"n.m.",IF(G8/L8-1>100%,">100%",G8/L8-1)),"n.m.") -> 0.66666667
C9: Other (incl. eliminations) | D9: -42 | E9: 0 | G9: =D9-E9 -> -42 | I9: -44 | J9: 0 | L9: =I9-J9 -> -44 | N9: =+IFERROR(IF(D9*I9<0,"n.m.",IF(D9/I9-1>100%,">100%",D9/I9-1)),"n.m.") -> -0.045454545 | O9: =+IFERROR(IF(G9*L9<0,"n.m.",IF(G9/L9-1>100%,">100%",G9/L9-1)),"n.m.") -> -0.045454545
C10: The Netherlands | D10: 1481 | E10: 0 | G10: =D10-E10 -> 1481 | I10: =SUM(I5:I9) -> 1538 | J10: =SUM(J5:J9) -> 19 | L10: =I10-J10 -> 1519 | N10: =+IFERROR(IF(D10*I10<0,"n.m.",IF(D10/I10-1>100%,">100%",D10/I10-1)),"n.m.") -> -0.037061118 | O10: =+IFERROR(IF(G10*L10<0,"n.m.",IF(G10/L10-1>100%,">100%",G10/L10-1)),"n.m.") -> -0.025016458
C12: iBasis | D12: 146 | E12: 0 | G12: =D12-E12 -> 146 | I12: 210 | J12: 0 | L12: =I12-J12 -> 210 | N12: =+IFERROR(IF(D12*I12<0,"n.m.",IF(D12/I12-1>100%,">100%",D12/I12-1)),"n.m.") -> -0.3047619 | O12: =+IFERROR(IF(G12*L12<0,"n.m.",IF(G12/L12-1>100%,">100%",G12/L12-1)),"n.m.") -> -0.3047619
C14: Other activities | D14: 1 | E14: 0 | G14: =D14-E14 -> 1 | I14: 3 | J14: 0 | L14: =I14-J14 -> 3 | N14: =+IFERROR(IF(D14*I14<0,"n.m.",IF(D14/I14-1>100%,">100%",D14/I14-1)),"n.m.") -> -0.66666667 | O14: =+IFERROR(IF(G14*L14<0,"n.m.",IF(G14/L14-1>100%,">100%",G14/L14-1)),"n.m.") -> -0.66666667
C16: Intercompany revenues | D16: -14 | E16: 0 | G16: =D16-E16 -> -14 | I16: -28 | J16: 0 | L16: =I16-J16 -> -28 | N16: =+IFERROR(IF(D16*I16<0,"n.m.",IF(D16/I16-1>100%,">100%",D16/I16-1)),"n.m.") -> -0.5 | O16: =+IFERROR(IF(G16*L16<0,"n.m.",IF(G16/L16-1>100%,">100%",G16/L16-1)),"n.m.") -> -0.5
C18: Total revenues | D18: =D10+D12+D14+D16 -> 1614 | E18: 0 | G18: =D18-E18 -> 1614 | H18: =H10+H12+H14 -> 0 | I18: =I10+I12+I14+I16 -> 1723 | J18: =J10+J12+J14+J16 -> 19 | L18: =I18-J18 -> 1704 | N18: =+IFERROR(IF(D18*I18<0,"n.m.",IF(D18/I18-1>100%,">100%",D18/I18-1)),"n.m.") -> -0.063261753 | O18: =+IFERROR(IF(G18*L18<0,"n.m.",IF(G18/L18-1>100%,">100%",G18/L18-1)),"n.m.") -> -0.052816901
C24: Consolidated figures | D24: =+D2 -> Q4 2017 | E24: =E2 -> Incidentals | F24: Restructuring | G24: =+G2 -> Q4 2017 | I24: Q4 2016 | J24: Incidentals | K24: Restructuring | L24: Q4 2016 | N24: Δ y-on-y | O24: Δ y-on-y
C25: Growth analysis - Opex The Netherlands | D25: Reported | G25: Adjusted | I25: Reported | L25: Adjusted | N25: Reported | O25: Adjusted
C27: Costs of goods & services | D27: 346 | E27: 0 | F27: 0 | G27: =D27+E27+F27 -> 346 | I27: 360 | J27: 0 | K27: 0 | L27: =I27+J27+K27 -> 360 | N27: =+IFERROR(IF(D27*I27<0,"n.m.",IF(D27/I27-1>100%,">100%",D27/I27-1)),"n.m.") -> -0.038888889 | O27: =+IFERROR(IF(G27*L27<0,"n.m.",IF(G27/L27-1>100%,">100%",G27/L27-1)),"n.m.") -> -0.038888889
C28: Personnel expenses | D28: 282 | E28: 0 | F28: 0 | G28: =D28+E28+F28 -> 282 | I28: 285 | J28: 0 | K28: 0 | L28: =I28+J28+K28 -> 285 | N28: =+IFERROR(IF(D28*I28<0,"n.m.",IF(D28/I28-1>100%,">100%",D28/I28-1)),"n.m.") -> -0.010526316 | O28: =+IFERROR(IF(G28*L28<0,"n.m.",IF(G28/L28-1>100%,">100%",G28/L28-1)),"n.m.") -> -0.010526316
C29: IT/TI | D29: 126 | E29: 0 | F29: 0 | G29: =D29+E29+F29 -> 126 | I29: 143 | J29: 0 | K29: 0 | L29: =I29+J29+K29 -> 143 | N29: =+IFERROR(IF(D29*I29<0,"n.m.",IF(D29/I29-1>100%,">100%",D29/I29-1)),"n.m.") -> -0.11888112 | O29: =+IFERROR(IF(G29*L29<0,"n.m.",IF(G29/L29-1>100%,">100%",G29/L29-1)),"n.m.") -> -0.11888112
C30: Other operating expenses | D30: 166 | E30: -12 | F30: -21 | G30: =D30+E30+F30 -> 133 | I30: 141 | J30: -6 | K30: -6 | L30: =I30+J30+K30 -> 129 | N30: =+IFERROR(IF(D30*I30<0,"n.m.",IF(D30/I30-1>100%,">100%",D30/I30-1)),"n.m.") -> 0.17730496 | O30: =+IFERROR(IF(G30*L30<0,"n.m.",IF(G30/L30-1>100%,">100%",G30/L30-1)),"n.m.") -> 0.031007752
C31: The Netherlands | D31: =SUM(D27:D30) -> 920 | E31: =SUM(E27:E30) -> -12 | F31: =SUM(F27:F30) -> -21 | G31: =D31+E31+F31 -> 887 | I31: 929 | J31: =SUM(J27:J30) -> -6 | K31: =SUM(K27:K30) -> -6 | L31: =I31+J31+K31 -> 917 | N31: =+IFERROR(IF(D31*I31<0,"n.m.",IF(D31/I31-1>100%,">100%",D31/I31-1)),"n.m.") -> -0.0096878364 | O31: =+IFERROR(IF(G31*L31<0,"n.m.",IF(G31/L31-1>100%,">100%",G31/L31-1)),"n.m.") -> -0.032715376
C37: Consolidated figures | D37: Q4 2017 | E37: Incidentals | F37: Restructuring | G37: Q4 2017 | I37: Q4 2016 | J37: Incidentals | K37: Restructuring | L37: Q4 2016 | N37: Δ y-on-y | O37: Δ y-on-y
C38: Growth analysis - EBITDA | D38: Reported | G38: Adjusted | I38: Reported | L38: Adjusted | N38: Reported | O38: Adjusted
C40: The Netherlands | D40: 561 | E40: -12 | F40: -21 | G40: =D40-E40-F40 -> 594 | I40: 609 | J40: 13 | K40: -6 | L40: =I40-J40-K40 -> 602 | N40: =+IFERROR(IF(D40*I40<0,"n.m.",IF(D40/I40-1>100%,">100%",D40/I40-1)),"n.m.") -> -0.078817734 | O40: =+IFERROR(IF(G40*L40<0,"n.m.",IF(G40/L40-1>100%,">100%",G40/L40-1)),"n.m.") -> -0.013289037
C42: iBasis | D42: 6 | E42: 0 | F42: 0 | G42: =D42-E42-F42 -> 6 | I42: 5 | J42: 0 | K42: 0 | L42: =I42-J42-K42 -> 5 | N42: =+IFERROR(IF(D42*I42<0,"n.m.",IF(D42/I42-1>100%,">100%",D42/I42-1)),"n.m.") -> 0.2 | O42: =+IFERROR(IF(G42*L42<0,"n.m.",IF(G42/L42-1>100%,">100%",G42/L42-1)),"n.m.") -> 0.2
C44: Other activities | D44: -7 | E44: 0 | F44: -3 | G44: =D44-E44-F44 -> -4 | I44: 12 | J44: 14 | K44: -1 | L44: =I44-J44-K44 -> -1 | N44: =+IFERROR(IF(D44*I44<0,"n.m.",IF(D44/I44-1>100%,">100%",D44/I44-1)),"n.m.") -> n.m. | O44: =+IFERROR(IF(G44*L44<0,"n.m.",IF(G44/L44-1>100%,">100%",G44/L44-1)),"n.m.") -> >100%
C46: Total | D46: =SUM(D40:D45) -> 560 | E46: =SUM(E40:E45) -> -12 | F46: =SUM(F40:F45) -> -24 | G46: =D46-E46-F46 -> 596 | H46: =H40+H42+H44 -> 0 | I46: =SUM(I40:I44) -> 626 | J46: =SUM(J40:J45) -> 27 | K46: =SUM(K40:K45) -> -7 | L46: =I46-J46-K46 -> 606 | N46: =+IFERROR(IF(D46*I46<0,"n.m.",IF(D46/I46-1>100%,">100%",D46/I46-1)),"n.m.") -> -0.10543131 | O46: =+IFERROR(IF(G46*L46<0,"n.m.",IF(G46/L46-1>100%,">100%",G46/L46-1)),"n.m.") -> -0.01650165
C52: Consolidated figures | D52: =+D24 -> Q4 2017 | G52: =+G24 -> Q4 2017 | I52: Q4 2016 | L52: Q4 2016
C53: Growth analysis - EBITDA margin | D53: Reported | G53: Adjusted | I53: Reported | L53: Adjusted
C55: The Netherlands | D55: =D40/D10 -> 0.37879811 | G55: =G40/G10 -> 0.40108035 | I55: 0.396 | L55: 0.396
C57: iBasis | D57: =D42/D12 -> 0.04109589 | G57: =G42/G12 -> 0.04109589 | I57: 0.024 | L57: 0.024
C59: Other activities | D59: n.m. | G59: n.m. | I59: n.m. | L59: n.m.
C61: Total | D61: =D46/D18 -> 0.34696406 | G61: =G46/G18 -> 0.3692689 | I61: 0.363 | L61: 0.356

Sheet Growth analysis FY
C2: Consolidated figures | D2: FY 2017 | E2: =+J2 -> Incidentals | G2: =+D2 -> FY 2017 | I2: FY 2016 | J2: Incidentals | L2: FY 2016 | N2: Δ y-on-y | O2: Δ y-on-y
C3: Growth analysis - Revenues | D3: Reported | G3: Adjusted | I3: Reported | L3: Adjusted | N3: Reported | O3: Adjusted
C5: Consumer | D5: ='Growth analysis Q2 '!D5+'Growth analysis Q1'!D5+'Growth analysis Q3'!D5+'Growth analysis Q4'!D5 -> 3152 | E5: ='Growth analysis Q2 '!E5+'Growth analysis Q1'!E5+'Growth analysis Q3'!E5+'Growth analysis Q4'!E5 -> 0 | G5: =D5-E5 -> 3152 | I5: ='Growth analysis Q2 '!I5+'Growth analysis Q1'!I5+'Growth analysis Q3'!I5+'Growth analysis Q4'!I5 -> 3143 | J5: ='Growth analysis Q2 '!J5+'Growth analysis Q1'!J5+'Growth analysis Q3'!J5+'Growth analysis Q4'!J5 -> 0 | L5: =I5-J5 -> 3143 | N5: =+IFERROR(IF(D5*I5<0,"n.m.",IF(D5/I5-1>100%,">100%",D5/I5-1)),"n.m.") -> 0.0028635062 | O5: =+IFERROR(IF(G5*L5<0,"n.m.",IF(G5/L5-1>100%,">100%",G5/L5-1)),"n.m.") -> 0.0028635062
C6: Business | D6: ='Growth analysis Q2 '!D6+'Growth analysis Q1'!D6+'Growth analysis Q3'!D6+'Growth analysis Q4'!D6 -> 2198 | E6: ='Growth analysis Q2 '!E6+'Growth analysis Q1'!E6+'Growth analysis Q3'!E6+'Growth analysis Q4'!E6 -> 0 | G6: =D6-E6 -> 2198 | I6: ='Growth analysis Q2 '!I6+'Growth analysis Q1'!I6+'Growth analysis Q3'!I6+'Growth analysis Q4'!I6 -> 2309 | J6: ='Growth analysis Q2 '!J6+'Growth analysis Q1'!J6+'Growth analysis Q3'!J6+'Growth analysis Q4'!J6 -> 0 | L6: =I6-J6 -> 2309 | N6: =+IFERROR(IF(D6*I6<0,"n.m.",IF(D6/I6-1>100%,">100%",D6/I6-1)),"n.m.") -> -0.048072759 | O6: =+IFERROR(IF(G6*L6<0,"n.m.",IF(G6/L6-1>100%,">100%",G6/L6-1)),"n.m.") -> -0.048072759
C7: Wholesale | D7: ='Growth analysis Q2 '!D7+'Growth analysis Q1'!D7+'Growth analysis Q3'!D7+'Growth analysis Q4'!D7 -> 676 | E7: ='Growth analysis Q2 '!E7+'Growth analysis Q1'!E7+'Growth analysis Q3'!E7+'Growth analysis Q4'!E7 -> -2 | G7: =D7-E7 -> 678 | I7: ='Growth analysis Q2 '!I7+'Growth analysis Q1'!I7+'Growth analysis Q3'!I7+'Growth analysis Q4'!I7 -> 760 | J7: ='Growth analysis Q2 '!J7+'Growth analysis Q1'!J7+'Growth analysis Q3'!J7+'Growth analysis Q4'!J7 -> 26 | L7: =I7-J7 -> 734 | N7: =+IFERROR(IF(D7*I7<0,"n.m.",IF(D7/I7-1>100%,">100%",D7/I7-1)),"n.m.") -> -0.11052632 | O7: =+IFERROR(IF(G7*L7<0,"n.m.",IF(G7/L7-1>100%,">100%",G7/L7-1)),"n.m.") -> -0.076294278
C8: Network, Operations & IT | D8: ='Growth analysis Q2 '!D8+'Growth analysis Q1'!D8+'Growth analysis Q3'!D8+'Growth analysis Q4'!D8 -> 21 | E8: ='Growth analysis Q2 '!E8+'Growth analysis Q1'!E8+'Growth analysis Q3'!E8+'Growth analysis Q4'!E8 -> 0 | G8: =D8-E8 -> 21 | I8: ='Growth analysis Q2 '!I8+'Growth analysis Q1'!I8+'Growth analysis Q3'!I8+'Growth analysis Q4'!I8 -> 17 | J8: ='Growth analysis Q2 '!J8+'Growth analysis Q1'!J8+'Growth analysis Q3'!J8+'Growth analysis Q4'!J8 -> 0 | L8: =I8-J8 -> 17 | N8: =+IFERROR(IF(D8*I8<0,"n.m.",IF(D8/I8-1>100%,">100%",D8/I8-1)),"n.m.") -> 0.23529412 | O8: =+IFERROR(IF(G8*L8<0,"n.m.",IF(G8/L8-1>100%,">100%",G8/L8-1)),"n.m.") -> 0.23529412
C9: Other (incl. eliminations) | D9: ='Growth analysis Q2 '!D9+'Growth analysis Q1'!D9+'Growth analysis Q3'!D9+'Growth analysis Q4'!D9 -> -171 | E9: ='Growth analysis Q2 '!E9+'Growth analysis Q1'!E9+'Growth analysis Q3'!E9+'Growth analysis Q4'!E9 -> 0 | G9: =D9-E9 -> -171 | I9: ='Growth analysis Q2 '!I9+'Growth analysis Q1'!I9+'Growth analysis Q3'!I9+'Growth analysis Q4'!I9 -> -177 | J9: ='Growth analysis Q2 '!J9+'Growth analysis Q1'!J9+'Growth analysis Q3'!J9+'Growth analysis Q4'!J9 -> 0 | L9: =I9-J9 -> -177 | N9: =+IFERROR(IF(D9*I9<0,"n.m.",IF(D9/I9-1>100%,">100%",D9/I9-1)),"n.m.") -> -0.033898305 | O9: =+IFERROR(IF(G9*L9<0,"n.m.",IF(G9/L9-1>100%,">100%",G9/L9-1)),"n.m.") -> -0.033898305
C10: The Netherlands | D10: ='Growth analysis Q2 '!D10+'Growth analysis Q1'!D10+'Growth analysis Q3'!D10+'Growth analysis Q4'!D10 -> 5876 | E10: ='Growth analysis Q2 '!E10+'Growth analysis Q1'!E10+'Growth analysis Q3'!E10+'Growth analysis Q4'!E10 -> -2 | G10: =D10-E10 -> 5878 | I10: ='Growth analysis Q2 '!I10+'Growth analysis Q1'!I10+'Growth analysis Q3'!I10+'Growth analysis Q4'!I10 -> 6052 | J10: ='Growth analysis Q2 '!J10+'Growth analysis Q1'!J10+'Growth analysis Q3'!J10+'Growth analysis Q4'!J10 -> 26 | L10: =I10-J10 -> 6026 | N10: =+IFERROR(IF(D10*I10<0,"n.m.",IF(D10/I10-1>100%,">100%",D10/I10-1)),"n.m.") -> -0.029081295 | O10: =+IFERROR(IF(G10*L10<0,"n.m.",IF(G10/L10-1>100%,">100%",G10/L10-1)),"n.m.") -> -0.024560239
I11: ='Growth analysis Q2 '!I11+'Growth analysis Q1'!I11+'Growth analysis Q3'!I11+'Growth analysis Q4'!I11 -> 0 | J11: ='Growth analysis Q2 '!J11+'Growth analysis Q1'!J11+'Growth analysis Q3'!J11+'Growth analysis Q4'!J11 -> 0
C12: iBasis | D12: ='Growth analysis Q2 '!D12+'Growth analysis Q1'!D12+'Growth analysis Q3'!D12+'Growth analysis Q4'!D12 -> 705 | E12: ='Growth analysis Q2 '!E12+'Growth analysis Q1'!E12+'Growth analysis Q3'!E12+'Growth analysis Q4'!E12 -> 0 | G12: =D12-E12 -> 705 | I12: ='Growth analysis Q2 '!I12+'Growth analysis Q1'!I12+'Growth analysis Q3'!I12+'Growth analysis Q4'!I12 -> 867 | J12: ='Growth analysis Q2 '!J12+'Growth analysis Q1'!J12+'Growth analysis Q3'!J12+'Growth analysis Q4'!J12 -> 0 | L12: =I12-J12 -> 867 | N12: =+IFERROR(IF(D12*I12<0,"n.m.",IF(D12/I12-1>100%,">100%",D12/I12-1)),"n.m.") -> -0.18685121 | O12: =+IFERROR(IF(G12*L12<0,"n.m.",IF(G12/L12-1>100%,">100%",G12/L12-1)),"n.m.") -> -0.18685121
I13: ='Growth analysis Q2 '!I13+'Growth analysis Q1'!I13+'Growth analysis Q3'!I13+'Growth analysis Q4'!I13 -> 0 | J13: ='Growth analysis Q2 '!J13+'Growth analysis Q1'!J13+'Growth analysis Q3'!J13+'Growth analysis Q4'!J13 -> 0
C14: Other activities | D14: ='Growth analysis Q2 '!D14+'Growth analysis Q1'!D14+'Growth analysis Q3'!D14+'Growth analysis Q4'!D14 -> 1 | E14: ='Growth analysis Q2 '!E14+'Growth analysis Q1'!E14+'Growth analysis Q3'!E14+'Growth analysis Q4'!E14 -> 0 | G14: =D14-E14 -> 1 | I14: ='Growth analysis Q2 '!I14+'Growth analysis Q1'!I14+'Growth analysis Q3'!I14+'Growth analysis Q4'!I14 -> 4 | J14: ='Growth analysis Q2 '!J14+'Growth analysis Q1'!J14+'Growth analysis Q3'!J14+'Growth analysis Q4'!J14 -> 0 | L14: =I14-J14 -> 4 | N14: =+IFERROR(IF(D14*I14<0,"n.m.",IF(D14/I14-1>100%,">100%",D14/I14-1)),"n.m.") -> -0.75 | O14: =+IFERROR(IF(G14*L14<0,"n.m.",IF(G14/L14-1>100%,">100%",G14/L14-1)),"n.m.") -> -0.75
