Workbook

Sheet Index
C9: Facts and figures Q3 2016
C10: Results and KPIs for the period ending 30 September 2016
C11: (in millions of euro unless indicated otherwise)
C13: Index of sheets
C14: - | E14: P&L & Cash flow
C15: - | E15: Revenues
C16: - | E16: Opex (excl. D&A)
C17: - | E17: EBITDA
C18: - | E18: Cash flow statement, Capex, Balance sheet & Debt summary
C19: - | E19: FTE
C20: - | E20: Growth analysis (Q3, YTD, Q1, Q2, Q4)
C21: - | E21: Consumer Revenues
C22: - | E22: Consumer KPIs
C23: - | E23: Business Revenues
C24: - | E24: Business KPIs
C25: - | E25: Wholesale Revenues
... C27: - | E27: Bond overview
C29: For further information please contact
C30: KPN Investor Relations
C31: Phone | F31: +31 70 44 60986
C32: ir@kpn.com
C33: ir.kpn.com
D65: -318

Sheet P&L & Cash flow
C2: Consolidated figures | D2: Q3 '16 | E2: Q2 '16 | F2: Q1 '16 | H2: 2015 | I2: Q4 '15 | J2: Q3 '15 | K2: Q2 '15 | L2: Q1 '15 | N2: y-on-y | P2: YTD '16 | Q2: YTD '15 | S2: y-on-y
C3: Income statement from continuing operations1 | N3: Q3% | S3: YTD%
C5: Revenues | D5: ='Growth analysis Q3'!D18 -> 1718 | E5: ='Growth analysis Q2'!D18 -> 1676 | F5: 1689 | H5: =L5+K5+J5+I5 -> 7008 | I5: 1745 | J5: 1764 | K5: 1741 | L5: 1758 | N5: =+IFERROR(IF(D5*J5<0,"n.m.",IF(D5/J5-1>100%,">100%",D5/J5-1)),"n.m.") -> -0.026077098 | P5: =F5+E5+D5 -> 5083 | Q5: =L5+K5+J5 -> 5263 | S5: =+IFERROR(IF(P5*Q5<0,"n.m.",IF(P5/Q5-1>100%,">100%",P5/Q5-1)),"n.m.") -> -0.034201026
C6: Adjusted revenues | D6: ='Growth analysis Q3'!G18 -> 1711 | E6: ='Growth analysis Q2'!G18 -> 1676 | F6: 1689 | H6: =L6+K6+J6+I6 -> 7018 | I6: =+'Growth analysis Q4'!L18 -> 1745 | J6: =+'Growth analysis Q3'!L18 -> 1764 | K6: =+'Growth analysis Q2'!L18 -> 1751 | L6: =+'Growth analysis Q1'!L18 -> 1758 | N6: =+IFERROR(IF(D6*J6<0,"n.m.",IF(D6/J6-1>100%,">100%",D6/J6-1)),"n.m.") -> -0.030045351 | P6: =F6+E6+D6 -> 5076 | Q6: =L6+K6+J6 -> 5273 | S6: =+IFERROR(IF(P6*Q6<0,"n.m.",IF(P6/Q6-1>100%,">100%",P6/Q6-1)),"n.m.") -> -0.037360137
C8: Cost of goods & services | D8: 532 | E8: 534 | F8: 534 | H8: =L8+K8+J8+I8 -> 2209 | I8: 572 | J8: 548 | K8: 546 | L8: 543 | N8: =+IFERROR(IF(D8*J8<0,"n.m.",IF(D8/J8-1>100%,">100%",D8/J8-1)),"n.m.") -> -0.02919708 | P8: =F8+E8+D8 -> 1600 | Q8: =L8+K8+J8 -> 1637 | S8: =+IFERROR(IF(P8*Q8<0,"n.m.",IF(P8/Q8-1>100%,">100%",P8/Q8-1)),"n.m.") -> -0.022602321
C9: Personnel expenses | D9: 268 | E9: 298 | F9: 327 | H9: =L9+K9+J9+I9 -> 1260 | I9: 300 | J9: 298 | K9: 322 | L9: 340 | N9: =+IFERROR(IF(D9*J9<0,"n.m.",IF(D9/J9-1>100%,">100%",D9/J9-1)),"n.m.") -> -0.10067114 | P9: =F9+E9+D9 -> 893 | Q9: =L9+K9+J9 -> 960 | S9: =+IFERROR(IF(P9*Q9<0,"n.m.",IF(P9/Q9-1>100%,">100%",P9/Q9-1)),"n.m.") -> -0.069791667
C10: IT/TI | D10: 119 | E10: 128 | F10: 133 | H10: =L10+K10+J10+I10 -> 535 | I10: 135 | J10: 141 | K10: 126 | L10: 133 | N10: =+IFERROR(IF(D10*J10<0,"n.m.",IF(D10/J10-1>100%,">100%",D10/J10-1)),"n.m.") -> -0.15602837 | P10: =F10+E10+D10 -> 380 | Q10: =L10+K10+J10 -> 400 | S10: =+IFERROR(IF(P10*Q10<0,"n.m.",IF(P10/Q10-1>100%,">100%",P10/Q10-1)),"n.m.") -> -0.05
C11: Other operating expenses | D11: 134 | E11: 137 | F11: 136 | H11: =L11+K11+J11+I11 -> 680 | I11: 160 | J11: 175 | K11: 179 | L11: 166 | N11: =+IFERROR(IF(D11*J11<0,"n.m.",IF(D11/J11-1>100%,">100%",D11/J11-1)),"n.m.") -> -0.23428571 | P11: =F11+E11+D11 -> 407 | Q11: =L11+K11+J11 -> 520 | S11: =+IFERROR(IF(P11*Q11<0,"n.m.",IF(P11/Q11-1>100%,">100%",P11/Q11-1)),"n.m.") -> -0.21730769
C12: Operating expenses (excl. D&A) | D12: =SUM(D8:D11) -> 1053 | E12: =E8+E9+E10+E11 -> 1097 | F12: =F8+F9+F10+F11 -> 1130 | H12: =L12+K12+J12+I12 -> 4684 | I12: =+I8+I9+I10+I11 -> 1167 | J12: =+J8+J9+J10+J11 -> 1162 | K12: =+K8+K9+K10+K11 -> 1173 | L12: =+L8+L9+L10+L11 -> 1182 | N12: =+IFERROR(IF(D12*J12<0,"n.m.",IF(D12/J12-1>100%,">100%",D12/J12-1)),"n.m.") -> -0.093803787 | P12: =F12+E12+D12 -> 3280 | Q12: =L12+K12+J12 -> 3517 | S12: =+IFERROR(IF(P12*Q12<0,"n.m.",IF(P12/Q12-1>100%,">100%",P12/Q12-1)),"n.m.") -> -0.067386978
C14: EBITDA | D14: ='Growth analysis Q3'!D37 -> 665 | E14: =E5-E12 -> 579 | F14: =F5-F12 -> 559 | H14: =L14+K14+J14+I14 -> 2324 | I14: =+I5-I12 -> 578 | J14: =+J5-J12 -> 602 | K14: =+K5-K12 -> 568 | L14: =+L5-L12 -> 576 | N14: =+IFERROR(IF(D14*J14<0,"n.m.",IF(D14/J14-1>100%,">100%",D14/J14-1)),"n.m.") -> 0.10465116 | P14: =F14+E14+D14 -> 1803 | Q14: =L14+K14+J14 -> 1746 | S14: =+IFERROR(IF(P14*Q14<0,"n.m.",IF(P14/Q14-1>100%,">100%",P14/Q14-1)),"n.m.") -> 0.032646048
C15: Adjusted EBITDA | D15: ='Growth analysis Q3'!G37 -> 662 | E15: =EBITDA!E35 -> 592 | F15: =EBITDA!F35 -> 568 | H15: =L15+K15+J15+I15 -> 2419 | I15: 582 | J15: 640 | K15: 602 | L15: =+'Growth analysis Q1'!L37 -> 595 | N15: =+IFERROR(IF(D15*J15<0,"n.m.",IF(D15/J15-1>100%,">100%",D15/J15-1)),"n.m.") -> 0.034375 | P15: =F15+E15+D15 -> 1822 | Q15: =L15+K15+J15 -> 1837 | S15: =+IFERROR(IF(P15*Q15<0,"n.m.",IF(P15/Q15-1>100%,">100%",P15/Q15-1)),"n.m.") -> -0.0081654872
C17: Depreciation | D17: 251 | E17: 252 | F17: 251 | H17: =L17+K17+J17+I17 -> 1105 | I17: 282 | J17: 276 | K17: 274 | L17: 273 | N17: =+IFERROR(IF(D17*J17<0,"n.m.",IF(D17/J17-1>100%,">100%",D17/J17-1)),"n.m.") -> -0.09057971 | P17: =F17+E17+D17 -> 754 | Q17: =L17+K17+J17 -> 823 | S17: =+IFERROR(IF(P17*Q17<0,"n.m.",IF(P17/Q17-1>100%,">100%",P17/Q17-1)),"n.m.") -> -0.083839611
C18: Amortization | D18: 122 | E18: 122 | F18: 167 | H18: =L18+K18+J18+I18 -> 511 | I18: 136 | J18: 122 | K18: 125 | L18: 128 | N18: =+IFERROR(IF(D18*J18<0,"n.m.",IF(D18/J18-1>100%,">100%",D18/J18-1)),"n.m.") -> 0 | P18: =F18+E18+D18 -> 411 | Q18: =L18+K18+J18 -> 375 | S18: =+IFERROR(IF(P18*Q18<0,"n.m.",IF(P18/Q18-1>100%,">100%",P18/Q18-1)),"n.m.") -> 0.096
C19: Total operating expenses | D19: =D12+D17+D18 -> 1426 | E19: =E12+E17+E18 -> 1471 | F19: =F12+F17+F18 -> 1548 | H19: =L19+K19+J19+I19 -> 6300 | I19: =+I8+I9+I10+I11+I17+I18 -> 1585 | J19: =+J8+J9+J10+J11+J17+J18 -> 1560 | K19: =+K8+K9+K10+K11+K17+K18 -> 1572 | L19: =+L8+L9+L10+L11+L17+L18 -> 1583 | N19: =+IFERROR(IF(D19*J19<0,"n.m.",IF(D19/J19-1>100%,">100%",D19/J19-1)),"n.m.") -> -0.085897436 | P19: =F19+E19+D19 -> 4445 | Q19: =L19+K19+J19 -> 4715 | S19: =+IFERROR(IF(P19*Q19<0,"n.m.",IF(P19/Q19-1>100%,">100%",P19/Q19-1)),"n.m.") -> -0.057264051
C21: Operating profit | D21: =D5-D19 -> 292 | E21: =E5-E19 -> 205 | F21: =F5-F19 -> 141 | H21: =L21+K21+J21+I21 -> 708 | I21: =I5-I19 -> 160 | J21: =J5-J19 -> 204 | K21: =K5-K19 -> 169 | L21: =L5-L19 -> 175 | N21: =+IFERROR(IF(D21*J21<0,"n.m.",IF(D21/J21-1>100%,">100%",D21/J21-1)),"n.m.") -> 0.43137255 | P21: =F21+E21+D21 -> 638 | Q21: =L21+K21+J21 -> 548 | S21: =+IFERROR(IF(P21*Q21<0,"n.m.",IF(P21/Q21-1>100%,">100%",P21/Q21-1)),"n.m.") -> 0.16423358
C23: Net finance costs | D23: -246 | E23: 10 | F23: -82 | H23: =L23+K23+J23+I23 -> -105 | I23: 127 | J23: -108 | K23: 19 | L23: -143 | N23: =+IFERROR(IF(D23*J23<0,"n.m.",IF(D23/J23-1>100%,">100%",D23/J23-1)),"n.m.") -> >100% | P23: =F23+E23+D23 -> -318 | Q23: =L23+K23+J23 -> -232 | S23: =+IFERROR(IF(P23*Q23<0,"n.m.",IF(P23/Q23-1>100%,">100%",P23/Q23-1)),"n.m.") -> 0.37068966
C24: Share of the profit of associates and joint ventures | D24: 1 | E24: -2 | F24: 1 | H24: =L24+K24+J24+I24 -> 2 | I24: 1 | J24: 1 | K24: 0 | L24: 0 | N24: =+IFERROR(IF(D24*J24<0,"n.m.",IF(D24/J24-1>100%,">100%",D24/J24-1)),"n.m.") -> 0 | P24: =F24+E24+D24 -> 0 | Q24: =L24+K24+J24 -> 1 | S24: =+IFERROR(IF(P24*Q24<0,"n.m.",IF(P24/Q24-1>100%,">100%",P24/Q24-1)),"n.m.") -> -1
C26: Profit before income tax | D26: =D21+D23+D24 -> 47 | E26: =E21+E23+E24 -> 213 | F26: =F21+F23+F24 -> 60 | H26: =L26+K26+J26+I26 -> 605 | I26: =I21+I23+I24 -> 288 | J26: =J21+J23+J24 -> 97 | K26: =K21+K23+K24 -> 188 | L26: =L21+L23+L24 -> 32 | N26: =+IFERROR(IF(D26*J26<0,"n.m.",IF(D26/J26-1>100%,">100%",D26/J26-1)),"n.m.") -> -0.51546392 | P26: =F26+E26+D26 -> 320 | Q26: =L26+K26+J26 -> 317 | S26: =+IFERROR(IF(P26*Q26<0,"n.m.",IF(P26/Q26-1>100%,">100%",P26/Q26-1)),"n.m.") -> 0.0094637224
C28: Income taxes | D28: -2 | E28: -51 | F28: -12 | H28: =L28+K28+J28+I28 -> -81 | I28: -34 | J28: -10 | K28: -28 | L28: -9 | N28: =+IFERROR(IF(D28*J28<0,"n.m.",IF(D28/J28-1>100%,">100%",D28/J28-1)),"n.m.") -> -0.8 | P28: =F28+E28+D28 -> -65 | Q28: =L28+K28+J28 -> -47 | S28: =+IFERROR(IF(P28*Q28<0,"n.m.",IF(P28/Q28-1>100%,">100%",P28/Q28-1)),"n.m.") -> 0.38297872
C30: Profit for the period | D30: =D26+D28 -> 45 | E30: =E26+E28 -> 162 | F30: =F26+F28 -> 48 | H30: =L30+K30+J30+I30 -> 524 | I30: =I26+I28 -> 254 | J30: =J26+J28 -> 87 | K30: =K26+K28 -> 160 | L30: =L26+L28 -> 23 | N30: =+IFERROR(IF(D30*J30<0,"n.m.",IF(D30/J30-1>100%,">100%",D30/J30-1)),"n.m.") -> -0.48275862 | P30: =F30+E30+D30 -> 255 | Q30: =L30+K30+J30 -> 270 | S30: =+IFERROR(IF(P30*Q30<0,"n.m.",IF(P30/Q30-1>100%,">100%",P30/Q30-1)),"n.m.") -> -0.055555556
C32: Profit for the period from discontinued operations | D32: 49 | E32: 0 | F32: 362 | H32: =L32+K32+J32+I32 -> 135 | I32: 102 | J32: 25 | K32: 7 | L32: 1 | N32: =+IFERROR(IF(D32*J32<0,"n.m.",IF(D32/J32-1>100%,">100%",D32/J32-1)),"n.m.") -> 0.96 | P32: =F32+E32+D32 -> 411 | Q32: =L32+K32+J32 -> 33 | S32: =+IFERROR(IF(P32*Q32<0,"n.m.",IF(P32/Q32-1>100%,">100%",P32/Q32-1)),"n.m.") -> >100%
C34: Profit for the period (incl. discontinued operations) | D34: =D30+D32 -> 94 | E34: =E30+E32 -> 162 | F34: =F30+F32 -> 410 | H34: =L34+K34+J34+I34 -> 659 | I34: =I30+I32 -> 356 | J34: =J30+J32 -> 112 | K34: =K30+K32 -> 167 | L34: =L30+L32 -> 24 | N34: =+IFERROR(IF(D34*J34<0,"n.m.",IF(D34/J34-1>100%,">100%",D34/J34-1)),"n.m.") -> -0.16071429 | P34: =F34+E34+D34 -> 666 | Q34: =L34+K34+J34 -> 303 | S34: =+IFERROR(IF(P34*Q34<0,"n.m.",IF(P34/Q34-1>100%,">100%",P34/Q34-1)),"n.m.") -> >100%
C36: Profit attributable to non-controlling interest (incl. disc. ops.) | D36: -1 | E36: 1 | F36: 6 | H36: =L36+K36+J36+I36 -> 21 | I36: 6 | J36: 6 | K36: 5 | L36: 4 | N36: =+IFERROR(IF(D36*J36<0,"n.m.",IF(D36/J36-1>100%,">100%",D36/J36-1)),"n.m.") -> n.m. | P36: =F36+E36+D36 -> 6 | Q36: =L36+K36+J36 -> 15 | S36: =+IFERROR(IF(P36*Q36<0,"n.m.",IF(P36/Q36-1>100%,">100%",P36/Q36-1)),"n.m.") -> -0.6
C37: Profit attributable to equity holders (incl. discontinued operations) | D37: =+D34-D36 -> 95 | E37: =+E34-E36 -> 161 | F37: =+F34-F36 -> 404 | H37: =+H34-H36 -> 638 | I37: =+I34-I36 -> 350 | J37: =+J34-J36 -> 106 | K37: =+K34-K36 -> 162 | L37: =+L34-L36 -> 20 | N37: =+IFERROR(IF(D37*J37<0,"n.m.",IF(D37/J37-1>100%,">100%",D37/J37-1)),"n.m.") -> -0.10377358 | P37: =F37+E37+D37 -> 660 | Q37: =L37+K37+J37 -> 288 | S37: =+IFERROR(IF(P37*Q37<0,"n.m.",IF(P37/Q37-1>100%,">100%",P37/Q37-1)),"n.m.") -> >100%
C39: Earnings per share²
C40: From continuing operations (non-diluted) | D40: 1e-05 | E40: 0.04 | F40: 0.01 | H40: =L40+K40+J40+I40 -> 0.11 | I40: 0.06 | J40: 0.01 | K40: 0.04 | L40: 0 | N40: =+IFERROR(IF(D40*J40<0,"n.m.",IF(D40/J40-1>100%,">100%",D40/J40-1)),"n.m.") -> -0.999 | P40: =F40+E40+D40 -> 0.05001 | Q40: =L40+K40+J40 -> 0.05 | S40: =+IFERROR(IF(P40*Q40<0,"n.m.",IF(P40/Q40-1>100%,">100%",P40/Q40-1)),"n.m.") -> 0.0002
C41: From continuing operations (fully-diluted) | D41: 1e-06 | E41: 0.04 | F41: 0.01 | H41: =L41+K41+J41+I41 -> 0.11 | I41: 0.06 | J41: 0.01 | K41: 0.04 | L41: 0 | N41: =+IFERROR(IF(D41*J41<0,"n.m.",IF(D41/J41-1>100%,">100%",D41/J41-1)),"n.m.") -> -0.9999 | P41: =F41+E41+D41 -> 0.050001 | Q41: =L41+K41+J41 -> 0.05 | S41: =+IFERROR(IF(P41*Q41<0,"n.m.",IF(P41/Q41-1>100%,">100%",P41/Q41-1)),"n.m.") -> 2e-05
C43: Including discontinued operations (non-diluted) | D43: 0.02 | E43: 0.04 | F43: 0.09 | H43: =L43+K43+J43+I43 -> 0.14 | I43: 0.08 | J43: 0.02 | K43: 0.04 | L43: 0 | N43: =+IFERROR(IF(D43*J43<0,"n.m.",IF(D43/J43-1>100%,">100%",D43/J43-1)),"n.m.") -> 0 | P43: =F43+E43+D43 -> 0.15 | Q43: =L43+K43+J43 -> 0.06 | S43: =+IFERROR(IF(P43*Q43<0,"n.m.",IF(P43/Q43-1>100%,">100%",P43/Q43-1)),"n.m.") -> >100%
C44: Including discontinued operations (fully-diluted) | D44: 0.02 | E44: 0.04 | F44: 0.09 | H44: =L44+K44+J44+I44 -> 0.14 | I44: 0.08 | J44: 0.02 | K44: 0.04 | L44: 0 | N44: =+IFERROR(IF(D44*J44<0,"n.m.",IF(D44/J44-1>100%,">100%",D44/J44-1)),"n.m.") -> 0 | P44: =F44+E44+D44 -> 0.15 | Q44: =L44+K44+J44 -> 0.06 | S44: =+IFERROR(IF(P44*Q44<0,"n.m.",IF(P44/Q44-1>100%,">100%",P44/Q44-1)),"n.m.") -> >100%
C46: Dividend per share | D46: 0 | E46: 0.06 | F46: 0 | H46: =L46+K46+J46+I46 -> 0.11 | I46: 0.05 | J46: 0 | K46: 0.06 | L46: 0 | N46: =+IFERROR(IF(D46*J46<0,"n.m.",IF(D46/J46-1>100%,">100%",D46/J46-1)),"n.m.") -> n.m. | P46: =F46+E46+D46 -> 0.06 | Q46: =L46+K46+J46 -> 0.06 | S46: =+IFERROR(IF(P46*Q46<0,"n.m.",IF(P46/Q46-1>100%,">100%",P46/Q46-1)),"n.m.") -> 0
C47: Of which: interim dividend | D47: 0 | E47: 0.06 | F47: 0 | H47: =L47+K47+J47+I47 -> 0.06 | I47: 0 | J47: 0 | K47: 0.06 | L47: 0 | N47: =+IFERROR(IF(D47*J47<0,"n.m.",IF(D47/J47-1>100%,">100%",D47/J47-1)),"n.m.") -> n.m. | P47: =F47+E47+D47 -> 0.06 | Q47: =L47+K47+J47 -> 0.06 | S47: =+IFERROR(IF(P47*Q47<0,"n.m.",IF(P47/Q47-1>100%,">100%",P47/Q47-1)),"n.m.") -> 0
B50: 1 Results from discontinued operations include results from BASE Company and E-Plus
B51: 2 Defined as profit after taxes per ordinary share / ADS (in €)
C54: Consolidated figures | D54: =D2 -> Q3 '16 | E54: Q2 '16 | F54: Q1 '16 | H54: 2015 | I54: =+I2 -> Q4 '15 | J54: =+J2 -> Q3 '15 | K54: =+K2 -> Q2 '15 | L54: =+L2 -> Q1 '15 | N54: =+N2 -> y-on-y | P54: =P2 -> YTD '16 | Q54: =Q2 -> YTD '15 | R54: =R2 -> 0 | S54: =S2 -> y-on-y
C55: Cash flow from continuing operations & Leverage | N55: =+N3 -> Q3% | R55: =R3 -> 0 | S55: =S3 -> YTD%
C57: EBITDA | D57: =EBITDA!D16 -> 665 | E57: 579 | F57: =EBITDA!F16 -> 559 | H57: =+L57+K57+J57+I57 -> 2324 | I57: =+EBITDA!I16 -> 578 | J57: =+EBITDA!J16 -> 602 | K57: =+EBITDA!K16 -> 568 | L57: =+EBITDA!L16 -> 576 | N57: =+IFERROR(IF(D57*J57<0,"n.m.",IF(D57/J57-1>100%,">100%",D57/J57-1)),"n.m.") -> 0.10465116 | P57: =F57+E57+D57 -> 1803 | Q57: =L57+K57+J57 -> 1746 | S57: =+IFERROR(IF(P57*Q57<0,"n.m.",IF(P57/Q57-1>100%,">100%",P57/Q57-1)),"n.m.") -> 0.032646048
C58: Interest received (paid) | D58: ='CF, Capex, BS & Debt sum'!D26 -> -136 | E58: ='CF, Capex, BS & Debt sum'!E26 -> -37 | F58: ='CF, Capex, BS & Debt sum'!F26 -> -226 | H58: =+L58+K58+J58+I58 -> -485 | I58: -71 | J58: -113 | K58: -79 | L58: =+'CF, Capex, BS & Debt sum'!L26 -> -222 | N58: =+IFERROR(IF(D58*J58<0,"n.m.",IF(D58/J58-1>100%,">100%",D58/J58-1)),"n.m.") -> 0.20353982 | P58: =F58+E58+D58 -> -399 | Q58: =L58+K58+J58 -> -414 | S58: =+IFERROR(IF(P58*Q58<0,"n.m.",IF(P58/Q58-1>100%,">100%",P58/Q58-1)),"n.m.") -> -0.036231884
C59: Taxes received (paid) | D59: ='CF, Capex, BS & Debt sum'!D25 -> 0 | E59: ='CF, Capex, BS & Debt sum'!E25 -> -6 | F59: ='CF, Capex, BS & Debt sum'!F25 -> 50 | H59: =+L59+K59+J59+I59 -> 18 | I59: 31 | J59: -1 | K59: -2 | L59: =+'CF, Capex, BS & Debt sum'!L25 -> -10 | N59: =+IFERROR(IF(D59*J59<0,"n.m.",IF(D59/J59-1>100%,">100%",D59/J59-1)),"n.m.") -> -1 | P59: =F59+E59+D59 -> 44 | Q59: =L59+K59+J59 -> -13 | S59: =+IFERROR(IF(P59*Q59<0,"n.m.",IF(P59/Q59-1>100%,">100%",P59/Q59-1)),"n.m.") -> n.m.
C60: Change in provisions1 | D60: ='CF, Capex, BS & Debt sum'!D13 -> -15 | E60: ='CF, Capex, BS & Debt sum'!E13 -> -7 | F60: ='CF, Capex, BS & Debt sum'!F13 -> -27 | H60: =+L60+K60+J60+I60 -> -44 | I60: -43 | J60: 9 | K60: -9 | L60: =+'CF, Capex, BS & Debt sum'!L13 -> -1 | N60: =+IFERROR(IF(D60*J60<0,"n.m.",IF(D60/J60-1>100%,">100%",D60/J60-1)),"n.m.") -> n.m. | P60: =F60+E60+D60 -> -49 | Q60: =L60+K60+J60 -> -1 | S60: =+IFERROR(IF(P60*Q60<0,"n.m.",IF(P60/Q60-1>100%,">100%",P60/Q60-1)),"n.m.") -> >100%
C61: Change in working capital1 | D61: ='CF, Capex, BS & Debt sum'!D22 -> -103 | E61: ='CF, Capex, BS & Debt sum'!E22 -> -67 | F61: ='CF, Capex, BS & Debt sum'!F22 -> -78 | H61: =+L61+K61+J61+I61 -> 30 | I61: 81 | J61: 18 | K61: -90 | L61: =+'CF, Capex, BS & Debt sum'!L22 -> 21 | N61: =+IFERROR(IF(D61*J61<0,"n.m.",IF(D61/J61-1>100%,">100%",D61/J61-1)),"n.m.") -> n.m. | P61: =F61+E61+D61 -> -248 | Q61: =L61+K61+J61 -> -51 | S61: =+IFERROR(IF(P61*Q61<0,"n.m.",IF(P61/Q61-1>100%,">100%",P61/Q61-1)),"n.m.") -> >100%
...

Sheet Revenues
C2: Consolidated figures | D2: Q3 '16 | E2: Q2 '16 | F2: Q1 '16 | H2: 2015 | I2: Q4 '15 | J2: =+'P&L & Cash flow'!J2 -> Q3 '15 | K2: =+'P&L & Cash flow'!K2 -> Q2 '15 | L2: =+'P&L & Cash flow'!L2 -> Q1 '15 | N2: =+'P&L & Cash flow'!N2 -> y-on-y | P2: YTD '16 | Q2: YTD '15 | S2: y-on-y
C3: Revenues | N3: =+'P&L & Cash flow'!N3 -> Q3% | S3: YTD%
C5: Consumer | D5: ='Growth analysis Q3'!D5 -> 802 | E5: ='Growth analysis Q2'!D5 -> 767 | F5: 771 | H5: =+L5+K5+J5+I5 -> 3095 | I5: 781 | J5: 790 | K5: 774 | L5: 750 | N5: =+IFERROR(IF(D5*J5<0,"n.m.",IF(D5/J5-1>100%,">100%",D5/J5-1)),"n.m.") -> 0.015189873 | P5: =F5+E5+D5 -> 2340 | Q5: =L5+K5+J5 -> 2314 | S5: =+IFERROR(IF(P5*Q5<0,"n.m.",IF(P5/Q5-1>100%,">100%",P5/Q5-1)),"n.m.") -> 0.011235955
C6: Business | D6: ='Growth analysis Q3'!D6 -> 569 | E6: ='Growth analysis Q2'!D6 -> 573 | F6: 589 | H6: =+L6+K6+J6+I6 -> 2482 | I6: 630 | J6: 612 | K6: 608 | L6: 632 | N6: =+IFERROR(IF(D6*J6<0,"n.m.",IF(D6/J6-1>100%,">100%",D6/J6-1)),"n.m.") -> -0.070261438 | P6: =F6+E6+D6 -> 1731 | Q6: =L6+K6+J6 -> 1852 | S6: =+IFERROR(IF(P6*Q6<0,"n.m.",IF(P6/Q6-1>100%,">100%",P6/Q6-1)),"n.m.") -> -0.065334773
C7: Wholesale | D7: ='Growth analysis Q3'!D7 -> 194 | E7: ='Growth analysis Q2'!D7 -> 184 | F7: 180 | H7: =+L7+K7+J7+I7 -> 730 | I7: 180 | J7: 182 | K7: 184 | L7: 184 | N7: =+IFERROR(IF(D7*J7<0,"n.m.",IF(D7/J7-1>100%,">100%",D7/J7-1)),"n.m.") -> 0.065934066 | P7: =F7+E7+D7 -> 558 | Q7: =L7+K7+J7 -> 550 | S7: =+IFERROR(IF(P7*Q7<0,"n.m.",IF(P7/Q7-1>100%,">100%",P7/Q7-1)),"n.m.") -> 0.014545455
C8: Network, Operations & IT | D8: ='Growth analysis Q3'!D8 -> 5 | E8: ='Growth analysis Q2'!D8 -> 5 | F8: 4 | H8: =+L8+K8+J8+I8 -> 16 | I8: 5 | J8: 4 | K8: 3 | L8: 4 | N8: =+IFERROR(IF(D8*J8<0,"n.m.",IF(D8/J8-1>100%,">100%",D8/J8-1)),"n.m.") -> 0.25 | P8: =F8+E8+D8 -> 14 | Q8: =L8+K8+J8 -> 11 | S8: =+IFERROR(IF(P8*Q8<0,"n.m.",IF(P8/Q8-1>100%,">100%",P8/Q8-1)),"n.m.") -> 0.27272727
C9: Other (incl. eliminations) | D9: ='Growth analysis Q3'!D9 -> -45 | E9: ='Growth analysis Q2'!D9 -> -43 | F9: -41 | H9: =+L9+K9+J9+I9 -> -161 | I9: -47 | J9: -40 | K9: -37 | L9: -37 | N9: =+IFERROR(IF(D9*J9<0,"n.m.",IF(D9/J9-1>100%,">100%",D9/J9-1)),"n.m.") -> 0.125 | P9: =F9+E9+D9 -> -129 | Q9: =L9+K9+J9 -> -114 | S9: =+IFERROR(IF(P9*Q9<0,"n.m.",IF(P9/Q9-1>100%,">100%",P9/Q9-1)),"n.m.") -> 0.13157895
C10: The Netherlands | D10: ='Growth analysis Q3'!D10 -> 1525 | E10: ='Growth analysis Q2'!D10 -> 1486 | F10: =F5+F6+F7+F8+F9 -> 1503 | H10: =+L10+K10+J10+I10 -> 6162 | I10: =I5+I7+I6+I8+I9 -> 1549 | J10: =J5+J7+J6+J8+J9 -> 1548 | K10: =K5+K7+K6+K8+K9 -> 1532 | L10: =L5+L7+L6+L8+L9 -> 1533 | N10: =+IFERROR(IF(D10*J10<0,"n.m.",IF(D10/J10-1>100%,">100%",D10/J10-1)),"n.m.") -> -0.014857881 | P10: =F10+E10+D10 -> 4514 | Q10: =L10+K10+J10 -> 4613 | S10: =+IFERROR(IF(P10*Q10<0,"n.m.",IF(P10/Q10-1>100%,">100%",P10/Q10-1)),"n.m.") -> -0.021461088
C12: iBasis | D12: ='Growth analysis Q3'!D12 -> 224 | E12: ='Growth analysis Q2'!D12 -> 218 | F12: 215 | H12: =+L12+K12+J12+I12 -> 920 | I12: 218 | J12: 241 | K12: 234 | L12: 227 | N12: =+IFERROR(IF(D12*J12<0,"n.m.",IF(D12/J12-1>100%,">100%",D12/J12-1)),"n.m.") -> -0.070539419 | P12: =F12+E12+D12 -> 657 | Q12: =L12+K12+J12 -> 702 | S12: =+IFERROR(IF(P12*Q12<0,"n.m.",IF(P12/Q12-1>100%,">100%",P12/Q12-1)),"n.m.") -> -0.064102564
C14: Other activities | D14: ='Growth analysis Q3'!D14 -> 0 | E14: ='Growth analysis Q2'!D14 -> 0 | F14: 1 | H14: =+L14+K14+J14+I14 -> 35 | I14: 3 | J14: 3 | K14: 2 | L14: 27 | N14: =+IFERROR(IF(D14*J14<0,"n.m.",IF(D14/J14-1>100%,">100%",D14/J14-1)),"n.m.") -> -1 | P14: =F14+E14+D14 -> 1 | Q14: =L14+K14+J14 -> 32 | S14: =+IFERROR(IF(P14*Q14<0,"n.m.",IF(P14/Q14-1>100%,">100%",P14/Q14-1)),"n.m.") -> -0.96875
C16: Intercompany revenues | D16: ='Growth analysis Q3'!D16 -> -31 | E16: ='Growth analysis Q2'!D16 -> -28 | F16: -30 | H16: =+L16+K16+J16+I16 -> -109 | I16: -25 | J16: -28 | K16: -27 | L16: -29 | N16: =+IFERROR(IF(D16*J16<0,"n.m.",IF(D16/J16-1>100%,">100%",D16/J16-1)),"n.m.") -> 0.10714286 | P16: =F16+E16+D16 -> -89 | Q16: =L16+K16+J16 -> -84 | S16: =+IFERROR(IF(P16*Q16<0,"n.m.",IF(P16/Q16-1>100%,">100%",P16/Q16-1)),"n.m.") -> 0.05952381
C18: Total revenues | D18: ='Growth analysis Q3'!D18 -> 1718 | E18: ='Growth analysis Q2'!D18 -> 1676 | F18: =F10+F12+F14+F16 -> 1689 | H18: =H10+H12+H14+H16 -> 7008 | I18: =I10+I12+I14+I16 -> 1745 | J18: =J10+J12+J14+J16 -> 1764 | K18: =K10+K12+K14+K16 -> 1741 | L18: =L10+L12+L14+L16 -> 1758 | N18: =+IFERROR(IF(D18*J18<0,"n.m.",IF(D18/J18-1>100%,">100%",D18/J18-1)),"n.m.") -> -0.026077098 | P18: =F18+E18+D18 -> 5083 | Q18: =L18+K18+J18 -> 5263 | S18: =+IFERROR(IF(P18*Q18<0,"n.m.",IF(P18/Q18-1>100%,">100%",P18/Q18-1)),"n.m.") -> -0.034201026
C23: Consolidated figures | D23: Q3 '16 | E23: Q2 '16 | F23: Q1 '16 | H23: =H2 -> 2015 | I23: =I2 -> Q4 '15 | J23: =J2 -> Q3 '15 | K23: =K2 -> Q2 '15 | L23: =L2 -> Q1 '15 | M23: =M2 -> 0 | N23: =N2 -> y-on-y | P23: YTD '16 | Q23: YTD '15 | S23: y-on-y
C24: Adjusted revenues | N24: =N3 -> Q3% | S24: YTD %
C26: Consumer | D26: ='Growth analysis Q3'!G5 -> 802 | E26: ='Growth analysis Q2'!G5 -> 767 | F26: ='Growth analysis Q1'!G5 -> 771 | H26: =+L26+K26+J26+I26 -> 3095 | I26: ='Growth analysis Q4'!L5 -> 781 | J26: =+'Growth analysis Q3'!L5 -> 790 | K26: =+'Growth analysis Q2'!L5 -> 774 | L26: =+'Growth analysis Q1'!L5 -> 750 | N26: =+IFERROR(IF(D26*J26<0,"n.m.",IF(D26/J26-1>100%,">100%",D26/J26-1)),"n.m.") -> 0.015189873 | P26: =F26+E26+D26 -> 2340 | Q26: =L26+K26+J26 -> 2314 | S26: =+IFERROR(IF(P26*Q26<0,"n.m.",IF(P26/Q26-1>100%,">100%",P26/Q26-1)),"n.m.") -> 0.011235955
C27: Business | D27: ='Growth analysis Q3'!G6 -> 569 | E27: ='Growth analysis Q2'!G6 -> 573 | F27: ='Growth analysis Q1'!G6 -> 589 | H27: =+L27+K27+J27+I27 -> 2492 | I27: ='Growth analysis Q4'!L6 -> 630 | J27: =+'Growth analysis Q3'!L6 -> 612 | K27: =+'Growth analysis Q2'!L6 -> 618 | L27: =+'Growth analysis Q1'!L6 -> 632 | N27: =+IFERROR(IF(D27*J27<0,"n.m.",IF(D27/J27-1>100%,">100%",D27/J27-1)),"n.m.") -> -0.070261438 | P27: =F27+E27+D27 -> 1731 | Q27: =L27+K27+J27 -> 1862 | S27: =+IFERROR(IF(P27*Q27<0,"n.m.",IF(P27/Q27-1>100%,">100%",P27/Q27-1)),"n.m.") -> -0.070354458
C28: Wholesale | D28: ='Growth analysis Q3'!G7 -> 187 | E28: ='Growth analysis Q2'!G7 -> 184 | F28: ='Growth analysis Q1'!G7 -> 180 | H28: =+L28+K28+J28+I28 -> 730 | I28: ='Growth analysis Q4'!L7 -> 180 | J28: =+'Growth analysis Q3'!L7 -> 182 | K28: =+'Growth analysis Q2'!L7 -> 184 | L28: =+'Growth analysis Q1'!L7 -> 184 | N28: =+IFERROR(IF(D28*J28<0,"n.m.",IF(D28/J28-1>100%,">100%",D28/J28-1)),"n.m.") -> 0.027472527 | P28: =F28+E28+D28 -> 551 | Q28: =L28+K28+J28 -> 550 | S28: =+IFERROR(IF(P28*Q28<0,"n.m.",IF(P28/Q28-1>100%,">100%",P28/Q28-1)),"n.m.") -> 0.0018181818
C29: Network, Operations & IT | D29: ='Growth analysis Q3'!G8 -> 5 | E29: ='Growth analysis Q2'!G8 -> 5 | F29: ='Growth analysis Q1'!G8 -> 4 | H29: =+L29+K29+J29+I29 -> 16 | I29: ='Growth analysis Q4'!L8 -> 5 | J29: =+'Growth analysis Q3'!L8 -> 4 | K29: =+'Growth analysis Q2'!L8 -> 3 | L29: =+'Growth analysis Q1'!L8 -> 4 | N29: =+IFERROR(IF(D29*J29<0,"n.m.",IF(D29/J29-1>100%,">100%",D29/J29-1)),"n.m.") -> 0.25 | P29: =F29+E29+D29 -> 14 | Q29: =L29+K29+J29 -> 11 | S29: =+IFERROR(IF(P29*Q29<0,"n.m.",IF(P29/Q29-1>100%,">100%",P29/Q29-1)),"n.m.") -> 0.27272727
C30: Other (incl. eliminations) | D30: ='Growth analysis Q3'!G9 -> -45 | E30: ='Growth analysis Q2'!G9 -> -43 | F30: ='Growth analysis Q1'!G9 -> -41 | H30: =+L30+K30+J30+I30 -> -161 | I30: ='Growth analysis Q4'!L9 -> -47 | J30: =+'Growth analysis Q3'!L9 -> -40 | K30: =+'Growth analysis Q2'!L9 -> -37 | L30: =+'Growth analysis Q1'!L9 -> -37 | N30: =+IFERROR(IF(D30*J30<0,"n.m.",IF(D30/J30-1>100%,">100%",D30/J30-1)),"n.m.") -> 0.125 | P30: =F30+E30+D30 -> -129 | Q30: =L30+K30+J30 -> -114 | S30: =+IFERROR(IF(P30*Q30<0,"n.m.",IF(P30/Q30-1>100%,">100%",P30/Q30-1)),"n.m.") -> 0.13157895
C31: The Netherlands | D31: ='Growth analysis Q3'!G10 -> 1518 | E31: ='Growth analysis Q2'!G10 -> 1486 | F31: ='Growth analysis Q1'!G10 -> 1503 | H31: =+L31+K31+J31+I31 -> 6172 | I31: ='Growth analysis Q4'!L10 -> 1549 | J31: =+'Growth analysis Q3'!L10 -> 1548 | K31: =+'Growth analysis Q2'!L10 -> 1542 | L31: =+'Growth analysis Q1'!L10 -> 1533 | N31: =+IFERROR(IF(D31*J31<0,"n.m.",IF(D31/J31-1>100%,">100%",D31/J31-1)),"n.m.") -> -0.019379845 | P31: =F31+E31+D31 -> 4507 | Q31: =L31+K31+J31 -> 4623 | S31: =+IFERROR(IF(P31*Q31<0,"n.m.",IF(P31/Q31-1>100%,">100%",P31/Q31-1)),"n.m.") -> -0.025091932
C33: iBasis | D33: ='Growth analysis Q3'!G12 -> 224 | E33: ='Growth analysis Q2'!G12 -> 218 | F33: ='Growth analysis Q1'!G12 -> 215 | H33: =+L33+K33+J33+I33 -> 920 | I33: ='Growth analysis Q4'!L12 -> 218 | J33: =+'Growth analysis Q3'!L12 -> 241 | K33: =+'Growth analysis Q2'!L12 -> 234 | L33: =+'Growth analysis Q1'!L12 -> 227 | N33: =+IFERROR(IF(D33*J33<0,"n.m.",IF(D33/J33-1>100%,">100%",D33/J33-1)),"n.m.") -> -0.070539419 | P33: =F33+E33+D33 -> 657 | Q33: =L33+K33+J33 -> 702 | S33: =+IFERROR(IF(P33*Q33<0,"n.m.",IF(P33/Q33-1>100%,">100%",P33/Q33-1)),"n.m.") -> -0.064102564
C35: Other activities | D35: ='Growth analysis Q3'!G14 -> 0 | E35: ='Growth analysis Q2'!G14 -> 0 | F35: ='Growth analysis Q1'!G14 -> 1 | H35: =+L35+K35+J35+I35 -> 35 | I35: ='Growth analysis Q4'!L14 -> 3 | J35: =+'Growth analysis Q3'!L14 -> 3 | K35: =+'Growth analysis Q2'!L14 -> 2 | L35: =+'Growth analysis Q1'!L14 -> 27 | N35: =+IFERROR(IF(D35*J35<0,"n.m.",IF(D35/J35-1>100%,">100%",D35/J35-1)),"n.m.") -> -1 | P35: =F35+E35+D35 -> 1 | Q35: =L35+K35+J35 -> 32 | S35: =+IFERROR(IF(P35*Q35<0,"n.m.",IF(P35/Q35-1>100%,">100%",P35/Q35-1)),"n.m.") -> -0.96875
C37: Intercompany revenues | D37: ='Growth analysis Q3'!G16 -> -31 | E37: ='Growth analysis Q2'!G16 -> -28 | F37: ='Growth analysis Q1'!G16 -> -30 | H37: =L37+K37+J37+I37 -> -109 | I37: ='Growth analysis Q4'!L16 -> -25 | J37: =+'Growth analysis Q3'!L16 -> -28 | K37: ='Growth analysis Q2'!L16 -> -27 | L37: ='Growth analysis Q1'!L16 -> -29 | N37: =+IFERROR(IF(D37*J37<0,"n.m.",IF(D37/J37-1>100%,">100%",D37/J37-1)),"n.m.") -> 0.10714286 | P37: =F37+E37+D37 -> -89 | Q37: =L37+K37+J37 -> -84 | S37: =+IFERROR(IF(P37*Q37<0,"n.m.",IF(P37/Q37-1>100%,">100%",P37/Q37-1)),"n.m.") -> 0.05952381
C39: Total adjusted revenues | D39: ='Growth analysis Q3'!G18 -> 1711 | E39: ='Growth analysis Q2'!G18 -> 1676 | F39: ='Growth analysis Q1'!G18 -> 1689 | H39: =+L39+K39+J39+I39 -> 7018 | I39: ='Growth analysis Q4'!L18 -> 1745 | J39: =+'Growth analysis Q3'!L18 -> 1764 | K39: =+'Growth analysis Q2'!L18 -> 1751 | L39: =+'Growth analysis Q1'!L18 -> 1758 | N39: =+IFERROR(IF(D39*J39<0,"n.m.",IF(D39/J39-1>100%,">100%",D39/J39-1)),"n.m.") -> -0.030045351 | P39: =F39+E39+D39 -> 5076 | Q39: =L39+K39+J39 -> 5273 | S39: =+IFERROR(IF(P39*Q39<0,"n.m.",IF(P39/Q39-1>100%,">100%",P39/Q39-1)),"n.m.") -> -0.037360137

Sheet Opex (excl. D&A)
C2: Consolidated figures | D2: Q3 '16 | E2: Q2 '16 | F2: Q1 '16 | H2: =+Revenues!H2 -> 2015 | I2: Q4 '15 | J2: =+Revenues!J2 -> Q3 '15 | K2: =+Revenues!K2 -> Q2 '15 | L2: =+Revenues!L2 -> Q1 '15 | N2: y-on-y | P2: YTD '16 | Q2: YTD '15 | S2: y-on-y
C3: Operating expenses excl. D&A by segment | N3: =+Revenues!N3 -> Q3% | S3: YTD%
C5: Consumer | D5: 307 | E5: 321 | F5: 322 | H5: =+L5+K5+J5+I5 -> 1298 | I5: 350 | J5: 313 | K5: 314 | L5: 321 | N5: =+IFERROR(IF(D5*J5<0,"n.m.",IF(D5/J5-1>100%,">100%",D5/J5-1)),"n.m.") -> -0.019169329 | P5: =F5+E5+D5 -> 950 | Q5: =L5+K5+J5 -> 948 | S5: =+IFERROR(IF(P5*Q5<0,"n.m.",IF(P5/Q5-1>100%,">100%",P5/Q5-1)),"n.m.") -> 0.0021097046
C6: Business | D6: 221 | E6: 222 | F6: 237 | H6: =+L6+K6+J6+I6 -> 1014 | I6: 262 | J6: 232 | K6: 267 | L6: 253 | N6: =+IFERROR(IF(D6*J6<0,"n.m.",IF(D6/J6-1>100%,">100%",D6/J6-1)),"n.m.") -> -0.047413793 | P6: =F6+E6+D6 -> 680 | Q6: =L6+K6+J6 -> 752 | S6: =+IFERROR(IF(P6*Q6<0,"n.m.",IF(P6/Q6-1>100%,">100%",P6/Q6-1)),"n.m.") -> -0.095744681
C7: Wholesale | D7: 60 | E7: 56 | F7: 55 | H7: =+L7+K7+J7+I7 -> 235 | I7: 56 | J7: 61 | K7: 59 | L7: 59 | N7: =+IFERROR(IF(D7*J7<0,"n.m.",IF(D7/J7-1>100%,">100%",D7/J7-1)),"n.m.") -> -0.016393443 | P7: =F7+E7+D7 -> 171 | Q7: =L7+K7+J7 -> 179 | S7: =+IFERROR(IF(P7*Q7<0,"n.m.",IF(P7/Q7-1>100%,">100%",P7/Q7-1)),"n.m.") -> -0.044692737
C8: Network, Operations & IT | D8: 264 | E8: 292 | F8: 311 | H8: =+L8+K8+J8+I8 -> 1203 | I8: 304 | J8: 299 | K8: 295 | L8: 305 | N8: =+IFERROR(IF(D8*J8<0,"n.m.",IF(D8/J8-1>100%,">100%",D8/J8-1)),"n.m.") -> -0.11705686 | P8: =F8+E8+D8 -> 867 | Q8: =L8+K8+J8 -> 899 | S8: =+IFERROR(IF(P8*Q8<0,"n.m.",IF(P8/Q8-1>100%,">100%",P8/Q8-1)),"n.m.") -> -0.035595106
C9: Other (incl. eliminations) | D9: 12 | E9: 21 | F9: 20 | H9: =+L9+K9+J9+I9 -> 111 | I9: 19 | J9: 37 | K9: 30 | L9: 25 | N9: =+IFERROR(IF(D9*J9<0,"n.m.",IF(D9/J9-1>100%,">100%",D9/J9-1)),"n.m.") -> -0.67567568 | P9: =F9+E9+D9 -> 53 | Q9: =L9+K9+J9 -> 92 | S9: =+IFERROR(IF(P9*Q9<0,"n.m.",IF(P9/Q9-1>100%,">100%",P9/Q9-1)),"n.m.") -> -0.42391304
C10: The Netherlands | D10: =D5+D6+D7+D8+D9 -> 864 | E10: =E5+E6+E7+E8+E9 -> 912 | F10: =F5+F6+F7+F8+F9 -> 945 | H10: =+L10+K10+J10+I10 -> 3861 | I10: =I5+I7+I6+I8+I9 -> 991 | J10: =J5+J7+J6+J8+J9 -> 942 | K10: =K5+K7+K6+K8+K9 -> 965 | L10: =L5+L7+L6+L8+L9 -> 963 | N10: =+IFERROR(IF(D10*J10<0,"n.m.",IF(D10/J10-1>100%,">100%",D10/J10-1)),"n.m.") -> -0.082802548 | P10: =F10+E10+D10 -> 2721 | Q10: =L10+K10+J10 -> 2870 | S10: =+IFERROR(IF(P10*Q10<0,"n.m.",IF(P10/Q10-1>100%,">100%",P10/Q10-1)),"n.m.") -> -0.051916376
C12: iBasis | D12: 218 | E12: 212 | F12: 209 | H12: =+L12+K12+J12+I12 -> 897 | I12: 212 | J12: 235 | K12: 228 | L12: 222 | N12: =+IFERROR(IF(D12*J12<0,"n.m.",IF(D12/J12-1>100%,">100%",D12/J12-1)),"n.m.") -> -0.072340426 | P12: =F12+E12+D12 -> 639 | Q12: =L12+K12+J12 -> 685 | S12: =+IFERROR(IF(P12*Q12<0,"n.m.",IF(P12/Q12-1>100%,">100%",P12/Q12-1)),"n.m.") -> -0.067153285
C14: Other activities | D14: 2 | E14: 1 | F14: 6 | H14: =+L14+K14+J14+I14 -> 35 | I14: -11 | J14: 13 | K14: 7 | L14: 26 | N14: =+IFERROR(IF(D14*J14<0,"n.m.",IF(D14/J14-1>100%,">100%",D14/J14-1)),"n.m.") -> -0.84615385 | P14: =F14+E14+D14 -> 9 | Q14: =L14+K14+J14 -> 46 | S14: =+IFERROR(IF(P14*Q14<0,"n.m.",IF(P14/Q14-1>100%,">100%",P14/Q14-1)),"n.m.") -> -0.80434783
C16: Intercompany expenses | D16: -31 | E16: -28 | F16: -30 | H16: =+L16+K16+J16+I16 -> -109 | I16: -25 | J16: -28 | K16: -27 | L16: -29 | N16: =+IFERROR(IF(D16*J16<0,"n.m.",IF(D16/J16-1>100%,">100%",D16/J16-1)),"n.m.") -> 0.10714286 | P16: =F16+E16+D16 -> -89 | Q16: =L16+K16+J16 -> -84 | S16: =+IFERROR(IF(P16*Q16<0,"n.m.",IF(P16/Q16-1>100%,">100%",P16/Q16-1)),"n.m.") -> 0.05952381
C18: Total operating expenses | D18: =D10+D12+D14+D16 -> 1053 | E18: =E10+E12+E14+E16 -> 1097 | F18: =F10+F12+F14+F16 -> 1130 | H18: =H16+H14+H12+H10 -> 4684 | I18: =I16+I14+I12+I10 -> 1167 | J18: =J16+J14+J12+J10 -> 1162 | K18: =K16+K14+K12+K10 -> 1173 | L18: =L16+L14+L12+L10 -> 1182 | N18: =+IFERROR(IF(D18*J18<0,"n.m.",IF(D18/J18-1>100%,">100%",D18/J18-1)),"n.m.") -> -0.093803787 | P18: =F18+E18+D18 -> 3280 | Q18: =L18+K18+J18 -> 3517 | S18: =+IFERROR(IF(P18*Q18<0,"n.m.",IF(P18/Q18-1>100%,">100%",P18/Q18-1)),"n.m.") -> -0.067386978
C23: Consolidated figures | D23: Q3 '16 | E23: Q2 '16 | F23: Q1 '16 | H23: =H2 -> 2015 | I23: =I2 -> Q4 '15 | J23: =J2 -> Q3 '15 | K23: =K2 -> Q2 '15 | L23: =L2 -> Q1 '15 | M23: =M2 -> 0 | N23: =N2 -> y-on-y | P23: YTD '16 | Q23: YTD '15 | S23: y-on-y
C24: Operating expenses excl. D&A by function | N24: =N3 -> Q3% | S24: YTD%
C26: Costs of goods & services | D26: 356 | E26: 362 | F26: 366 | H26: =+L26+K26+J26+I26 -> 1475 | I26: 398 | J26: 357 | K26: 359 | L26: 361 | N26: =+IFERROR(IF(D26*J26<0,"n.m.",IF(D26/J26-1>100%,">100%",D26/J26-1)),"n.m.") -> -0.0028011204 | P26: =F26+E26+D26 -> 1084 | Q26: =L26+K26+J26 -> 1077 | S26: =+IFERROR(IF(P26*Q26<0,"n.m.",IF(P26/Q26-1>100%,">100%",P26/Q26-1)),"n.m.") -> 0.0064995357
C27: Personnel expenses | D27: 259 | E27: 291 | F27: 314 | H27: =+L27+K27+J27+I27 -> 1208 | I27: 303 | J27: 288 | K27: 304 | L27: 313 | N27: =+IFERROR(IF(D27*J27<0,"n.m.",IF(D27/J27-1>100%,">100%",D27/J27-1)),"n.m.") -> -0.10069444 | P27: =F27+E27+D27 -> 864 | Q27: =L27+K27+J27 -> 905 | S27: =+IFERROR(IF(P27*Q27<0,"n.m.",IF(P27/Q27-1>100%,">100%",P27/Q27-1)),"n.m.") -> -0.045303867
C28: IT/TI | D28: 119 | E28: 128 | F28: 133 | H28: =+L28+K28+J28+I28 -> 531 | I28: 135 | J28: 140 | K28: 125 | L28: 131 | N28: =+IFERROR(IF(D28*J28<0,"n.m.",IF(D28/J28-1>100%,">100%",D28/J28-1)),"n.m.") -> -0.15 | P28: =F28+E28+D28 -> 380 | Q28: =L28+K28+J28 -> 396 | S28: =+IFERROR(IF(P28*Q28<0,"n.m.",IF(P28/Q28-1>100%,">100%",P28/Q28-1)),"n.m.") -> -0.04040404
C29: Other operating expenses | D29: 130 | E29: 131 | F29: 132 | H29: =+L29+K29+J29+I29 -> 647 | I29: 155 | J29: 157 | K29: 177 | L29: 158 | N29: =+IFERROR(IF(D29*J29<0,"n.m.",IF(D29/J29-1>100%,">100%",D29/J29-1)),"n.m.") -> -0.17197452 | P29: =F29+E29+D29 -> 393 | Q29: =L29+K29+J29 -> 492 | S29: =+IFERROR(IF(P29*Q29<0,"n.m.",IF(P29/Q29-1>100%,">100%",P29/Q29-1)),"n.m.") -> -0.20121951
C30: The Netherlands | D30: =D26+D27+D28+D29 -> 864 | E30: =E26+E27+E28+E29 -> 912 | F30: =F26+F27+F28+F29 -> 945 | H30: =+L30+K30+J30+I30 -> 3861 | I30: =I26+I27+I28+I29 -> 991 | J30: =J26+J27+J28+J29 -> 942 | K30: =K26+K27+K28+K29 -> 965 | L30: =L26+L27+L28+L29 -> 963 | N30: =+IFERROR(IF(D30*J30<0,"n.m.",IF(D30/J30-1>100%,">100%",D30/J30-1)),"n.m.") -> -0.082802548 | P30: =F30+E30+D30 -> 2721 | Q30: =L30+K30+J30 -> 2870 | S30: =+IFERROR(IF(P30*Q30<0,"n.m.",IF(P30/Q30-1>100%,">100%",P30/Q30-1)),"n.m.") -> -0.051916376
C32: iBasis | D32: 218 | E32: 212 | F32: 209 | H32: =+L32+K32+J32+I32 -> 897 | I32: 212 | J32: 235 | K32: 228 | L32: 222 | N32: =+IFERROR(IF(D32*J32<0,"n.m.",IF(D32/J32-1>100%,">100%",D32/J32-1)),"n.m.") -> -0.072340426 | P32: =F32+E32+D32 -> 639 | Q32: =L32+K32+J32 -> 685 | S32: =+IFERROR(IF(P32*Q32<0,"n.m.",IF(P32/Q32-1>100%,">100%",P32/Q32-1)),"n.m.") -> -0.067153285
C34: Other activities | D34: 2 | E34: 1 | F34: 6 | H34: =+L34+K34+J34+I34 -> 35 | I34: -11 | J34: 13 | K34: 7 | L34: 26 | N34: =+IFERROR(IF(D34*J34<0,"n.m.",IF(D34/J34-1>100%,">100%",D34/J34-1)),"n.m.") -> -0.84615385 | P34: =F34+E34+D34 -> 9 | Q34: =L34+K34+J34 -> 46 | S34: =+IFERROR(IF(P34*Q34<0,"n.m.",IF(P34/Q34-1>100%,">100%",P34/Q34-1)),"n.m.") -> -0.80434783
C36: Intercompany expenses | D36: -31 | E36: -28 | F36: -30 | H36: =+L36+K36+J36+I36 -> -109 | I36: -25 | J36: -28 | K36: -27 | L36: -29 | N36: =+IFERROR(IF(D36*J36<0,"n.m.",IF(D36/J36-1>100%,">100%",D36/J36-1)),"n.m.") -> 0.10714286 | P36: =F36+E36+D36 -> -89 | Q36: =L36+K36+J36 -> -84 | S36: =+IFERROR(IF(P36*Q36<0,"n.m.",IF(P36/Q36-1>100%,">100%",P36/Q36-1)),"n.m.") -> 0.05952381
C38: Total operating expenses | D38: =D30+D32+D34+D36 -> 1053 | E38: =E30+E32+E34+E36 -> 1097 | F38: =F30+F32+F34+F36 -> 1130 | H38: =H34+H32+H30+H36 -> 4684 | I38: =I34+I32+I30+I36 -> 1167 | J38: =J34+J32+J30+J36 -> 1162 | K38: =K34+K32+K30+K36 -> 1173 | L38: =L34+L32+L30+L36 -> 1182 | N38: =+IFERROR(IF(D38*J38<0,"n.m.",IF(D38/J38-1>100%,">100%",D38/J38-1)),"n.m.") -> -0.093803787 | P38: =F38+E38+D38 -> 3280 | Q38: =L38+K38+J38 -> 3517 | S38: =+IFERROR(IF(P38*Q38<0,"n.m.",IF(P38/Q38-1>100%,">100%",P38/Q38-1)),"n.m.") -> -0.067386978

Sheet EBITDA
C2: Consolidated figures | D2: Q3 '16 | E2: Q2 '16 | F2: Q1 '16 | H2: =+'Opex (excl. D&A)'!H2 -> 2015 | I2: Q4 '15 | J2: =+Revenues!J2 -> Q3 '15 | K2: =+Revenues!K2 -> Q2 '15 | L2: =+Revenues!L2 -> Q1 '15 | N2: =+'Opex (excl. D&A)'!N2 -> y-on-y | P2: YTD '16 | Q2: YTD '15 | S2: y-on-y
C3: EBITDA | N3: =+Revenues!N3 -> Q3% | S3: YTD%
C5: Consumer (contribution margin) | D5: =Revenues!D5-'Opex (excl. D&A)'!D5 -> 495 | E5: =Revenues!E5-'Opex (excl. D&A)'!E5 -> 446 | F5: =Revenues!F5-'Opex (excl. D&A)'!F5 -> 449 | H5: =Revenues!H5-'Opex (excl. D&A)'!H5 -> 1797 | I5: =Revenues!I5-'Opex (excl. D&A)'!I5 -> 431 | J5: =+Revenues!J5-'Opex (excl. D&A)'!J5 -> 477 | K5: =+Revenues!K5-'Opex (excl. D&A)'!K5 -> 460 | L5: =+Revenues!L5-'Opex (excl. D&A)'!L5 -> 429 | N5: =+IFERROR(IF(D5*J5<0,"n.m.",IF(D5/J5-1>100%,">100%",D5/J5-1)),"n.m.") -> 0.037735849 | P5: =F5+E5+D5 -> 1390 | Q5: =L5+K5+J5 -> 1366 | S5: =+IFERROR(IF(P5*Q5<0,"n.m.",IF(P5/Q5-1>100%,">100%",P5/Q5-1)),"n.m.") -> 0.017569546
C6: Business (contribution margin) | D6: =Revenues!D6-'Opex (excl. D&A)'!D6 -> 348 | E6: =Revenues!E6-'Opex (excl. D&A)'!E6 -> 351 | F6: =Revenues!F6-'Opex (excl. D&A)'!F6 -> 352 | H6: =+L6+K6+J6+I6 -> 1468 | I6: =Revenues!I6-'Opex (excl. D&A)'!I6 -> 368 | J6: =+Revenues!J6-'Opex (excl. D&A)'!J6 -> 380 | K6: =+Revenues!K6-'Opex (excl. D&A)'!K6 -> 341 | L6: =+Revenues!L6-'Opex (excl. D&A)'!L6 -> 379 | N6: =+IFERROR(IF(D6*J6<0,"n.m.",IF(D6/J6-1>100%,">100%",D6/J6-1)),"n.m.") -> -0.084210526 | P6: =F6+E6+D6 -> 1051 | Q6: =L6+K6+J6 -> 1100 | S6: =+IFERROR(IF(P6*Q6<0,"n.m.",IF(P6/Q6-1>100%,">100%",P6/Q6-1)),"n.m.") -> -0.044545455
C7: Wholesale (contribution margin) | D7: =Revenues!D7-'Opex (excl. D&A)'!D7 -> 134 | E7: =Revenues!E7-'Opex (excl. D&A)'!E7 -> 128 | F7: =Revenues!F7-'Opex (excl. D&A)'!F7 -> 125 | H7: =+L7+K7+J7+I7 -> 495 | I7: =Revenues!I7-'Opex (excl. D&A)'!I7 -> 124 | J7: =+Revenues!J7-'Opex (excl. D&A)'!J7 -> 121 | K7: =+Revenues!K7-'Opex (excl. D&A)'!K7 -> 125 | L7: =+Revenues!L7-'Opex (excl. D&A)'!L7 -> 125 | N7: =+IFERROR(IF(D7*J7<0,"n.m.",IF(D7/J7-1>100%,">100%",D7/J7-1)),"n.m.") -> 0.10743802 | P7: =F7+E7+D7 -> 387 | Q7: =L7+K7+J7 -> 371 | S7: =+IFERROR(IF(P7*Q7<0,"n.m.",IF(P7/Q7-1>100%,">100%",P7/Q7-1)),"n.m.") -> 0.043126685
C8: Network, Operations & IT (cost center) | D8: =Revenues!D8-'Opex (excl. D&A)'!D8 -> -259 | E8: =Revenues!E8-'Opex (excl. D&A)'!E8 -> -287 | F8: =Revenues!F8-'Opex (excl. D&A)'!F8 -> -307 | H8: =+L8+K8+J8+I8 -> -1187 | I8: =Revenues!I8-'Opex (excl. D&A)'!I8 -> -299 | J8: =+Revenues!J8-'Opex (excl. D&A)'!J8 -> -295 | K8: =+Revenues!K8-'Opex (excl. D&A)'!K8 -> -292 | L8: =+Revenues!L8-'Opex (excl. D&A)'!L8 -> -301 | N8: =+IFERROR(IF(D8*J8<0,"n.m.",IF(D8/J8-1>100%,">100%",D8/J8-1)),"n.m.") -> -0.1220339 | P8: =F8+E8+D8 -> -853 | Q8: =L8+K8+J8 -> -888 | S8: =+IFERROR(IF(P8*Q8<0,"n.m.",IF(P8/Q8-1>100%,">100%",P8/Q8-1)),"n.m.") -> -0.039414414
C9: Other (incl. eliminations) | D9: =Revenues!D9-'Opex (excl. D&A)'!D9 -> -57 | E9: =Revenues!E9-'Opex (excl. D&A)'!E9 -> -64 | F9: =Revenues!F9-'Opex (excl. D&A)'!F9 -> -61 | H9: =+L9+K9+J9+I9 -> -272 | I9: =Revenues!I9-'Opex (excl. D&A)'!I9 -> -66 | J9: =+Revenues!J9-'Opex (excl. D&A)'!J9 -> -77 | K9: =+Revenues!K9-'Opex (excl. D&A)'!K9 -> -67 | L9: =+Revenues!L9-'Opex (excl. D&A)'!L9 -> -62 | N9: =+IFERROR(IF(D9*J9<0,"n.m.",IF(D9/J9-1>100%,">100%",D9/J9-1)),"n.m.") -> -0.25974026 | P9: =F9+E9+D9 -> -182 | Q9: =L9+K9+J9 -> -206 | S9: =+IFERROR(IF(P9*Q9<0,"n.m.",IF(P9/Q9-1>100%,">100%",P9/Q9-1)),"n.m.") -> -0.11650485
C10: The Netherlands | D10: =Revenues!D10-'Opex (excl. D&A)'!D10 -> 661 | E10: =Revenues!E10-'Opex (excl. D&A)'!E10 -> 574 | F10: =Revenues!F10-'Opex (excl. D&A)'!F10 -> 558 | H10: =+L10+K10+J10+I10 -> 2301 | I10: =Revenues!I10-'Opex (excl. D&A)'!I10 -> 558 | J10: =+Revenues!J10-'Opex (excl. D&A)'!J10 -> 606 | K10: =+Revenues!K10-'Opex (excl. D&A)'!K10 -> 567 | L10: =+Revenues!L10-'Opex (excl. D&A)'!L10 -> 570 | N10: =+IFERROR(IF(D10*J10<0,"n.m.",IF(D10/J10-1>100%,">100%",D10/J10-1)),"n.m.") -> 0.090759076 | P10: =F10+E10+D10 -> 1793 | Q10: =L10+K10+J10 -> 1743 | S10: =+IFERROR(IF(P10*Q10<0,"n.m.",IF(P10/Q10-1>100%,">100%",P10/Q10-1)),"n.m.") -> 0.028686173
C12: iBasis | D12: =Revenues!D12-'Opex (excl. D&A)'!D12 -> 6 | E12: =Revenues!E12-'Opex (excl. D&A)'!E12 -> 6 | F12: =Revenues!F12-'Opex (excl. D&A)'!F12 -> 6 | H12: =+L12+K12+J12+I12 -> 23 | I12: =Revenues!I12-'Opex (excl. D&A)'!I12 -> 6 | J12: =+Revenues!J12-'Opex (excl. D&A)'!J12 -> 6 | K12: =+Revenues!K12-'Opex (excl. D&A)'!K12 -> 6 | L12: =+Revenues!L12-'Opex (excl. D&A)'!L12 -> 5 | N12: =+IFERROR(IF(D12*J12<0,"n.m.",IF(D12/J12-1>100%,">100%",D12/J12-1)),"n.m.") -> 0 | P12: =F12+E12+D12 -> 18 | Q12: =L12+K12+J12 -> 17 | S12: =+IFERROR(IF(P12*Q12<0,"n.m.",IF(P12/Q12-1>100%,">100%",P12/Q12-1)),"n.m.") -> 0.058823529
C14: Other activities | D14: =Revenues!D14-'Opex (excl. D&A)'!D14 -> -2 | E14: =Revenues!E14-'Opex (excl. D&A)'!E14 -> -1 | F14: =Revenues!F14-'Opex (excl. D&A)'!F14 -> -5 | H14: =+L14+K14+J14+I14 -> 0 | I14: =Revenues!I14-'Opex (excl. D&A)'!I14 -> 14 | J14: =+Revenues!J14-'Opex (excl. D&A)'!J14 -> -10 | K14: =+Revenues!K14-'Opex (excl. D&A)'!K14 -> -5 | L14: =+Revenues!L14-'Opex (excl. D&A)'!L14 -> 1 | N14: =+IFERROR(IF(D14*J14<0,"n.m.",IF(D14/J14-1>100%,">100%",D14/J14-1)),"n.m.") -> -0.8 | P14: =F14+E14+D14 -> -8 | Q14: =L14+K14+J14 -> -14 | S14: =+IFERROR(IF(P14*Q14<0,"n.m.",IF(P14/Q14-1>100%,">100%",P14/Q14-1)),"n.m.") -> -0.42857143
C16: Total EBITDA (reported) | D16: =D10+D12+D14 -> 665 | E16: =E10+E12+E14 -> 579 | F16: =F10+F12+F14 -> 559 | H16: =H10+H12+H14 -> 2324 | I16: =I10+I12+I14 -> 578 | J16: =J10+J12+J14 -> 602 | K16: =K10+K12+K14 -> 568 | L16: =L10+L12+L14 -> 576 | N16: =+IFERROR(IF(D16*J16<0,"n.m.",IF(D16/J16-1>100%,">100%",D16/J16-1)),"n.m.") -> 0.10465116 | P16: =F16+E16+D16 -> 1803 | Q16: =L16+K16+J16 -> 1746 | S16: =+IFERROR(IF(P16*Q16<0,"n.m.",IF(P16/Q16-1>100%,">100%",P16/Q16-1)),"n.m.") -> 0.032646048
C21: Consolidated figures | D21: Q3 '16 | E21: =E2 -> Q2 '16 | F21: =F2 -> Q1 '16 | H21: =H2 -> 2015 | I21: Q4 '15 | J21: =+J2 -> Q3 '15 | K21: =+K2 -> Q2 '15 | L21: =+L2 -> Q1 '15 | N21: =+N2 -> y-on-y | P21: YTD '16 | Q21: YTD '15 | S21: y-on-y
C22: Adjusted EBITDA | N22: =+N3 -> Q3% | S22: YTD%
C24: Consumer (contribution margin) | D24: ='Growth analysis Q3'!G26 -> 498 | E24: ='Growth analysis Q2'!G26 -> 450 | F24: ='Growth analysis Q1'!G26 -> 450 | H24: =+L24+K24+J24+I24 -> 1809 | I24: =+'Growth analysis Q4'!L26 -> 434 | J24: =+'Growth analysis Q3'!L26 -> 482 | K24: =+'Growth analysis Q2'!L26 -> 461 | L24: =+'Growth analysis Q1'!L26 -> 432 | N24: =+IFERROR(IF(D24*J24<0,"n.m.",IF(D24/J24-1>100%,">100%",D24/J24-1)),"n.m.") -> 0.033195021 | P24: =F24+E24+D24 -> 1398 | Q24: =L24+K24+J24 -> 1375 | S24: =+IFERROR(IF(P24*Q24<0,"n.m.",IF(P24/Q24-1>100%,">100%",P24/Q24-1)),"n.m.") -> 0.016727273
C25: Business (contribution margin) | D25: ='Growth analysis Q3'!G27 -> 348 | E25: ='Growth analysis Q2'!G27 -> 347 | F25: ='Growth analysis Q1'!G27 -> 355 | H25: =+L25+K25+J25+I25 -> 1515 | I25: =+'Growth analysis Q4'!L27 -> 370 | J25: =+'Growth analysis Q3'!L27 -> 385 | K25: =+'Growth analysis Q2'!L27 -> 374 | L25: =+'Growth analysis Q1'!L27 -> 386 | N25: =+IFERROR(IF(D25*J25<0,"n.m.",IF(D25/J25-1>100%,">100%",D25/J25-1)),"n.m.") -> -0.096103896 | P25: =F25+E25+D25 -> 1050 | Q25: =L25+K25+J25 -> 1145 | S25: =+IFERROR(IF(P25*Q25<0,"n.m.",IF(P25/Q25-1>100%,">100%",P25/Q25-1)),"n.m.") -> -0.082969432
C26: Wholesale (contribution margin) | D26: ='Growth analysis Q3'!G28 -> 127 | E26: ='Growth analysis Q2'!G28 -> 128 | F26: ='Growth analysis Q1'!G28 -> 125 | H26: =+L26+K26+J26+I26 -> 498 | I26: =+'Growth analysis Q4'!L28 -> 124 | J26: =+'Growth analysis Q3'!L28 -> 124 | K26: =+'Growth analysis Q2'!L28 -> 125 | L26: =+'Growth analysis Q1'!L28 -> 125 | N26: =+IFERROR(IF(D26*J26<0,"n.m.",IF(D26/J26-1>100%,">100%",D26/J26-1)),"n.m.") -> 0.024193548 | P26: =F26+E26+D26 -> 380 | Q26: =L26+K26+J26 -> 374 | S26: =+IFERROR(IF(P26*Q26<0,"n.m.",IF(P26/Q26-1>100%,">100%",P26/Q26-1)),"n.m.") -> 0.016042781
C27: Network, Operations & IT (cost center) | D27: ='Growth analysis Q3'!G29 -> -257 | E27: ='Growth analysis Q2'!G29 -> -276 | F27: ='Growth analysis Q1'!G29 -> -305 | H27: =+L27+K27+J27+I27 -> -1177 | I27: =+'Growth analysis Q4'!L29 -> -295 | J27: =+'Growth analysis Q3'!L29 -> -294 | K27: =+'Growth analysis Q2'!L29 -> -291 | L27: =+'Growth analysis Q1'!L29 -> -297 | N27: =+IFERROR(IF(D27*J27<0,"n.m.",IF(D27/J27-1>100%,">100%",D27/J27-1)),"n.m.") -> -0.12585034 | P27: =F27+E27+D27 -> -838 | Q27: =L27+K27+J27 -> -882 | S27: =+IFERROR(IF(P27*Q27<0,"n.m.",IF(P27/Q27-1>100%,">100%",P27/Q27-1)),"n.m.") -> -0.049886621
C28: Other (incl. eliminations) | D28: ='Growth analysis Q3'!G30 -> -59 | E28: ='Growth analysis Q2'!G30 -> -62 | F28: ='Growth analysis Q1'!G30 -> -60 | H28: =+L28+K28+J28+I28 -> -264 | I28: =+'Growth analysis Q4'!L30 -> -66 | J28: =+'Growth analysis Q3'!L30 -> -67 | K28: =+'Growth analysis Q2'!L30 -> -70 | L28: =+'Growth analysis Q1'!L30 -> -61 | N28: =+IFERROR(IF(D28*J28<0,"n.m.",IF(D28/J28-1>100%,">100%",D28/J28-1)),"n.m.") -> -0.11940299 | P28: =F28+E28+D28 -> -181 | Q28: =L28+K28+J28 -> -198 | S28: =+IFERROR(IF(P28*Q28<0,"n.m.",IF(P28/Q28-1>100%,">100%",P28/Q28-1)),"n.m.") -> -0.085858586
C29: The Netherlands | D29: ='Growth analysis Q3'!G31 -> 657 | E29: ='Growth analysis Q2'!G31 -> 587 | F29: ='Growth analysis Q1'!G31 -> 565 | H29: =+L29+K29+J29+I29 -> 2381 | I29: =+'Growth analysis Q4'!L31 -> 567 | J29: =+'Growth analysis Q3'!L31 -> 630 | K29: =+'Growth analysis Q2'!L31 -> 599 | L29: =+'Growth analysis Q1'!L31 -> 585 | N29: =+IFERROR(IF(D29*J29<0,"n.m.",IF(D29/J29-1>100%,">100%",D29/J29-1)),"n.m.") -> 0.042857143 | P29: =F29+E29+D29 -> 1809 | Q29: =L29+K29+J29 -> 1814 | S29: =+IFERROR(IF(P29*Q29<0,"n.m.",IF(P29/Q29-1>100%,">100%",P29/Q29-1)),"n.m.") -> -0.0027563396
C31: iBasis | D31: ='Growth analysis Q3'!G33 -> 6 | E31: ='Growth analysis Q2'!G33 -> 6 | F31: ='Growth analysis Q1'!G33 -> 6 | H31: =+L31+K31+J31+I31 -> 23 | I31: =+'Growth analysis Q4'!L33 -> 6 | J31: =+'Growth analysis Q3'!L33 -> 6 | K31: =+'Growth analysis Q2'!L33 -> 6 | L31: =+'Growth analysis Q1'!L33 -> 5 | N31: =+IFERROR(IF(D31*J31<0,"n.m.",IF(D31/J31-1>100%,">100%",D31/J31-1)),"n.m.") -> 0 | P31: =F31+E31+D31 -> 18 | Q31: =L31+K31+J31 -> 17 | S31: =+IFERROR(IF(P31*Q31<0,"n.m.",IF(P31/Q31-1>100%,">100%",P31/Q31-1)),"n.m.") -> 0.058823529
C33: Other activities | D33: ='Growth analysis Q3'!G35 -> -1 | E33: ='Growth analysis Q2'!G35 -> -1 | F33: ='Growth analysis Q1'!G35 -> -3 | H33: =+L33+K33+J33+I33 -> 15 | I33: =+'Growth analysis Q4'!L35 -> 9 | J33: =+'Growth analysis Q3'!L35 -> 4 | K33: =+'Growth analysis Q2'!L35 -> -3 | L33: =+'Growth analysis Q1'!L35 -> 5 | N33: =+IFERROR(IF(D33*J33<0,"n.m.",IF(D33/J33-1>100%,">100%",D33/J33-1)),"n.m.") -> n.m. | P33: =F33+E33+D33 -> -5 | Q33: =L33+K33+J33 -> 6 | S33: =+IFERROR(IF(P33*Q33<0,"n.m.",IF(P33/Q33-1>100%,">100%",P33/Q33-1)),"n.m.") -> n.m.
C35: Total adjusted EBITDA | D35: ='Growth analysis Q3'!G37 -> 662 | E35: ='Growth analysis Q2'!G37 -> 592 | F35: ='Growth analysis Q1'!G37 -> 568 | H35: =+L35+K35+J35+I35 -> 2419 | I35: =+'Growth analysis Q4'!L37 -> 582 | J35: =+'Growth analysis Q3'!L37 -> 640 | K35: =+'Growth analysis Q2'!L37 -> 602 | L35: =+'Growth analysis Q1'!L37 -> 595 | N35: =+IFERROR(IF(D35*J35<0,"n.m.",IF(D35/J35-1>100%,">100%",D35/J35-1)),"n.m.") -> 0.034375 | P35: =F35+E35+D35 -> 1822 | Q35: =L35+K35+J35 -> 1837 | S35: =+IFERROR(IF(P35*Q35<0,"n.m.",IF(P35/Q35-1>100%,">100%",P35/Q35-1)),"n.m.") -> -0.0081654872
C40: Consolidated figures | D40: Q3 '16 | E40: Q2 '16 | F40: Q1 '16 | H40: 2015 | I40: Q4 '15 | J40: Q3 '15 | K40: Q2 '15 | L40: Q1 '15 | P40: YTD '16 | Q40: YTD '15
C41: Adjusted EBITDA margin
C43: Consumer (contribution margin) | D43: =EBITDA!D24/Revenues!D26 -> 0.62094763 | E43: =EBITDA!E24/Revenues!E26 -> 0.58670143 | F43: =EBITDA!F24/Revenues!F26 -> 0.58365759 | H43: =EBITDA!H24/Revenues!H26 -> 0.58449111 | I43: =EBITDA!I24/Revenues!I26 -> 0.55569782 | J43: =EBITDA!J24/Revenues!J26 -> 0.61012658 | K43: =EBITDA!K24/Revenues!K26 -> 0.59560724 | L43: =EBITDA!L24/Revenues!L26 -> 0.576 | P43: =EBITDA!P24/Revenues!P26 -> 0.5974359 | Q43: =EBITDA!Q24/Revenues!Q26 -> 0.59420916
C44: Business (contribution margin) | D44: =EBITDA!D25/Revenues!D27 -> 0.6115993 | E44: =EBITDA!E25/Revenues!E27 -> 0.60558464 | F44: =EBITDA!F25/Revenues!F27 -> 0.60271647 | H44: =EBITDA!H25/Revenues!H27 -> 0.60794543 | I44: =EBITDA!I25/Revenues!I27 -> 0.58730159 | J44: =EBITDA!J25/Revenues!J27 -> 0.62908497 | K44: =EBITDA!K25/Revenues!K27 -> 0.60517799 | L44: =EBITDA!L25/Revenues!L27 -> 0.61075949 | P44: =EBITDA!P25/Revenues!P27 -> 0.60658579 | Q44: =EBITDA!Q25/Revenues!Q27 -> 0.61493018
C45: Wholesale (contribution margin) | D45: =EBITDA!D26/Revenues!D28 -> 0.67914439 | E45: =EBITDA!E26/Revenues!E28 -> 0.69565217 | F45: =EBITDA!F26/Revenues!F28 -> 0.69444444 | H45: =EBITDA!H26/Revenues!H28 -> 0.68219178 | I45: =EBITDA!I26/Revenues!I28 -> 0.68888889 | J45: =EBITDA!J26/Revenues!J28 -> 0.68131868 | K45: =EBITDA!K26/Revenues!K28 -> 0.67934783 | L45: =EBITDA!L26/Revenues!L28 -> 0.67934783 | P45: =EBITDA!P26/Revenues!P28 -> 0.68965517 | Q45: =EBITDA!Q26/Revenues!Q28 -> 0.68
C46: Network, Operations & IT (cost center) | D46: n.m. | E46: n.m. | F46: n.m. | H46: n.m. | I46: n.m. | J46: n.m. | K46: n.m. | L46: n.m. | P46: n.m. | Q46: n.m.
C47: Other (incl. eliminations) | D47: n.m. | E47: n.m. | F47: n.m. | H47: n.m. | I47: n.m. | J47: n.m. | K47: n.m. | L47: n.m. | P47: n.m. | Q47: n.m.
C48: The Netherlands | D48: =EBITDA!D29/Revenues!D31 -> 0.43280632 | E48: =EBITDA!E29/Revenues!E31 -> 0.39502019 | F48: =EBITDA!F29/Revenues!F31 -> 0.37591484 | H48: =EBITDA!H29/Revenues!H31 -> 0.38577447 | I48: =EBITDA!I29/Revenues!I31 -> 0.36604261 | J48: =EBITDA!J29/Revenues!J31 -> 0.40697674 | K48: =EBITDA!K29/Revenues!K31 -> 0.38845655 | L48: =EBITDA!L29/Revenues!L31 -> 0.3816047 | P48: =EBITDA!P29/Revenues!P31 -> 0.40137564 | Q48: =EBITDA!Q29/Revenues!Q31 -> 0.3923859
C50: iBasis | D50: =EBITDA!D31/Revenues!D33 -> 0.026785714 | E50: =EBITDA!E31/Revenues!E33 -> 0.027522936 | F50: =EBITDA!F31/Revenues!F33 -> 0.027906977 | H50: =EBITDA!H31/Revenues!H33 -> 0.025 | I50: =EBITDA!I31/Revenues!I33 -> 0.027522936 | J50: =EBITDA!J31/Revenues!J33 -> 0.024896266 | K50: =EBITDA!K31/Revenues!K33 -> 0.025641026 | L50: =EBITDA!L31/Revenues!L33 -> 0.022026432 | P50: =EBITDA!P31/Revenues!P33 -> 0.02739726 | Q50: =EBITDA!Q31/Revenues!Q33 -> 0.024216524
C52: Other activities | D52: n.m. | E52: n.m. | F52: n.m. | H52: n.m. | I52: n.m. | J52: n.m. | K52: n.m. | L52: n.m. | P52: n.m. | Q52: n.m.
C54: Total adjusted EBITDA margin | D54: =EBITDA!D35/Revenues!D39 -> 0.38690824 | E54: =EBITDA!E35/Revenues!E39 -> 0.35322196 | F54: =EBITDA!F35/Revenues!F39 -> 0.33629366 | H54: =H35/Revenues!H39 -> 0.3446851 | I54: =I35/Revenues!I39 -> 0.33352436 | J54: =J35/Revenues!J39 -> 0.36281179 | K54: =K35/Revenues!K39 -> 0.34380354 | L54: =L35/Revenues!L39 -> 0.33845279 | P54: =P35/Revenues!P39 -> 0.35894405 | Q54: =Q35/Revenues!Q39 -> 0.34837853

Sheet CF, Capex, BS & Debt sum
C2: Consolidated figures | D2: Q3 '16 | E2: Q2 '16 | F2: Q1 '16 | H2: =+EBITDA!H2 -> 2015 | I2: Q4 '15 | J2: =+EBITDA!J2 -> Q3 '15 | K2: =+EBITDA!K2 -> Q2 '15 | L2: =+EBITDA!L2 -> Q1 '15 | N2: =+EBITDA!N2 -> y-on-y | P2: YTD '16 | Q2: YTD '15 | S2: y-on-y
C3: Cash flow from continuing operations1 | N3: =+EBITDA!N3 -> Q3% | S3: YTD%
C5: Profit before income tax | D5: ='P&L & Cash flow'!D26 -> 47 | E5: ='P&L & Cash flow'!E26 -> 213 | F5: ='P&L & Cash flow'!F26 -> 60 | H5: =+L5+K5+J5+I5 -> 605 | I5: 288 | J5: 97 | K5: 188 | L5: 32 | N5: =+IFERROR(IF(D5*J5<0,"n.m.",IF(D5/J5-1>100%,">100%",D5/J5-1)),"n.m.") -> -0.51546392 | P5: =F5+E5+D5 -> 320 | Q5: =L5+K5+J5 -> 317 | S5: =+IFERROR(IF(P5*Q5<0,"n.m.",IF(P5/Q5-1>100%,">100%",P5/Q5-1)),"n.m.") -> 0.0094637224
C6: Net finance costs | D6: 246 | E6: -10 | F6: 82 | H6: =+L6+K6+J6+I6 -> 105 | I6: -127 | J6: 108 | K6: -19 | L6: 143 | N6: =+IFERROR(IF(D6*J6<0,"n.m.",IF(D6/J6-1>100%,">100%",D6/J6-1)),"n.m.") -> >100% | P6: =F6+E6+D6 -> 318 | Q6: =L6+K6+J6 -> 232 | S6: =+IFERROR(IF(P6*Q6<0,"n.m.",IF(P6/Q6-1>100%,">100%",P6/Q6-1)),"n.m.") -> 0.37068966
C7: Share of the profit of associates and joint ventures | D7: -1 | E7: 2 | F7: -1 | H7: =+L7+K7+J7+I7 -> -2 | I7: -1 | J7: -1 | K7: 0 | L7: 0 | N7: =+IFERROR(IF(D7*J7<0,"n.m.",IF(D7/J7-1>100%,">100%",D7/J7-1)),"n.m.") -> 0 | P7: =F7+E7+D7 -> 0 | Q7: =L7+K7+J7 -> -1 | S7: =+IFERROR(IF(P7*Q7<0,"n.m.",IF(P7/Q7-1>100%,">100%",P7/Q7-1)),"n.m.") -> -1
C9: Adjustments for:
C10: Depreciation, amortization and impairments | D10: 373 | E10: 374 | F10: 418 | H10: =+L10+K10+J10+I10 -> 1616 | I10: 418 | J10: 398 | K10: 399 | L10: 401 | N10: =+IFERROR(IF(D10*J10<0,"n.m.",IF(D10/J10-1>100%,">100%",D10/J10-1)),"n.m.") -> -0.06281407 | P10: =F10+E10+D10 -> 1165 | Q10: =L10+K10+J10 -> 1198 | S10: =+IFERROR(IF(P10*Q10<0,"n.m.",IF(P10/Q10-1>100%,">100%",P10/Q10-1)),"n.m.") -> -0.02754591
C11: Share-based compensation | D11: 2 | E11: 2 | F11: 0 | H11: =+L11+K11+J11+I11 -> 8 | I11: 0 | J11: 3 | K11: 3 | L11: 2 | N11: =+IFERROR(IF(D11*J11<0,"n.m.",IF(D11/J11-1>100%,">100%",D11/J11-1)),"n.m.") -> -0.33333333 | P11: =F11+E11+D11 -> 4 | Q11: =L11+K11+J11 -> 8 | S11: =+IFERROR(IF(P11*Q11<0,"n.m.",IF(P11/Q11-1>100%,">100%",P11/Q11-1)),"n.m.") -> -0.5
C12: Other income | D12: -10 | E12: -8 | F12: 0 | H12: =+L12+K12+J12+I12 -> -2 | I12: 0 | J12: 0 | K12: 0 | L12: -2 | N12: =+IFERROR(IF(D12*J12<0,"n.m.",IF(D12/J12-1>100%,">100%",D12/J12-1)),"n.m.") -> n.m. | P12: =F12+E12+D12 -> -18 | Q12: =L12+K12+J12 -> -2 | S12: =+IFERROR(IF(P12*Q12<0,"n.m.",IF(P12/Q12-1>100%,">100%",P12/Q12-1)),"n.m.") -> >100%
C13: Change in provisions2 | D13: -15 | E13: -7 | F13: -27 | H13: =+L13+K13+J13+I13 -> -44 | I13: -43 | J13: 9 | K13: -9 | L13: -1 | N13: =+IFERROR(IF(D13*J13<0,"n.m.",IF(D13/J13-1>100%,">100%",D13/J13-1)),"n.m.") -> n.m. | P13: =F13+E13+D13 -> -49 | Q13: =L13+K13+J13 -> -1 | S13: =+IFERROR(IF(P13*Q13<0,"n.m.",IF(P13/Q13-1>100%,">100%",P13/Q13-1)),"n.m.") -> >100%
C15: Inventories | D15: 0 | E15: 8 | F15: 0 | H15: =+L15+K15+J15+I15 -> -12 | I15: -15 | J15: 8 | K15: 6 | L15: -11 | N15: =+IFERROR(IF(D15*J15<0,"n.m.",IF(D15/J15-1>100%,">100%",D15/J15-1)),"n.m.") -> -1 | P15: =F15+E15+D15 -> 8 | Q15: =L15+K15+J15 -> 3 | S15: =+IFERROR(IF(P15*Q15<0,"n.m.",IF(P15/Q15-1>100%,">100%",P15/Q15-1)),"n.m.") -> >100%
C16: Trade receivables | D16: 4 | E16: 7 | F16: 11 | H16: =+L16+K16+J16+I16 -> 63 | I16: 16 | J16: 39 | K16: 11 | L16: -3 | N16: =+IFERROR(IF(D16*J16<0,"n.m.",IF(D16/J16-1>100%,">100%",D16/J16-1)),"n.m.") -> -0.8974359 | P16: =F16+E16+D16 -> 22 | Q16: =L16+K16+J16 -> 47 | S16: =+IFERROR(IF(P16*Q16<0,"n.m.",IF(P16/Q16-1>100%,">100%",P16/Q16-1)),"n.m.") -> -0.53191489
C17: Prepayments and accrued income | D17: 0 | E17: 2 | F17: -36 | H17: =+L17+K17+J17+I17 -> 53 | I17: 58 | J17: -5 | K17: 34 | L17: -34 | N17: =+IFERROR(IF(D17*J17<0,"n.m.",IF(D17/J17-1>100%,">100%",D17/J17-1)),"n.m.") -> -1 | P17: =F17+E17+D17 -> -34 | Q17: =L17+K17+J17 -> -5 | S17: =+IFERROR(IF(P17*Q17<0,"n.m.",IF(P17/Q17-1>100%,">100%",P17/Q17-1)),"n.m.") -> >100%
C18: Other current assets | D18: 0 | E18: 0 | F18: 0 | H18: =+L18+K18+J18+I18 -> 18 | I18: 5 | J18: 3 | K18: 4 | L18: 6 | N18: =+IFERROR(IF(D18*J18<0,"n.m.",IF(D18/J18-1>100%,">100%",D18/J18-1)),"n.m.") -> -1 | P18: =F18+E18+D18 -> 0 | Q18: =L18+K18+J18 -> 13 | S18: =+IFERROR(IF(P18*Q18<0,"n.m.",IF(P18/Q18-1>100%,">100%",P18/Q18-1)),"n.m.") -> -1
C19: Trade payables | D19: -77 | E19: 42 | F19: -147 | H19: =+L19+K19+J19+I19 -> 63 | I19: 84 | J19: -36 | K19: -31 | L19: 46 | N19: =+IFERROR(IF(D19*J19<0,"n.m.",IF(D19/J19-1>100%,">100%",D19/J19-1)),"n.m.") -> >100% | P19: =F19+E19+D19 -> -182 | Q19: =L19+K19+J19 -> -21 | S19: =+IFERROR(IF(P19*Q19<0,"n.m.",IF(P19/Q19-1>100%,">100%",P19/Q19-1)),"n.m.") -> >100%
C20: Accruals and deferred income | D20: -34 | E20: -131 | F20: 105 | H20: =+L20+K20+J20+I20 -> -145 | I20: -73 | J20: -15 | K20: -89 | L20: 32 | N20: =+IFERROR(IF(D20*J20<0,"n.m.",IF(D20/J20-1>100%,">100%",D20/J20-1)),"n.m.") -> >100% | P20: =F20+E20+D20 -> -60 | Q20: =L20+K20+J20 -> -72 | S20: =+IFERROR(IF(P20*Q20<0,"n.m.",IF(P20/Q20-1>100%,">100%",P20/Q20-1)),"n.m.") -> -0.16666667
C21: Current liabilities (excl. short-term financing) | D21: 4 | E21: 5 | F21: -11 | H21: =+L21+K21+J21+I21 -> -10 | I21: 6 | J21: 24 | K21: -25 | L21: -15 | N21: =+IFERROR(IF(D21*J21<0,"n.m.",IF(D21/J21-1>100%,">100%",D21/J21-1)),"n.m.") -> -0.83333333 | P21: =F21+E21+D21 -> -2 | Q21: =L21+K21+J21 -> -16 | S21: =+IFERROR(IF(P21*Q21<0,"n.m.",IF(P21/Q21-1>100%,">100%",P21/Q21-1)),"n.m.") -> -0.875
C22: Change in working capital2 | D22: =D15+D16+D17+D18+D19+D20+D21 -> -103 | E22: =E15+E16+E17+E18+E19+E20+E21 -> -67 | F22: =F15+F16+F17+F18+F19+F20+F21 -> -78 | H22: =+L22+K22+J22+I22 -> 30 | I22: =+I15+I16+I17+I18+I19+I20+I21 -> 81 | J22: =+J15+J16+J17+J18+J19+J20+J21 -> 18 | K22: =+K15+K16+K17+K18+K19+K20+K21 -> -90 | L22: =+L15+L16+L17+L18+L19+L20+L21 -> 21 | N22: =+IFERROR(IF(D22*J22<0,"n.m.",IF(D22/J22-1>100%,">100%",D22/J22-1)),"n.m.") -> n.m. | P22: =F22+E22+D22 -> -248 | Q22: =L22+K22+J22 -> -51 | S22: =+IFERROR(IF(P22*Q22<0,"n.m.",IF(P22/Q22-1>100%,">100%",P22/Q22-1)),"n.m.") -> >100%
C24: Received dividends | D24: 0 | E24: 110 | F24: 0 | H24: =+L24+K24+J24+I24 -> 147 | I24: 1 | J24: 0 | K24: 146 | L24: 0 | N24: =+IFERROR(IF(D24*J24<0,"n.m.",IF(D24/J24-1>100%,">100%",D24/J24-1)),"n.m.") -> n.m. | P24: =F24+E24+D24 -> 110 | Q24: =L24+K24+J24 -> 146 | S24: =+IFERROR(IF(P24*Q24<0,"n.m.",IF(P24/Q24-1>100%,">100%",P24/Q24-1)),"n.m.") -> -0.24657534
C25: Taxes received (paid) | D25: 0 | E25: -6 | F25: 50 | H25: =+L25+K25+J25+I25 -> 18 | I25: 31 | J25: -1 | K25: -2 | L25: -10 | N25: =+IFERROR(IF(D25*J25<0,"n.m.",IF(D25/J25-1>100%,">100%",D25/J25-1)),"n.m.") -> -1 | P25: =F25+E25+D25 -> 44 | Q25: =L25+K25+J25 -> -13 | S25: =+IFERROR(IF(P25*Q25<0,"n.m.",IF(P25/Q25-1>100%,">100%",P25/Q25-1)),"n.m.") -> n.m.
C26: Interest received (paid) | D26: -136 | E26: -37 | F26: -226 | H26: =+L26+K26+J26+I26 -> -485 | I26: -71 | J26: -113 | K26: -79 | L26: -222 | N26: =+IFERROR(IF(D26*J26<0,"n.m.",IF(D26/J26-1>100%,">100%",D26/J26-1)),"n.m.") -> 0.20353982 | P26: =F26+E26+D26 -> -399 | Q26: =L26+K26+J26 -> -414 | S26: =+IFERROR(IF(P26*Q26<0,"n.m.",IF(P26/Q26-1>100%,">100%",P26/Q26-1)),"n.m.") -> -0.036231884
C27: Net cash flow from continuing operating activities | D27: =D5+D6+D7+D10+D11+D12+D13+D22+D24+D25+D26 -> 403 | E27: =E5+E6+E7+E10+E11+E12+E13+E22+E24+E25+E26 -> 566 | F27: =F5+F6+F7+F10+F11+F12+F13+F22+F24+F25+F26 -> 278 | H27: =+L27+K27+J27+I27 -> 1996 | I27: =+I24+I25+I26+I22+I5+I6+I7+I10+I11+I12+I13 -> 577 | J27: =+J24+J25+J26+J22+J5+J6+J7+J10+J11+J12+J13 -> 518 | K27: =+K24+K25+K26+K22+K5+K6+K7+K10+K11+K12+K13 -> 537 | L27: =+L24+L25+L26+L22+L5+L6+L7+L10+L11+L12+L13 -> 364 | N27: =+IFERROR(IF(D27*J27<0,"n.m.",IF(D27/J27-1>100%,">100%",D27/J27-1)),"n.m.") -> -0.22200772 | P27: =F27+E27+D27 -> 1247 | Q27: =L27+K27+J27 -> 1419 | S27: =+IFERROR(IF(P27*Q27<0,"n.m.",IF(P27/Q27-1>100%,">100%",P27/Q27-1)),"n.m.") -> -0.12121212
C28: Net cash flow from discontinued operating activities | D28: 0 | E28: -1 | F28: -2 | H28: =+L28+K28+J28+I28 -> 222 | I28: 117 | J28: 51 | K28: 29 | L28: 25 | N28: =+IFERROR(IF(D28*J28<0,"n.m.",IF(D28/J28-1>100%,">100%",D28/J28-1)),"n.m.") -> -1 | P28: =F28+E28+D28 -> -3 | Q28: =L28+K28+J28 -> 105 | S28: =+IFERROR(IF(P28*Q28<0,"n.m.",IF(P28/Q28-1>100%,">100%",P28/Q28-1)),"n.m.") -> n.m.
C30: Disposal of available-for-sale financial assets | D30: 0 | E30: 0 | F30: 0 | H30: =+L30+K30+J30+I30 -> 805 | I30: 805 | J30: 0 | K30: 0 | L30: 0 | N30: =+IFERROR(IF(D30*J30<0,"n.m.",IF(D30/J30-1>100%,">100%",D30/J30-1)),"n.m.") -> n.m. | P30: =F30+E30+D30 -> 0 | Q30: =L30+K30+J30 -> 0 | S30: =+IFERROR(IF(P30*Q30<0,"n.m.",IF(P30/Q30-1>100%,">100%",P30/Q30-1)),"n.m.") -> n.m.
C31: Acquisitions of subsidiaries, associates and joint ventures | D31: -12 | E31: -83 | F31: -6 | H31: =+L31+K31+J31+I31 -> -73 | I31: -5 | J31: -68 | K31: 0 | L31: 0 | N31: =+IFERROR(IF(D31*J31<0,"n.m.",IF(D31/J31-1>100%,">100%",D31/J31-1)),"n.m.") -> -0.82352941 | P31: =F31+E31+D31 -> -101 | Q31: =L31+K31+J31 -> -68 | S31: =+IFERROR(IF(P31*Q31<0,"n.m.",IF(P31/Q31-1>100%,">100%",P31/Q31-1)),"n.m.") -> 0.48529412
C32: Disposal of subsidiaries, associates and joint ventures | D32: 0 | E32: 31 | F32: 0 | H32: =+L32+K32+J32+I32 -> -1 | I32: 0 | J32: 4 | K32: 0 | L32: -5 | N32: =+IFERROR(IF(D32*J32<0,"n.m.",IF(D32/J32-1>100%,">100%",D32/J32-1)),"n.m.") -> -1 | P32: =F32+E32+D32 -> 31 | Q32: =L32+K32+J32 -> -1 | S32: =+IFERROR(IF(P32*Q32<0,"n.m.",IF(P32/Q32-1>100%,">100%",P32/Q32-1)),"n.m.") -> n.m.
