Workbook

Sheet Index
C9: Facts and figures Q4 2015
C10: Results and KPIs for the period ending 31 December 2015
C11: (in millions of euro unless indicated otherwise)
C13: Index of sheets
C14: - | E14: P&L & Cash flow
C15: - | E15: Revenues
C16: - | E16: Expenses
C17: - | E17: Profit & Margin
C18: - | E18: Cash flow statement, Capex, Balance sheet & Debt summary
C19: - | E19: FTE & Regulation
C20: - | E20: Growth analysis (Q4, FY, Q1, Q2, Q3)
C21: - | E21: KPN The Netherlands: Consumer Mobile KPIs
C22: - | E22: KPN The Netherlands: Consumer Residential KPIs
C23: - | E23: KPN The Netherlands: Business KPIs
C24: - | E24: KPN The Netherlands: NetCo KPIs
C25: - | E25: iBasis KPIs
... C27: - | E27: Bond overview
C29: For further information please contact
C30: KPN Investor Relations
C31: Phone | F31: +31 70 44 60986
C34: ir@kpn.com
C35: www.kpn.com/ir

Sheet P&L & Cash flow
C2: Consolidated figures | D2: 2015 | E2: Q4 '15 | F2: Q3 '15 | G2: Q2 '15 | H2: Q1 '15 | J2: 2014 | K2: Q4 '14 | L2: Q3 '14 | M2: Q2 '14 | N2: Q1 '14 | P2: y-on-y | S2: =P2 -> y-on-y
C3: Income statement from continuing operations1 | P3: Q4% | S3: FY%
C5: Revenues | D5: =H5+G5+F5+E5 -> 7008 | E5: 1745 | F5: 1764 | G5: 1741 | H5: 1758 | J5: =+N5+M5+L5+K5 -> 7409 | K5: 1933 | L5: 1811 | M5: 1835 | N5: 1830 | P5: =+IFERROR(IF(E5*K5<0,"n.m.",IF(E5/K5-1>100%,">100%",E5/K5-1)),"n.m.") -> -0.097258148 | S5: =+IFERROR(IF(D5*J5<0,"n.m.",IF(D5/J5-1>100%,">100%",D5/J5-1)),"n.m.") -> -0.054123363
C6: Adjusted revenues | D6: =H6+G6+F6+E6 -> 7018 | E6: 1745 | F6: =+'Growth analysis Q3'!G24 -> 1764 | G6: =+'Growth analysis Q2'!G24 -> 1751 | H6: =+'Growth analysis Q1'!G24 -> 1758 | J6: =+N6+M6+L6+K6 -> 7352 | K6: =+'Growth analysis Q4'!L24 -> 1898 | L6: =+'Growth analysis Q3'!L24 -> 1811 | M6: =+'Growth analysis Q2'!L24 -> 1820 | N6: =+'Growth analysis Q1'!L24 -> 1823 | P6: =+IFERROR(IF(E6*K6<0,"n.m.",IF(E6/K6-1>100%,">100%",E6/K6-1)),"n.m.") -> -0.08061117 | S6: =+IFERROR(IF(D6*J6<0,"n.m.",IF(D6/J6-1>100%,">100%",D6/J6-1)),"n.m.") -> -0.045429815
C8: Employee benefits2 | D8: =H8+G8+F8+E8 -> 1107 | E8: 254 | F8: 263 | G8: 285 | H8: 305 | J8: =+N8+M8+L8+K8 -> 731 | K8: 284 | L8: 294 | M8: -151 | N8: 304 | P8: =+IFERROR(IF(E8*K8<0,"n.m.",IF(E8/K8-1>100%,">100%",E8/K8-1)),"n.m.") -> -0.1056338 | S8: =+IFERROR(IF(D8*J8<0,"n.m.",IF(D8/J8-1>100%,">100%",D8/J8-1)),"n.m.") -> 0.51436389
C9: Cost of materials | D9: =H9+G9+F9+E9 -> 680 | E9: 195 | F9: 160 | G9: 162 | H9: 163 | J9: =+N9+M9+L9+K9 -> 683 | K9: 194 | L9: 160 | M9: 164 | N9: 165 | P9: =+IFERROR(IF(E9*K9<0,"n.m.",IF(E9/K9-1>100%,">100%",E9/K9-1)),"n.m.") -> 0.0051546392 | S9: =+IFERROR(IF(D9*J9<0,"n.m.",IF(D9/J9-1>100%,">100%",D9/J9-1)),"n.m.") -> -0.0043923865
C10: Work contracted out and other expenses | D10: =H10+G10+F10+E10 -> 2662 | E10: 669 | F10: 678 | G10: 660 | H10: 655 | J10: =+N10+M10+L10+K10 -> 2852 | K10: 713 | L10: 710 | M10: 703 | N10: 726 | P10: =+IFERROR(IF(E10*K10<0,"n.m.",IF(E10/K10-1>100%,">100%",E10/K10-1)),"n.m.") -> -0.06171108 | S10: =+IFERROR(IF(D10*J10<0,"n.m.",IF(D10/J10-1>100%,">100%",D10/J10-1)),"n.m.") -> -0.066619916
C11: Own work capitalized | D11: =H11+G11+F11+E11 -> -90 | E11: -24 | F11: -22 | G11: -21 | H11: -23 | J11: =+N11+M11+L11+K11 -> -81 | K11: -25 | L11: -17 | M11: -21 | N11: -18 | P11: =+IFERROR(IF(E11*K11<0,"n.m.",IF(E11/K11-1>100%,">100%",E11/K11-1)),"n.m.") -> -0.04 | S11: =+IFERROR(IF(D11*J11<0,"n.m.",IF(D11/J11-1>100%,">100%",D11/J11-1)),"n.m.") -> 0.11111111
C12: Other operating expenses | D12: =H12+G12+F12+E12 -> 325 | E12: 73 | F12: 83 | G12: 87 | H12: 82 | J12: =+N12+M12+L12+K12 -> 358 | K12: 111 | L12: 69 | M12: 110 | N12: 68 | P12: =+IFERROR(IF(E12*K12<0,"n.m.",IF(E12/K12-1>100%,">100%",E12/K12-1)),"n.m.") -> -0.34234234 | S12: =+IFERROR(IF(D12*J12<0,"n.m.",IF(D12/J12-1>100%,">100%",D12/J12-1)),"n.m.") -> -0.092178771
C13: Operating expenses (excl. D&A) | D13: =H13+G13+F13+E13 -> 4684 | E13: =+E8+E9+E10+E11+E12 -> 1167 | F13: =+F8+F9+F10+F11+F12 -> 1162 | G13: =+G8+G9+G10+G11+G12 -> 1173 | H13: =+H8+H9+H10+H11+H12 -> 1182 | J13: =+N13+M13+L13+K13 -> 4543 | K13: =+K8+K9+K10+K11+K12 -> 1277 | L13: =+L8+L9+L10+L11+L12 -> 1216 | M13: =+M8+M9+M10+M11+M12 -> 805 | N13: =+N8+N9+N10+N11+N12 -> 1245 | P13: =+IFERROR(IF(E13*K13<0,"n.m.",IF(E13/K13-1>100%,">100%",E13/K13-1)),"n.m.") -> -0.086139389 | S13: =+IFERROR(IF(D13*J13<0,"n.m.",IF(D13/J13-1>100%,">100%",D13/J13-1)),"n.m.") -> 0.03103676
C15: EBITDA | D15: =H15+G15+F15+E15 -> 2324 | E15: =+E5-E13 -> 578 | F15: =+F5-F13 -> 602 | G15: =+G5-G13 -> 568 | H15: =+H5-H13 -> 576 | J15: =+N15+M15+L15+K15 -> 2866 | K15: =+K5-K13 -> 656 | L15: =+L5-L13 -> 595 | M15: =+M5-M13 -> 1030 | N15: =+N5-N13 -> 585 | P15: =+IFERROR(IF(E15*K15<0,"n.m.",IF(E15/K15-1>100%,">100%",E15/K15-1)),"n.m.") -> -0.11890244 | S15: =+IFERROR(IF(D15*J15<0,"n.m.",IF(D15/J15-1>100%,">100%",D15/J15-1)),"n.m.") -> -0.18911375
C16: Adjusted EBITDA | D16: =H16+G16+F16+E16 -> 2419 | E16: 582 | F16: 640 | G16: 602 | H16: =+'Growth analysis Q1'!G49 -> 595 | J16: =+N16+M16+L16+K16 -> 2417 | K16: =+'Growth analysis Q4'!L49 -> 630 | L16: =+'Growth analysis Q3'!L49 -> 612 | M16: =+'Growth analysis Q2'!L49 -> 593 | N16: =+'Growth analysis Q1'!L49 -> 582 | P16: =+IFERROR(IF(E16*K16<0,"n.m.",IF(E16/K16-1>100%,">100%",E16/K16-1)),"n.m.") -> -0.076190476 | S16: =+IFERROR(IF(D16*J16<0,"n.m.",IF(D16/J16-1>100%,">100%",D16/J16-1)),"n.m.") -> 0.00082747207
C18: Depreciation | D18: =H18+G18+F18+E18 -> 1105 | E18: 282 | F18: 276 | G18: 274 | H18: 273 | J18: =+N18+M18+L18+K18 -> 1129 | K18: 285 | L18: 270 | M18: 292 | N18: 282 | P18: =+IFERROR(IF(E18*K18<0,"n.m.",IF(E18/K18-1>100%,">100%",E18/K18-1)),"n.m.") -> -0.010526316 | S18: =+IFERROR(IF(D18*J18<0,"n.m.",IF(D18/J18-1>100%,">100%",D18/J18-1)),"n.m.") -> -0.02125775
C19: Amortization | D19: =H19+G19+F19+E19 -> 511 | E19: 136 | F19: 122 | G19: 125 | H19: 128 | J19: =+N19+M19+L19+K19 -> 525 | K19: 136 | L19: 132 | M19: 130 | N19: 127 | P19: =+IFERROR(IF(E19*K19<0,"n.m.",IF(E19/K19-1>100%,">100%",E19/K19-1)),"n.m.") -> 0 | S19: =+IFERROR(IF(D19*J19<0,"n.m.",IF(D19/J19-1>100%,">100%",D19/J19-1)),"n.m.") -> -0.026666667
C20: Total operating expenses | D20: =H20+G20+F20+E20 -> 6300 | E20: =E8+E9+E10+E11+E12+E18+E19 -> 1585 | F20: =F8+F9+F10+F11+F12+F18+F19 -> 1560 | G20: =G8+G9+G10+G11+G12+G18+G19 -> 1572 | H20: =H8+H9+H10+H11+H12+H18+H19 -> 1583 | J20: =+N20+M20+L20+K20 -> 6197 | K20: =K8+K9+K10+K11+K12+K18+K19 -> 1698 | L20: =L8+L9+L10+L11+L12+L18+L19 -> 1618 | M20: =M8+M9+M10+M11+M12+M18+M19 -> 1227 | N20: =N8+N9+N10+N11+N12+N18+N19 -> 1654 | P20: =+IFERROR(IF(E20*K20<0,"n.m.",IF(E20/K20-1>100%,">100%",E20/K20-1)),"n.m.") -> -0.066548881 | S20: =+IFERROR(IF(D20*J20<0,"n.m.",IF(D20/J20-1>100%,">100%",D20/J20-1)),"n.m.") -> 0.016620946
C22: Operating profit | D22: =H22+G22+F22+E22 -> 708 | E22: =E5-E20 -> 160 | F22: =F5-F20 -> 204 | G22: =G5-G20 -> 169 | H22: =H5-H20 -> 175 | J22: =+N22+M22+L22+K22 -> 1212 | K22: =K5-K20 -> 235 | L22: =L5-L20 -> 193 | M22: =M5-M20 -> 608 | N22: =N5-N20 -> 176 | P22: =+IFERROR(IF(E22*K22<0,"n.m.",IF(E22/K22-1>100%,">100%",E22/K22-1)),"n.m.") -> -0.31914894 | S22: =+IFERROR(IF(D22*J22<0,"n.m.",IF(D22/J22-1>100%,">100%",D22/J22-1)),"n.m.") -> -0.41584158
C24: Finance costs - net | D24: =H24+G24+F24+E24 -> -105 | E24: 127 | F24: -108 | G24: 19 | H24: -143 | J24: =+N24+M24+L24+K24 -> -901 | K24: -328 | L24: -253 | M24: -162 | N24: -158 | P24: =+IFERROR(IF(E24*K24<0,"n.m.",IF(E24/K24-1>100%,">100%",E24/K24-1)),"n.m.") -> n.m. | S24: =+IFERROR(IF(D24*J24<0,"n.m.",IF(D24/J24-1>100%,">100%",D24/J24-1)),"n.m.") -> -0.88346282
C25: Share of the profit of associates and joint ventures | D25: =H25+G25+F25+E25 -> 2 | E25: 1 | F25: 1 | G25: 0 | H25: 0 | J25: =+N25+M25+L25+K25 -> -5 | K25: -1 | L25: -3 | M25: -1 | N25: 0 | P25: =+IFERROR(IF(E25*K25<0,"n.m.",IF(E25/K25-1>100%,">100%",E25/K25-1)),"n.m.") -> n.m. | S25: =+IFERROR(IF(D25*J25<0,"n.m.",IF(D25/J25-1>100%,">100%",D25/J25-1)),"n.m.") -> n.m.
C27: Profit before income tax | D27: =H27+G27+F27+E27 -> 605 | E27: =E22+E24+E25 -> 288 | F27: =F22+F24+F25 -> 97 | G27: =G22+G24+G25 -> 188 | H27: =H22+H24+H25 -> 32 | J27: =+N27+M27+L27+K27 -> 306 | K27: =K22+K24+K25 -> -94 | L27: =L22+L24+L25 -> -63 | M27: =M22+M24+M25 -> 445 | N27: =N22+N24+N25 -> 18 | P27: =+IFERROR(IF(E27*K27<0,"n.m.",IF(E27/K27-1>100%,">100%",E27/K27-1)),"n.m.") -> n.m. | S27: =+IFERROR(IF(D27*J27<0,"n.m.",IF(D27/J27-1>100%,">100%",D27/J27-1)),"n.m.") -> 0.97712418
C29: Income taxes | D29: =H29+G29+F29+E29 -> -81 | E29: -34 | F29: -10 | G29: -28 | H29: -9 | J29: =+N29+M29+L29+K29 -> -45 | K29: 78 | L29: -12 | M29: -93 | N29: -18 | P29: =+IFERROR(IF(E29*K29<0,"n.m.",IF(E29/K29-1>100%,">100%",E29/K29-1)),"n.m.") -> n.m. | S29: =+IFERROR(IF(D29*J29<0,"n.m.",IF(D29/J29-1>100%,">100%",D29/J29-1)),"n.m.") -> 0.8
C31: Profit for the period | D31: =H31+G31+F31+E31 -> 524 | E31: =E27+E29 -> 254 | F31: =F27+F29 -> 87 | G31: =G27+G29 -> 160 | H31: =H27+H29 -> 23 | J31: =+N31+M31+L31+K31 -> 261 | K31: =K27+K29 -> -16 | L31: =L27+L29 -> -75 | M31: =M27+M29 -> 352 | N31: =N27+N29 -> 0 | P31: =+IFERROR(IF(E31*K31<0,"n.m.",IF(E31/K31-1>100%,">100%",E31/K31-1)),"n.m.") -> n.m. | S31: =+IFERROR(IF(D31*J31<0,"n.m.",IF(D31/J31-1>100%,">100%",D31/J31-1)),"n.m.") -> >100%
C33: Profit for the period from discontinued operations3 | D33: =H33+G33+F33+E33 -> 135 | E33: 102 | F33: 25 | G33: 7 | H33: 1 | J33: =+N33+M33+L33+K33 -> -845 | K33: -126 | L33: -203 | M33: -532 | N33: 16 | P33: =+IFERROR(IF(E33*K33<0,"n.m.",IF(E33/K33-1>100%,">100%",E33/K33-1)),"n.m.") -> n.m. | S33: =+IFERROR(IF(D33*J33<0,"n.m.",IF(D33/J33-1>100%,">100%",D33/J33-1)),"n.m.") -> n.m.
C35: Profit for the period (incl. discontinued operations) | D35: =H35+G35+F35+E35 -> 659 | E35: 356 | F35: =F31+F33 -> 112 | G35: =G31+G33 -> 167 | H35: =H31+H33 -> 24 | J35: =+N35+M35+L35+K35 -> -584 | K35: =K31+K33 -> -142 | L35: =L31+L33 -> -278 | M35: =M31+M33 -> -180 | N35: =N31+N33 -> 16 | P35: =+IFERROR(IF(E35*K35<0,"n.m.",IF(E35/K35-1>100%,">100%",E35/K35-1)),"n.m.") -> n.m. | S35: =+IFERROR(IF(D35*J35<0,"n.m.",IF(D35/J35-1>100%,">100%",D35/J35-1)),"n.m.") -> n.m.
C37: Profit attributable to non-controlling interest (incl. disc. ops.) | D37: =H37+G37+F37+E37 -> 21 | E37: 6 | F37: 6 | G37: 5 | H37: 4 | J37: =+N37+M37+L37+K37 -> 14 | K37: 5 | L37: 3 | M37: 3 | N37: 3 | P37: =+IFERROR(IF(E37*K37<0,"n.m.",IF(E37/K37-1>100%,">100%",E37/K37-1)),"n.m.") -> 0.2 | S37: =+IFERROR(IF(D37*J37<0,"n.m.",IF(D37/J37-1>100%,">100%",D37/J37-1)),"n.m.") -> 0.5
C38: Profit attributable to equity holders (incl. discontinued operations) | D38: =H38+G38+F38+E38 -> 638 | E38: 350 | F38: 106 | G38: =+G35-G37 -> 162 | H38: =+H35-H37 -> 20 | J38: =+N38+M38+L38+K38 -> -598 | K38: =+K35-K37 -> -147 | L38: =+L35-L37 -> -281 | M38: =+M35-M37 -> -183 | N38: =+N35-N37 -> 13 | P38: =+IFERROR(IF(E38*K38<0,"n.m.",IF(E38/K38-1>100%,">100%",E38/K38-1)),"n.m.") -> n.m. | S38: =+IFERROR(IF(D38*J38<0,"n.m.",IF(D38/J38-1>100%,">100%",D38/J38-1)),"n.m.") -> n.m.
C40: Earnings per share (non-diluted)4
C41: From continuing operations (non-diluted) | D41: =H41+G41+F41+E41 -> 0.11 | E41: 0.06 | F41: 0.01 | G41: 0.04 | H41: 0 | J41: =+N41+M41+L41+K41 -> 0.05 | K41: 0 | L41: -0.03 | M41: 0.08 | N41: 0 | P41: =+IFERROR(IF(E41*K41<0,"n.m.",IF(E41/K41-1>100%,">100%",E41/K41-1)),"n.m.") -> n.m. | S41: =+IFERROR(IF(D41*J41<0,"n.m.",IF(D41/J41-1>100%,">100%",D41/J41-1)),"n.m.") -> >100%
C42: From continuing operations (fully-diluted) | D42: =H42+G42+F42+E42 -> 0.11 | E42: 0.06 | F42: 0.01 | G42: 0.04 | H42: 0 | J42: =+N42+M42+L42+K42 -> 0.05 | K42: 0 | L42: -0.03 | M42: 0.08 | N42: 0 | P42: =+IFERROR(IF(E42*K42<0,"n.m.",IF(E42/K42-1>100%,">100%",E42/K42-1)),"n.m.") -> n.m. | S42: =+IFERROR(IF(D42*J42<0,"n.m.",IF(D42/J42-1>100%,">100%",D42/J42-1)),"n.m.") -> >100%
C44: Including discontinued operations (non-diluted) | D44: =H44+G44+F44+E44 -> 0.14 | E44: 0.08 | F44: 0.02 | G44: 0.04 | H44: 0 | J44: =+N44+M44+L44+K44 -> -0.15 | K44: -0.04 | L44: -0.07 | M44: -0.04 | N44: 0 | P44: =+IFERROR(IF(E44*K44<0,"n.m.",IF(E44/K44-1>100%,">100%",E44/K44-1)),"n.m.") -> n.m. | S44: =+IFERROR(IF(D44*J44<0,"n.m.",IF(D44/J44-1>100%,">100%",D44/J44-1)),"n.m.") -> n.m.
C45: Including discontinued operations (fully-diluted) | D45: =H45+G45+F45+E45 -> 0.14 | E45: 0.08 | F45: 0.02 | G45: 0.04 | H45: 0 | J45: =+N45+M45+L45+K45 -> -0.15 | K45: -0.04 | L45: -0.07 | M45: -0.04 | N45: 0 | P45: =+IFERROR(IF(E45*K45<0,"n.m.",IF(E45/K45-1>100%,">100%",E45/K45-1)),"n.m.") -> n.m. | S45: =+IFERROR(IF(D45*J45<0,"n.m.",IF(D45/J45-1>100%,">100%",D45/J45-1)),"n.m.") -> n.m.
C47: Dividend per share | D47: =H47+G47+F47+E47 -> 0.11 | E47: 0.05 | F47: 0 | G47: 0.06 | H47: 0 | J47: =+N47+M47+L47+K47 -> 0.07 | K47: 0.05 | L47: 0.02 | M47: 0 | N47: 0 | P47: =+IFERROR(IF(E47*K47<0,"n.m.",IF(E47/K47-1>100%,">100%",E47/K47-1)),"n.m.") -> 0 | S47: =+IFERROR(IF(D47*J47<0,"n.m.",IF(D47/J47-1>100%,">100%",D47/J47-1)),"n.m.") -> 0.57142857
C48: Of which: interim dividend | D48: =H48+G48+F48+E48 -> 0.06 | E48: 0 | F48: 0 | G48: 0.06 | H48: 0 | J48: =+N48+M48+L48+K48 -> 0.02 | K48: 0 | L48: 0.02 | M48: 0 | N48: 0 | P48: =+IFERROR(IF(E48*K48<0,"n.m.",IF(E48/K48-1>100%,">100%",E48/K48-1)),"n.m.") -> n.m. | S48: =+IFERROR(IF(D48*J48<0,"n.m.",IF(D48/J48-1>100%,">100%",D48/J48-1)),"n.m.") -> >100%
B51: 1 Unless stated otherwise; BASE Company is reported as a discontinued operation, and continues to be included in KPN’s segment reporting until the sale is completed. Until completion of the sale of E-Plus on 1 October 2014, E-Plus is also included in discontinued operations pertaining to Group results; E-Plus is not included in KPN’s segment reporting
B52: 2 Including € 451m and € 26m release of provision related to the pension plan agreements in The Netherlands in Q2 2014 and Q4 2014 respectively
B53: 3 Including impairment of € 336m in Q3 2014 and € 744m in Q2 2014 related to the fair value of the stake in Telefónica Deutschland
B54: 4 Defined as profit after taxes per ordinary share / ADS on a non-diluted basis (in €)
C57: Consolidated figures | D57: 2015 | E57: =+E2 -> Q4 '15 | F57: =+F2 -> Q3 '15 | G57: =+G2 -> Q2 '15 | H57: =+H2 -> Q1 '15 | J57: =+J2 -> 2014 | K57: =+K2 -> Q4 '14 | L57: =+L2 -> Q3 '14 | M57: =+M2 -> Q2 '14 | N57: =+N2 -> Q1 '14 | P57: =+P2 -> y-on-y | S57: =+S2 -> y-on-y
C58: Cash flow & Leverage from continuing operations | P58: =+P3 -> Q4% | S58: =+S3 -> FY%
C60: EBITDA | D60: =+H60+G60+F60+E60 -> 2324 | E60: =+'Profit & Margin'!E22 -> 578 | F60: =+'Profit & Margin'!F22 -> 602 | G60: =+'Profit & Margin'!G22 -> 568 | H60: =+'Profit & Margin'!H22 -> 576 | J60: =+N60+M60+L60+K60 -> 2866 | K60: =+'Profit & Margin'!K22 -> 656 | L60: =+'Profit & Margin'!L22 -> 595 | M60: =+'Profit & Margin'!M22 -> 1030 | N60: =+'Profit & Margin'!N22 -> 585 | P60: =+IFERROR(IF(E60*K60<0,"n.m.",IF(E60/K60-1>100%,">100%",E60/K60-1)),"n.m.") -> -0.11890244 | S60: =+IFERROR(IF(D60*J60<0,"n.m.",IF(D60/J60-1>100%,">100%",D60/J60-1)),"n.m.") -> -0.18911375
C61: Interest received (paid) | D61: =+H61+G61+F61+E61 -> -485 | E61: -71 | F61: -113 | G61: -79 | H61: =+'CF, Capex, BS & Debt sum'!H26 -> -222 | J61: =+N61+M61+L61+K61 -> -704 | K61: =+'CF, Capex, BS & Debt sum'!K26 -> -119 | L61: =+'CF, Capex, BS & Debt sum'!L26 -> -130 | M61: =+'CF, Capex, BS & Debt sum'!M26 -> -123 | N61: =+'CF, Capex, BS & Debt sum'!N26 -> -332 | P61: =+IFERROR(IF(E61*K61<0,"n.m.",IF(E61/K61-1>100%,">100%",E61/K61-1)),"n.m.") -> -0.40336134 | S61: =+IFERROR(IF(D61*J61<0,"n.m.",IF(D61/J61-1>100%,">100%",D61/J61-1)),"n.m.") -> -0.31107955
...

Sheet Revenues
C2: Consolidated figures | D2: 2015 | E2: Q4 '15 | F2: =+'P&L & Cash flow'!F2 -> Q3 '15 | G2: =+'P&L & Cash flow'!G2 -> Q2 '15 | H2: =+'P&L & Cash flow'!H2 -> Q1 '15 | J2: 2014 | K2: =+'P&L & Cash flow'!K2 -> Q4 '14 | L2: =+'P&L & Cash flow'!L2 -> Q3 '14 | M2: =+'P&L & Cash flow'!M2 -> Q2 '14 | N2: =+'P&L & Cash flow'!N2 -> Q1 '14 | P2: =+'P&L & Cash flow'!P2 -> y-on-y | S2: =+'P&L & Cash flow'!S2 -> y-on-y
C3: Revenues | P3: =+'P&L & Cash flow'!P3 -> Q4% | S3: =+'P&L & Cash flow'!S3 -> FY%
C5: Consumer Mobile | D5: =+H5+G5+F5+E5 -> 1461 | E5: 367 | F5: 376 | G5: 374 | H5: 344 | J5: =+N5+M5+L5+K5 -> 1407 | K5: 352 | L5: 354 | M5: 354 | N5: 347 | P5: =+IFERROR(IF(E5*K5<0,"n.m.",IF(E5/K5-1>100%,">100%",E5/K5-1)),"n.m.") -> 0.042613636 | S5: =+IFERROR(IF(D5*J5<0,"n.m.",IF(D5/J5-1>100%,">100%",D5/J5-1)),"n.m.") -> 0.038379531
C6: Consumer Residential | D6: =+H6+G6+F6+E6 -> 1938 | E6: 491 | F6: 486 | G6: 478 | H6: 483 | J6: =+N6+M6+L6+K6 -> 1916 | K6: 480 | L6: 477 | M6: 476 | N6: 483 | P6: =+IFERROR(IF(E6*K6<0,"n.m.",IF(E6/K6-1>100%,">100%",E6/K6-1)),"n.m.") -> 0.022916667 | S6: =+IFERROR(IF(D6*J6<0,"n.m.",IF(D6/J6-1>100%,">100%",D6/J6-1)),"n.m.") -> 0.011482255
C7: Business | D7: =+H7+G7+F7+E7 -> 2659 | E7: 672 | F7: 655 | G7: 652 | H7: 680 | J7: =+N7+M7+L7+K7 -> 2920 | K7: 752 | L7: 706 | M7: 732 | N7: 730 | P7: =+IFERROR(IF(E7*K7<0,"n.m.",IF(E7/K7-1>100%,">100%",E7/K7-1)),"n.m.") -> -0.10638298 | S7: =+IFERROR(IF(D7*J7<0,"n.m.",IF(D7/J7-1>100%,">100%",D7/J7-1)),"n.m.") -> -0.089383562
C8: NetCo | D8: =+H8+G8+F8+E8 -> 2186 | E8: 547 | F8: 548 | G8: 544 | H8: 547 | J8: =+N8+M8+L8+K8 -> 2262 | K8: 566 | L8: 557 | M8: 570 | N8: 569 | P8: =+IFERROR(IF(E8*K8<0,"n.m.",IF(E8/K8-1>100%,">100%",E8/K8-1)),"n.m.") -> -0.033568905 | S8: =+IFERROR(IF(D8*J8<0,"n.m.",IF(D8/J8-1>100%,">100%",D8/J8-1)),"n.m.") -> -0.033598585
C9: Other (incl. eliminations) | D9: =+H9+G9+F9+E9 -> -2068 | E9: -524 | F9: -514 | G9: -513 | H9: -517 | J9: =+N9+M9+L9+K9 -> -2050 | K9: -461 | L9: -529 | M9: -529 | N9: -531 | P9: =+IFERROR(IF(E9*K9<0,"n.m.",IF(E9/K9-1>100%,">100%",E9/K9-1)),"n.m.") -> 0.13665944 | S9: =+IFERROR(IF(D9*J9<0,"n.m.",IF(D9/J9-1>100%,">100%",D9/J9-1)),"n.m.") -> 0.0087804878
C10: The Netherlands | D10: =+H10+G10+F10+E10 -> 6176 | E10: =E5+E6+E7+E8+E9 -> 1553 | F10: =F5+F6+F7+F8+F9 -> 1551 | G10: =G5+G6+G7+G8+G9 -> 1535 | H10: =H5+H6+H7+H8+H9 -> 1537 | J10: =+N10+M10+L10+K10 -> 6455 | K10: =K5+K6+K7+K8+K9 -> 1689 | L10: =L5+L6+L7+L8+L9 -> 1565 | M10: =M5+M6+M7+M8+M9 -> 1603 | N10: =N5+N6+N7+N8+N9 -> 1598 | P10: =+IFERROR(IF(E10*K10<0,"n.m.",IF(E10/K10-1>100%,">100%",E10/K10-1)),"n.m.") -> -0.080521018 | S10: =+IFERROR(IF(D10*J10<0,"n.m.",IF(D10/J10-1>100%,">100%",D10/J10-1)),"n.m.") -> -0.043222308
C12: iBasis | D12: =+H12+G12+F12+E12 -> 920 | E12: 218 | F12: 241 | G12: 234 | H12: 227 | J12: =+N12+M12+L12+K12 -> 948 | K12: 248 | L12: 243 | M12: 231 | N12: 226 | P12: =+IFERROR(IF(E12*K12<0,"n.m.",IF(E12/K12-1>100%,">100%",E12/K12-1)),"n.m.") -> -0.12096774 | S12: =+IFERROR(IF(D12*J12<0,"n.m.",IF(D12/J12-1>100%,">100%",D12/J12-1)),"n.m.") -> -0.029535865
C14: Belgium (discontinued operations) | D14: =+H14+G14+F14+E14 -> 748 | E14: 240 | F14: 170 | G14: 169 | H14: 169 | J14: =+N14+M14+L14+K14 -> 711 | K14: 180 | L14: 176 | M14: 178 | N14: 177 | P14: =+IFERROR(IF(E14*K14<0,"n.m.",IF(E14/K14-1>100%,">100%",E14/K14-1)),"n.m.") -> 0.33333333 | S14: =+IFERROR(IF(D14*J14<0,"n.m.",IF(D14/J14-1>100%,">100%",D14/J14-1)),"n.m.") -> 0.052039381
C16: Other activities | D16: =+H16+G16+F16+E16 -> 37 | E16: 3 | F16: 4 | G16: 4 | H16: 26 | J16: =+N16+M16+L16+K16 -> 186 | K16: 34 | L16: 54 | M16: 48 | N16: 50 | P16: =+IFERROR(IF(E16*K16<0,"n.m.",IF(E16/K16-1>100%,">100%",E16/K16-1)),"n.m.") -> -0.91176471 | S16: =+IFERROR(IF(D16*J16<0,"n.m.",IF(D16/J16-1>100%,">100%",D16/J16-1)),"n.m.") -> -0.80107527
C18: Intercompany revenues | D18: =+H18+G18+F18+E18 -> -157 | E18: -36 | F18: -41 | G18: -40 | H18: -40 | J18: =+N18+M18+L18+K18 -> -217 | K18: -46 | L18: -60 | M18: -56 | N18: -55 | P18: =+IFERROR(IF(E18*K18<0,"n.m.",IF(E18/K18-1>100%,">100%",E18/K18-1)),"n.m.") -> -0.2173913 | S18: =+IFERROR(IF(D18*J18<0,"n.m.",IF(D18/J18-1>100%,">100%",D18/J18-1)),"n.m.") -> -0.2764977
C20: Total revenues (incl. discontinued operations) | D20: =+H20+G20+F20+E20 -> 7724 | E20: =+E10+E12+E16+E18+E14 -> 1978 | F20: =+F10+F12+F16+F18+F14 -> 1925 | G20: =+G10+G12+G16+G18+G14 -> 1902 | H20: =+H10+H12+H16+H18+H14 -> 1919 | J20: =+N20+M20+L20+K20 -> 8083 | K20: =+K10+K12+K16+K18+K14 -> 2105 | L20: =+L10+L12+L16+L18+L14 -> 1978 | M20: =+M10+M12+M16+M18+M14 -> 2004 | N20: =+N10+N12+N16+N18+N14 -> 1996 | P20: =+IFERROR(IF(E20*K20<0,"n.m.",IF(E20/K20-1>100%,">100%",E20/K20-1)),"n.m.") -> -0.060332542 | S20: =+IFERROR(IF(D20*J20<0,"n.m.",IF(D20/J20-1>100%,">100%",D20/J20-1)),"n.m.") -> -0.044414203
C22: Of which discontinued operations | D22: =+H22+G22+F22+E22 -> 716 | E22: 233 | F22: 161 | G22: 161 | H22: 161 | J22: =+N22+M22+L22+K22 -> 674 | K22: 172 | L22: 167 | M22: 169 | N22: 166 | P22: =+IFERROR(IF(E22*K22<0,"n.m.",IF(E22/K22-1>100%,">100%",E22/K22-1)),"n.m.") -> 0.35465116 | S22: =+IFERROR(IF(D22*J22<0,"n.m.",IF(D22/J22-1>100%,">100%",D22/J22-1)),"n.m.") -> 0.06231454
C24: Total revenues from continuing operations | D24: =+H24+G24+F24+E24 -> 7008 | E24: =+E20-E22 -> 1745 | F24: =+F20-F22 -> 1764 | G24: =+G20-G22 -> 1741 | H24: =+H20-H22 -> 1758 | J24: =+N24+M24+L24+K24 -> 7409 | K24: =+K20-K22 -> 1933 | L24: =+L20-L22 -> 1811 | M24: =+M20-M22 -> 1835 | N24: =+N20-N22 -> 1830 | P24: =+IFERROR(IF(E24*K24<0,"n.m.",IF(E24/K24-1>100%,">100%",E24/K24-1)),"n.m.") -> -0.097258148 | S24: =+IFERROR(IF(D24*J24<0,"n.m.",IF(D24/J24-1>100%,">100%",D24/J24-1)),"n.m.") -> -0.054123363
C29: Consolidated figures | D29: =+D2 -> 2015 | E29: Q4 '15 | F29: =+F2 -> Q3 '15 | G29: =+G2 -> Q2 '15 | H29: =+H2 -> Q1 '15 | J29: =+J2 -> 2014 | K29: =+K2 -> Q4 '14 | L29: =+L2 -> Q3 '14 | M29: =+M2 -> Q2 '14 | N29: =+N2 -> Q1 '14 | P29: =+P2 -> y-on-y | S29: =+S2 -> y-on-y
C30: Revenues - segment breakdown | P30: =+P3 -> Q4% | R30: =+R3 -> 0 | S30: =+S3 -> FY%
C32: Wireless services | D32: =+H32+G32+F32+E32 -> 1289 | E32: 324 | F32: 336 | G32: 328 | H32: 301 | J32: =+N32+M32+L32+K32 -> 1223 | K32: 309 | L32: 310 | M32: 303 | N32: 301 | P32: =+IFERROR(IF(E32*K32<0,"n.m.",IF(E32/K32-1>100%,">100%",E32/K32-1)),"n.m.") -> 0.048543689 | S32: =+IFERROR(IF(D32*J32<0,"n.m.",IF(D32/J32-1>100%,">100%",D32/J32-1)),"n.m.") -> 0.053965658
C33: Mobile wholesale | D33: =+H33+G33+F33+E33 -> 139 | E33: 34 | F33: 31 | G33: 37 | H33: 37 | J33: =+N33+M33+L33+K33 -> 153 | K33: 34 | L33: 37 | M33: 42 | N33: 40 | P33: =+IFERROR(IF(E33*K33<0,"n.m.",IF(E33/K33-1>100%,">100%",E33/K33-1)),"n.m.") -> 0 | S33: =+IFERROR(IF(D33*J33<0,"n.m.",IF(D33/J33-1>100%,">100%",D33/J33-1)),"n.m.") -> -0.091503268
C34: Other income | D34: =+H34+G34+F34+E34 -> 1 | E34: 1 | F34: 0 | G34: 0 | H34: 0 | J34: =+N34+M34+L34+K34 -> 2 | K34: 0 | L34: 0 | M34: 2 | N34: 0 | P34: =+IFERROR(IF(E34*K34<0,"n.m.",IF(E34/K34-1>100%,">100%",E34/K34-1)),"n.m.") -> n.m. | S34: =+IFERROR(IF(D34*J34<0,"n.m.",IF(D34/J34-1>100%,">100%",D34/J34-1)),"n.m.") -> -0.5
C35: Other revenues (incl. intercompany) | D35: =+H35+G35+F35+E35 -> 32 | E35: 8 | F35: 9 | G35: 9 | H35: 6 | J35: =+N35+M35+L35+K35 -> 29 | K35: 9 | L35: 7 | M35: 7 | N35: 6 | P35: =+IFERROR(IF(E35*K35<0,"n.m.",IF(E35/K35-1>100%,">100%",E35/K35-1)),"n.m.") -> -0.11111111 | S35: =+IFERROR(IF(D35*J35<0,"n.m.",IF(D35/J35-1>100%,">100%",D35/J35-1)),"n.m.") -> 0.10344828
C36: Consumer Mobile | D36: =+H36+G36+F36+E36 -> 1461 | E36: =E32+E33+E35+E34 -> 367 | F36: =F32+F33+F35+F34 -> 376 | G36: =G32+G33+G35+G34 -> 374 | H36: =H32+H33+H35+H34 -> 344 | J36: =+N36+M36+L36+K36 -> 1407 | K36: =K32+K33+K35+K34 -> 352 | L36: =L32+L33+L35+L34 -> 354 | M36: =M32+M33+M35+M34 -> 354 | N36: =N32+N33+N35+N34 -> 347 | P36: =+IFERROR(IF(E36*K36<0,"n.m.",IF(E36/K36-1>100%,">100%",E36/K36-1)),"n.m.") -> 0.042613636 | S36: =+IFERROR(IF(D36*J36<0,"n.m.",IF(D36/J36-1>100%,">100%",D36/J36-1)),"n.m.") -> 0.038379531
J37: =+N37+M37+L37+K37 -> 0
C38: Traditional voice | D38: =+H38+G38+F38+E38 -> 208 | E38: 49 | F38: 51 | G38: 52 | H38: 56 | J38: =+N38+M38+L38+K38 -> 253 | K38: 60 | L38: 62 | M38: 63 | N38: 68 | P38: =+IFERROR(IF(E38*K38<0,"n.m.",IF(E38/K38-1>100%,">100%",E38/K38-1)),"n.m.") -> -0.18333333 | S38: =+IFERROR(IF(D38*J38<0,"n.m.",IF(D38/J38-1>100%,">100%",D38/J38-1)),"n.m.") -> -0.17786561
C39: Copper revenues (incl. broadband, IPTV, VOIP) | D39: =+H39+G39+F39+E39 -> 1097 | E39: 277 | F39: =218+56 -> 274 | G39: =218+55 -> 273 | H39: 273 | J39: =+N39+M39+L39+K39 -> 1070 | K39: 269 | L39: 269 | M39: 264 | N39: 268 | P39: =+IFERROR(IF(E39*K39<0,"n.m.",IF(E39/K39-1>100%,">100%",E39/K39-1)),"n.m.") -> 0.029739777 | S39: =+IFERROR(IF(D39*J39<0,"n.m.",IF(D39/J39-1>100%,">100%",D39/J39-1)),"n.m.") -> 0.025233645
C40: Of which: IPTV copper | D40: =+H40+G40+F40+E40 -> 224 | E40: 59 | F40: 56 | G40: 55 | H40: 54 | J40: =+N40+M40+L40+K40 -> 199 | K40: 52 | L40: 50 | M40: 49 | N40: 48 | P40: =+IFERROR(IF(E40*K40<0,"n.m.",IF(E40/K40-1>100%,">100%",E40/K40-1)),"n.m.") -> 0.13461538 | S40: =+IFERROR(IF(D40*J40<0,"n.m.",IF(D40/J40-1>100%,">100%",D40/J40-1)),"n.m.") -> 0.12562814
C41: FttH revenues (incl. broadband, IPTV, VOIP) | D41: =+H41+G41+F41+E41 -> 448 | E41: 120 | F41: 117 | G41: 107 | H41: 104 | J41: =+N41+M41+L41+K41 -> 360 | K41: 97 | L41: 90 | M41: 88 | N41: 85 | P41: =+IFERROR(IF(E41*K41<0,"n.m.",IF(E41/K41-1>100%,">100%",E41/K41-1)),"n.m.") -> 0.2371134 | S41: =+IFERROR(IF(D41*J41<0,"n.m.",IF(D41/J41-1>100%,">100%",D41/J41-1)),"n.m.") -> 0.24444444
C42: Other income | D42: =+H42+G42+F42+E42 -> 0 | E42: 0 | F42: 0 | G42: 0 | H42: 0 | J42: =+N42+M42+L42+K42 -> 0 | K42: 0 | L42: 0 | M42: 0 | N42: 0 | P42: =+IFERROR(IF(E42*K42<0,"n.m.",IF(E42/K42-1>100%,">100%",E42/K42-1)),"n.m.") -> n.m. | S42: =+IFERROR(IF(D42*J42<0,"n.m.",IF(D42/J42-1>100%,">100%",D42/J42-1)),"n.m.") -> n.m.
C43: Other revenues (incl. intercompany) | D43: =+H43+G43+F43+E43 -> 185 | E43: 45 | F43: 44 | G43: 46 | H43: 50 | J43: =+N43+M43+L43+K43 -> 233 | K43: 54 | L43: 56 | M43: 61 | N43: 62 | P43: =+IFERROR(IF(E43*K43<0,"n.m.",IF(E43/K43-1>100%,">100%",E43/K43-1)),"n.m.") -> -0.16666667 | S43: =+IFERROR(IF(D43*J43<0,"n.m.",IF(D43/J43-1>100%,">100%",D43/J43-1)),"n.m.") -> -0.20600858
C44: Consumer Residential | D44: =+H44+G44+F44+E44 -> 1938 | E44: =E38+E39+E43+E41+E42 -> 491 | F44: =F38+F39+F43+F41+F42 -> 486 | G44: =G38+G39+G43+G41+G42 -> 478 | H44: =H38+H39+H43+H41+H42 -> 483 | J44: =+N44+M44+L44+K44 -> 1916 | K44: =K38+K39+K43+K41+K42 -> 480 | L44: =L38+L39+L43+L41+L42 -> 477 | M44: =M38+M39+M43+M41+M42 -> 476 | N44: =N38+N39+N43+N41+N42 -> 483 | P44: =+IFERROR(IF(E44*K44<0,"n.m.",IF(E44/K44-1>100%,">100%",E44/K44-1)),"n.m.") -> 0.022916667 | S44: =+IFERROR(IF(D44*J44<0,"n.m.",IF(D44/J44-1>100%,">100%",D44/J44-1)),"n.m.") -> 0.011482255
J45: =+N45+M45+L45+K45 -> 0
C46: Voice & Internet wireline | D46: =+H46+G46+F46+E46 -> 586 | E46: 146 | F46: 147 | G46: 136 | H46: 157 | J46: =+N46+M46+L46+K46 -> 689 | K46: 168 | L46: 171 | M46: 170 | N46: 180 | P46: =+IFERROR(IF(E46*K46<0,"n.m.",IF(E46/K46-1>100%,">100%",E46/K46-1)),"n.m.") -> -0.13095238 | S46: =+IFERROR(IF(D46*J46<0,"n.m.",IF(D46/J46-1>100%,">100%",D46/J46-1)),"n.m.") -> -0.14949202
C47: Data network services | D47: =+H47+G47+F47+E47 -> 292 | E47: 69 | F47: 71 | G47: 78 | H47: 74 | J47: =+N47+M47+L47+K47 -> 336 | K47: 78 | L47: 84 | M47: 86 | N47: 88 | P47: =+IFERROR(IF(E47*K47<0,"n.m.",IF(E47/K47-1>100%,">100%",E47/K47-1)),"n.m.") -> -0.11538462 | S47: =+IFERROR(IF(D47*J47<0,"n.m.",IF(D47/J47-1>100%,">100%",D47/J47-1)),"n.m.") -> -0.13095238
C48: Wireless services | D48: =+H48+G48+F48+E48 -> 710 | E48: 175 | F48: 180 | G48: 177 | H48: 178 | J48: =+N48+M48+L48+K48 -> 748 | K48: 186 | L48: 183 | M48: 189 | N48: 190 | P48: =+IFERROR(IF(E48*K48<0,"n.m.",IF(E48/K48-1>100%,">100%",E48/K48-1)),"n.m.") -> -0.059139785 | S48: =+IFERROR(IF(D48*J48<0,"n.m.",IF(D48/J48-1>100%,">100%",D48/J48-1)),"n.m.") -> -0.050802139
C49: IT Solutions | D49: =+H49+G49+F49+E49 -> 488 | E49: 132 | F49: 120 | G49: 118 | H49: 118 | J49: =+N49+M49+L49+K49 -> 525 | K49: 140 | L49: 125 | M49: 134 | N49: 126 | P49: =+IFERROR(IF(E49*K49<0,"n.m.",IF(E49/K49-1>100%,">100%",E49/K49-1)),"n.m.") -> -0.057142857 | S49: =+IFERROR(IF(D49*J49<0,"n.m.",IF(D49/J49-1>100%,">100%",D49/J49-1)),"n.m.") -> -0.07047619
C50: Other income | D50: =+H50+G50+F50+E50 -> 0 | E50: 0 | F50: 0 | G50: 0 | H50: 0 | J50: =+N50+M50+L50+K50 -> 5 | K50: 0 | L50: 0 | M50: 5 | N50: 0 | P50: =+IFERROR(IF(E50*K50<0,"n.m.",IF(E50/K50-1>100%,">100%",E50/K50-1)),"n.m.") -> n.m. | S50: =+IFERROR(IF(D50*J50<0,"n.m.",IF(D50/J50-1>100%,">100%",D50/J50-1)),"n.m.") -> -1
C51: Other revenues (incl. intercompany) | D51: =+H51+G51+F51+E51 -> 583 | E51: 150 | F51: 137 | G51: 143 | H51: 153 | J51: =+N51+M51+L51+K51 -> 617 | K51: 180 | L51: 143 | M51: 148 | N51: 146 | P51: =+IFERROR(IF(E51*K51<0,"n.m.",IF(E51/K51-1>100%,">100%",E51/K51-1)),"n.m.") -> -0.16666667 | S51: =+IFERROR(IF(D51*J51<0,"n.m.",IF(D51/J51-1>100%,">100%",D51/J51-1)),"n.m.") -> -0.055105348
C52: Business | D52: =+H52+G52+F52+E52 -> 2659 | E52: =E46+E47+E48+E51+E49+E50 -> 672 | F52: =F46+F47+F48+F51+F49+F50 -> 655 | G52: =G46+G47+G48+G51+G49+G50 -> 652 | H52: =H46+H47+H48+H51+H49+H50 -> 680 | J52: =+N52+M52+L52+K52 -> 2920 | K52: =K46+K47+K48+K51+K49+K50 -> 752 | L52: =L46+L47+L48+L51+L49+L50 -> 706 | M52: =M46+M47+M48+M51+M49+M50 -> 732 | N52: =N46+N47+N48+N51+N49+N50 -> 730 | P52: =+IFERROR(IF(E52*K52<0,"n.m.",IF(E52/K52-1>100%,">100%",E52/K52-1)),"n.m.") -> -0.10638298 | S52: =+IFERROR(IF(D52*J52<0,"n.m.",IF(D52/J52-1>100%,">100%",D52/J52-1)),"n.m.") -> -0.089383562
C57: Consolidated figures | D57: =+D29 -> 2015 | E57: Q4 '15 | F57: =+F29 -> Q3 '15 | G57: =+G29 -> Q2 '15 | H57: =+H29 -> Q1 '15 | J57: =+J29 -> 2014 | K57: =+K29 -> Q4 '14 | L57: =+L29 -> Q3 '14 | M57: =+M29 -> Q2 '14 | N57: =+N29 -> Q1 '14 | P57: =+P29 -> y-on-y | S57: y-on-y
C58: Adjusted revenues | P58: =+P30 -> Q4% | S58: =+S30 -> FY%
...

Sheet Expenses
C2: Consolidated figures | D2: =+Revenues!D2 -> 2015 | E2: Q4 '15 | F2: =+Revenues!F2 -> Q3 '15 | G2: =+Revenues!G2 -> Q2 '15 | H2: =+Revenues!H2 -> Q1 '15 | J2: =+Revenues!J2 -> 2014 | K2: =+Revenues!K2 -> Q4 '14 | L2: =+Revenues!L2 -> Q3 '14 | M2: =+Revenues!M2 -> Q2 '14 | N2: =+Revenues!N2 -> Q1 '14 | P2: y-on-y | S2: =+Revenues!S2 -> y-on-y
C3: Operating expenses excl. D&A | P3: =+Revenues!P3 -> Q4% | S3: =+Revenues!S3 -> FY%
C5: Consumer Mobile | D5: =+H5+G5+F5+E5 -> 1189 | E5: 320 | F5: 291 | G5: 292 | H5: 286 | J5: =+N5+M5+L5+K5 -> 1216 | K5: 313 | L5: 307 | M5: 304 | N5: 292 | P5: =+IFERROR(IF(E5*K5<0,"n.m.",IF(E5/K5-1>100%,">100%",E5/K5-1)),"n.m.") -> 0.022364217 | S5: =+IFERROR(IF(D5*J5<0,"n.m.",IF(D5/J5-1>100%,">100%",D5/J5-1)),"n.m.") -> -0.022203947
C6: Consumer Residential | D6: =+H6+G6+F6+E6 -> 1523 | E6: 392 | F6: 374 | G6: 374 | H6: 383 | J6: =+N6+M6+L6+K6 -> 1512 | K6: 384 | L6: 369 | M6: 373 | N6: 386 | P6: =+IFERROR(IF(E6*K6<0,"n.m.",IF(E6/K6-1>100%,">100%",E6/K6-1)),"n.m.") -> 0.020833333 | S6: =+IFERROR(IF(D6*J6<0,"n.m.",IF(D6/J6-1>100%,">100%",D6/J6-1)),"n.m.") -> 0.0072751323
C7: Business | D7: =+H7+G7+F7+E7 -> 2220 | E7: 560 | F7: 536 | G7: 564 | H7: 560 | J7: =+N7+M7+L7+K7 -> 2330 | K7: 606 | L7: 553 | M7: 590 | N7: 581 | P7: =+IFERROR(IF(E7*K7<0,"n.m.",IF(E7/K7-1>100%,">100%",E7/K7-1)),"n.m.") -> -0.075907591 | S7: =+IFERROR(IF(D7*J7<0,"n.m.",IF(D7/J7-1>100%,">100%",D7/J7-1)),"n.m.") -> -0.0472103
C8: NetCo | D8: =+H8+G8+F8+E8 -> 903 | E8: 219 | F8: 219 | G8: 229 | H8: 236 | J8: =+N8+M8+L8+K8 -> 1021 | K8: 245 | L8: 255 | M8: 256 | N8: 265 | P8: =+IFERROR(IF(E8*K8<0,"n.m.",IF(E8/K8-1>100%,">100%",E8/K8-1)),"n.m.") -> -0.10612245 | S8: =+IFERROR(IF(D8*J8<0,"n.m.",IF(D8/J8-1>100%,">100%",D8/J8-1)),"n.m.") -> -0.11557297
C9: Other (incl. eliminations) | D9: =+H9+G9+F9+E9 -> -2026 | E9: -516 | F9: -491 | G9: -508 | H9: -511 | J9: =+N9+M9+L9+K9 -> -2074 | K9: -515 | L9: -526 | M9: -510 | N9: -523 | P9: =+IFERROR(IF(E9*K9<0,"n.m.",IF(E9/K9-1>100%,">100%",E9/K9-1)),"n.m.") -> 0.0019417476 | S9: =+IFERROR(IF(D9*J9<0,"n.m.",IF(D9/J9-1>100%,">100%",D9/J9-1)),"n.m.") -> -0.023143684
C10: The Netherlands | D10: =+H10+G10+F10+E10 -> 3809 | E10: =E5+E6+E7+E8+E9 -> 975 | F10: =F5+F6+F7+F8+F9 -> 929 | G10: =G5+G6+G7+G8+G9 -> 951 | H10: =H5+H6+H7+H8+H9 -> 954 | J10: =+N10+M10+L10+K10 -> 4005 | K10: =K5+K6+K7+K8+K9 -> 1033 | L10: =L5+L6+L7+L8+L9 -> 958 | M10: =M5+M6+M7+M8+M9 -> 1013 | N10: =N5+N6+N7+N8+N9 -> 1001 | P10: =+IFERROR(IF(E10*K10<0,"n.m.",IF(E10/K10-1>100%,">100%",E10/K10-1)),"n.m.") -> -0.056147144 | S10: =+IFERROR(IF(D10*J10<0,"n.m.",IF(D10/J10-1>100%,">100%",D10/J10-1)),"n.m.") -> -0.048938826
C12: iBasis | D12: =+H12+G12+F12+E12 -> 897 | E12: 212 | F12: 235 | G12: 228 | H12: 222 | J12: =+N12+M12+L12+K12 -> 925 | K12: 242 | L12: 236 | M12: 226 | N12: 221 | P12: =+IFERROR(IF(E12*K12<0,"n.m.",IF(E12/K12-1>100%,">100%",E12/K12-1)),"n.m.") -> -0.12396694 | S12: =+IFERROR(IF(D12*J12<0,"n.m.",IF(D12/J12-1>100%,">100%",D12/J12-1)),"n.m.") -> -0.03027027
C14: Belgium (discontinued operations) | D14: =+H14+G14+F14+E14 -> 486 | E14: 96 | F14: 124 | G14: 123 | H14: 143 | J14: =+N14+M14+L14+K14 -> 562 | K14: 146 | L14: 138 | M14: 142 | N14: 136 | P14: =+IFERROR(IF(E14*K14<0,"n.m.",IF(E14/K14-1>100%,">100%",E14/K14-1)),"n.m.") -> -0.34246575 | S14: =+IFERROR(IF(D14*J14<0,"n.m.",IF(D14/J14-1>100%,">100%",D14/J14-1)),"n.m.") -> -0.13523132
C16: Other activities1 | D16: =+H16+G16+F16+E16 -> 101 | E16: 8 | F16: 29 | G16: 27 | H16: 37 | J16: =+N16+M16+L16+K16 -> -207 | K16: 39 | L16: 73 | M16: -388 | N16: 69 | P16: =+IFERROR(IF(E16*K16<0,"n.m.",IF(E16/K16-1>100%,">100%",E16/K16-1)),"n.m.") -> -0.79487179 | S16: =+IFERROR(IF(D16*J16<0,"n.m.",IF(D16/J16-1>100%,">100%",D16/J16-1)),"n.m.") -> n.m.
C18: Intercompany expenses | D18: =+H18+G18+F18+E18 -> -157 | E18: -36 | F18: -41 | G18: -40 | H18: -40 | J18: =+N18+M18+L18+K18 -> -217 | K18: -46 | L18: -60 | M18: -56 | N18: -55 | P18: =+IFERROR(IF(E18*K18<0,"n.m.",IF(E18/K18-1>100%,">100%",E18/K18-1)),"n.m.") -> -0.2173913 | S18: =+IFERROR(IF(D18*J18<0,"n.m.",IF(D18/J18-1>100%,">100%",D18/J18-1)),"n.m.") -> -0.2764977
C20: Total operating expenses (incl. discontinued operations) | D20: =+H20+G20+F20+E20 -> 5136 | E20: =+E10+E12+E16+E18+E14 -> 1255 | F20: =+F10+F12+F16+F18+F14 -> 1276 | G20: =+G10+G12+G16+G18+G14 -> 1289 | H20: =+H10+H12+H16+H18+H14 -> 1316 | J20: =+N20+M20+L20+K20 -> 5068 | K20: =+K10+K12+K16+K18+K14 -> 1414 | L20: =+L10+L12+L16+L18+L14 -> 1345 | M20: =+M10+M12+M16+M18+M14 -> 937 | N20: =+N10+N12+N16+N18+N14 -> 1372 | P20: =+IFERROR(IF(E20*K20<0,"n.m.",IF(E20/K20-1>100%,">100%",E20/K20-1)),"n.m.") -> -0.11244696 | S20: =+IFERROR(IF(D20*J20<0,"n.m.",IF(D20/J20-1>100%,">100%",D20/J20-1)),"n.m.") -> 0.013417522
C22: Of which discontinued operations | D22: =+H22+G22+F22+E22 -> 452 | E22: 88 | F22: 114 | G22: 116 | H22: 134 | J22: =+N22+M22+L22+K22 -> 525 | K22: 137 | L22: 129 | M22: 132 | N22: 127 | P22: =+IFERROR(IF(E22*K22<0,"n.m.",IF(E22/K22-1>100%,">100%",E22/K22-1)),"n.m.") -> -0.35766423 | S22: =+IFERROR(IF(D22*J22<0,"n.m.",IF(D22/J22-1>100%,">100%",D22/J22-1)),"n.m.") -> -0.13904762
C24: Total operating expenses from continuing operations | D24: =+H24+G24+F24+E24 -> 4684 | E24: =+E20-E22 -> 1167 | F24: =+F20-F22 -> 1162 | G24: =+G20-G22 -> 1173 | H24: =+H20-H22 -> 1182 | J24: =+N24+M24+L24+K24 -> 4543 | K24: =+K20-K22 -> 1277 | L24: =+L20-L22 -> 1216 | M24: =+M20-M22 -> 805 | N24: =+N20-N22 -> 1245 | P24: =+IFERROR(IF(E24*K24<0,"n.m.",IF(E24/K24-1>100%,">100%",E24/K24-1)),"n.m.") -> -0.086139389 | S24: =+IFERROR(IF(D24*J24<0,"n.m.",IF(D24/J24-1>100%,">100%",D24/J24-1)),"n.m.") -> 0.03103676
B27: 1 Including € 451m and € 26m release of provision related to the pension plan agreements in The Netherlands in Q2 2014 and Q4 2014 respectively
C30: Consolidated figures | D30: =+D2 -> 2015 | E30: Q4 '15 | F30: =+F2 -> Q3 '15 | G30: =+G2 -> Q2 '15 | H30: =+H2 -> Q1 '15 | J30: =+J2 -> 2014 | K30: =+K2 -> Q4 '14 | L30: =+L2 -> Q3 '14 | M30: =+M2 -> Q2 '14 | N30: =+N2 -> Q1 '14 | P30: =+P2 -> y-on-y | S30: =+S2 -> y-on-y
C31: Depreciation | P31: =+Expenses!P3 -> Q4% | S31: =+Expenses!S3 -> FY%
C33: Consumer Mobile | D33: =+H33+G33+F33+E33 -> 32 | E33: 4 | F33: 6 | G33: 9 | H33: 13 | J33: =+N33+M33+L33+K33 -> 103 | K33: 20 | L33: 20 | M33: 28 | N33: 35 | P33: =+IFERROR(IF(E33*K33<0,"n.m.",IF(E33/K33-1>100%,">100%",E33/K33-1)),"n.m.") -> -0.8 | S33: =+IFERROR(IF(D33*J33<0,"n.m.",IF(D33/J33-1>100%,">100%",D33/J33-1)),"n.m.") -> -0.68932039
C34: Consumer Residential | D34: =+H34+G34+F34+E34 -> 192 | E34: 47 | F34: 48 | G34: 49 | H34: 48 | J34: =+N34+M34+L34+K34 -> 196 | K34: 48 | L34: 47 | M34: 54 | N34: 47 | P34: =+IFERROR(IF(E34*K34<0,"n.m.",IF(E34/K34-1>100%,">100%",E34/K34-1)),"n.m.") -> -0.020833333 | S34: =+IFERROR(IF(D34*J34<0,"n.m.",IF(D34/J34-1>100%,">100%",D34/J34-1)),"n.m.") -> -0.020408163
C35: Business | D35: =+H35+G35+F35+E35 -> 90 | E35: 23 | F35: 23 | G35: 22 | H35: 22 | J35: =+N35+M35+L35+K35 -> 90 | K35: 24 | L35: 22 | M35: 22 | N35: 22 | P35: =+IFERROR(IF(E35*K35<0,"n.m.",IF(E35/K35-1>100%,">100%",E35/K35-1)),"n.m.") -> -0.041666667 | S35: =+IFERROR(IF(D35*J35<0,"n.m.",IF(D35/J35-1>100%,">100%",D35/J35-1)),"n.m.") -> 0
C36: NetCo | D36: =+H36+G36+F36+E36 -> 765 | E36: 197 | F36: 194 | G36: 190 | H36: 184 | J36: =+N36+M36+L36+K36 -> 714 | K36: 186 | L36: 172 | M36: 183 | N36: 173 | P36: =+IFERROR(IF(E36*K36<0,"n.m.",IF(E36/K36-1>100%,">100%",E36/K36-1)),"n.m.") -> 0.059139785 | S36: =+IFERROR(IF(D36*J36<0,"n.m.",IF(D36/J36-1>100%,">100%",D36/J36-1)),"n.m.") -> 0.071428571
C37: Other (incl. eliminations) | D37: =+H37+G37+F37+E37 -> 9 | E37: 4 | F37: 2 | G37: 2 | H37: 1 | J37: =+N37+M37+L37+K37 -> 9 | K37: 1 | L37: 4 | M37: 3 | N37: 1 | P37: =+IFERROR(IF(E37*K37<0,"n.m.",IF(E37/K37-1>100%,">100%",E37/K37-1)),"n.m.") -> >100% | S37: =+IFERROR(IF(D37*J37<0,"n.m.",IF(D37/J37-1>100%,">100%",D37/J37-1)),"n.m.") -> 0
C38: The Netherlands | D38: =+H38+G38+F38+E38 -> 1088 | E38: =E33+E34+E35+E36+E37 -> 275 | F38: =F33+F34+F35+F36+F37 -> 273 | G38: =G33+G34+G35+G36+G37 -> 272 | H38: =H33+H34+H35+H36+H37 -> 268 | J38: =+N38+M38+L38+K38 -> 1112 | K38: =K33+K34+K35+K36+K37 -> 279 | L38: =L33+L34+L35+L36+L37 -> 265 | M38: =M33+M34+M35+M36+M37 -> 290 | N38: =N33+N34+N35+N36+N37 -> 278 | P38: =+IFERROR(IF(E38*K38<0,"n.m.",IF(E38/K38-1>100%,">100%",E38/K38-1)),"n.m.") -> -0.014336918 | S38: =+IFERROR(IF(D38*J38<0,"n.m.",IF(D38/J38-1>100%,">100%",D38/J38-1)),"n.m.") -> -0.021582734
C40: iBasis | D40: =+H40+G40+F40+E40 -> 9 | E40: 3 | F40: 1 | G40: 3 | H40: 2 | J40: =+N40+M40+L40+K40 -> 7 | K40: 2 | L40: 2 | M40: 1 | N40: 2 | P40: =+IFERROR(IF(E40*K40<0,"n.m.",IF(E40/K40-1>100%,">100%",E40/K40-1)),"n.m.") -> 0.5 | S40: =+IFERROR(IF(D40*J40<0,"n.m.",IF(D40/J40-1>100%,">100%",D40/J40-1)),"n.m.") -> 0.28571429
C42: Belgium (discontinued operations) | D42: =+H42+G42+F42+E42 -> 96 | E42: 24 | F42: 24 | G42: 25 | H42: 23 | J42: =+N42+M42+L42+K42 -> 114 | K42: 38 | L42: 27 | M42: 24 | N42: 25 | P42: =+IFERROR(IF(E42*K42<0,"n.m.",IF(E42/K42-1>100%,">100%",E42/K42-1)),"n.m.") -> -0.36842105 | S42: =+IFERROR(IF(D42*J42<0,"n.m.",IF(D42/J42-1>100%,">100%",D42/J42-1)),"n.m.") -> -0.15789474
C44: Other activities | D44: =+H44+G44+F44+E44 -> 8 | E44: 5 | F44: 2 | G44: -2 | H44: 3 | J44: =+N44+M44+L44+K44 -> 10 | K44: 5 | L44: 0 | M44: 4 | N44: 1 | P44: =+IFERROR(IF(E44*K44<0,"n.m.",IF(E44/K44-1>100%,">100%",E44/K44-1)),"n.m.") -> 0 | S44: =+IFERROR(IF(D44*J44<0,"n.m.",IF(D44/J44-1>100%,">100%",D44/J44-1)),"n.m.") -> -0.2
C46: Total depreciation (incl. discontinued operations) | D46: =+H46+G46+F46+E46 -> 1201 | E46: =+E38+E40+E44+E42 -> 307 | F46: =+F38+F40+F44+F42 -> 300 | G46: =+G38+G40+G44+G42 -> 298 | H46: =+H38+H40+H44+H42 -> 296 | J46: =+N46+M46+L46+K46 -> 1243 | K46: =+K38+K40+K44+K42 -> 324 | L46: =+L38+L40+L44+L42 -> 294 | M46: =+M38+M40+M44+M42 -> 319 | N46: =+N38+N40+N44+N42 -> 306 | P46: =+IFERROR(IF(E46*K46<0,"n.m.",IF(E46/K46-1>100%,">100%",E46/K46-1)),"n.m.") -> -0.052469136 | S46: =+IFERROR(IF(D46*J46<0,"n.m.",IF(D46/J46-1>100%,">100%",D46/J46-1)),"n.m.") -> -0.03378922
C48: Of which discontinued operations | D48: =+H48+G48+F48+E48 -> 96 | E48: 25 | F48: 24 | G48: 24 | H48: 23 | J48: =+N48+M48+L48+K48 -> 114 | K48: 39 | L48: 24 | M48: 27 | N48: 24 | P48: =+IFERROR(IF(E48*K48<0,"n.m.",IF(E48/K48-1>100%,">100%",E48/K48-1)),"n.m.") -> -0.35897436 | S48: =+IFERROR(IF(D48*J48<0,"n.m.",IF(D48/J48-1>100%,">100%",D48/J48-1)),"n.m.") -> -0.15789474
C50: Total depreciation from continuing operations | D50: =+H50+G50+F50+E50 -> 1105 | E50: =+E46-E48 -> 282 | F50: =+F46-F48 -> 276 | G50: =+G46-G48 -> 274 | H50: =+H46-H48 -> 273 | J50: =+N50+M50+L50+K50 -> 1129 | K50: =+K46-K48 -> 285 | L50: =+L46-L48 -> 270 | M50: =+M46-M48 -> 292 | N50: =+N46-N48 -> 282 | P50: =+IFERROR(IF(E50*K50<0,"n.m.",IF(E50/K50-1>100%,">100%",E50/K50-1)),"n.m.") -> -0.010526316 | S50: =+IFERROR(IF(D50*J50<0,"n.m.",IF(D50/J50-1>100%,">100%",D50/J50-1)),"n.m.") -> -0.02125775
C55: Consolidated figures | D55: =+D2 -> 2015 | E55: Q4 '15 | F55: =+F30 -> Q3 '15 | G55: =+G30 -> Q2 '15 | H55: =+H30 -> Q1 '15 | J55: =+J2 -> 2014 | K55: =+K30 -> Q4 '14 | L55: =+L30 -> Q3 '14 | M55: =+M30 -> Q2 '14 | N55: =+N30 -> Q1 '14 | P55: =+P2 -> y-on-y | S55: =+S2 -> y-on-y
C56: Amortization | P56: =+P31 -> Q4% | S56: =+S31 -> FY%
C58: Consumer Mobile | D58: =+H58+G58+F58+E58 -> 62 | E58: 15 | F58: 16 | G58: 13 | H58: 18 | J58: =+N58+M58+L58+K58 -> 63 | K58: 17 | L58: 19 | M58: 14 | N58: 13 | P58: =+IFERROR(IF(E58*K58<0,"n.m.",IF(E58/K58-1>100%,">100%",E58/K58-1)),"n.m.") -> -0.11764706 | S58: =+IFERROR(IF(D58*J58<0,"n.m.",IF(D58/J58-1>100%,">100%",D58/J58-1)),"n.m.") -> -0.015873016
C59: Consumer Residential | D59: =+H59+G59+F59+E59 -> 87 | E59: 19 | F59: 20 | G59: 25 | H59: 23 | J59: =+N59+M59+L59+K59 -> 103 | K59: 28 | L59: 25 | M59: 26 | N59: 24 | P59: =+IFERROR(IF(E59*K59<0,"n.m.",IF(E59/K59-1>100%,">100%",E59/K59-1)),"n.m.") -> -0.32142857 | S59: =+IFERROR(IF(D59*J59<0,"n.m.",IF(D59/J59-1>100%,">100%",D59/J59-1)),"n.m.") -> -0.15533981
C60: Business | D60: =+H60+G60+F60+E60 -> 85 | E60: 21 | F60: 20 | G60: 22 | H60: 22 | J60: =+N60+M60+L60+K60 -> 116 | K60: 27 | L60: 29 | M60: 29 | N60: 31 | P60: =+IFERROR(IF(E60*K60<0,"n.m.",IF(E60/K60-1>100%,">100%",E60/K60-1)),"n.m.") -> -0.22222222 | S60: =+IFERROR(IF(D60*J60<0,"n.m.",IF(D60/J60-1>100%,">100%",D60/J60-1)),"n.m.") -> -0.26724138
C61: NetCo | D61: =+H61+G61+F61+E61 -> 238 | E61: 64 | F61: 57 | G61: 58 | H61: 59 | J61: =+N61+M61+L61+K61 -> 224 | K61: 59 | L61: 55 | M61: 55 | N61: 55 | P61: =+IFERROR(IF(E61*K61<0,"n.m.",IF(E61/K61-1>100%,">100%",E61/K61-1)),"n.m.") -> 0.084745763 | S61: =+IFERROR(IF(D61*J61<0,"n.m.",IF(D61/J61-1>100%,">100%",D61/J61-1)),"n.m.") -> 0.0625
C62: Other (incl. eliminations) | D62: =+H62+G62+F62+E62 -> 36 | E62: 16 | F62: 9 | G62: 6 | H62: 5 | J62: =+N62+M62+L62+K62 -> 12 | K62: 1 | L62: 3 | M62: 5 | N62: 3 | P62: =+IFERROR(IF(E62*K62<0,"n.m.",IF(E62/K62-1>100%,">100%",E62/K62-1)),"n.m.") -> >100% | S62: =+IFERROR(IF(D62*J62<0,"n.m.",IF(D62/J62-1>100%,">100%",D62/J62-1)),"n.m.") -> >100%
C63: The Netherlands | D63: =+H63+G63+F63+E63 -> 508 | E63: =E58+E59+E60+E61+E62 -> 135 | F63: =F58+F59+F60+F61+F62 -> 122 | G63: =G58+G59+G60+G61+G62 -> 124 | H63: =H58+H59+H60+H61+H62 -> 127 | J63: =+N63+M63+L63+K63 -> 518 | K63: =K58+K59+K60+K61+K62 -> 132 | L63: =L58+L59+L60+L61+L62 -> 131 | M63: =M58+M59+M60+M61+M62 -> 129 | N63: =N58+N59+N60+N61+N62 -> 126 | P63: =+IFERROR(IF(E63*K63<0,"n.m.",IF(E63/K63-1>100%,">100%",E63/K63-1)),"n.m.") -> 0.022727273 | S63: =+IFERROR(IF(D63*J63<0,"n.m.",IF(D63/J63-1>100%,">100%",D63/J63-1)),"n.m.") -> -0.019305019
C65: iBasis | D65: =+H65+G65+F65+E65 -> 2 | E65: 0 | F65: 1 | G65: 0 | H65: 1 | J65: =+N65+M65+L65+K65 -> 2 | K65: 0 | L65: 1 | M65: 0 | N65: 1 | P65: =+IFERROR(IF(E65*K65<0,"n.m.",IF(E65/K65-1>100%,">100%",E65/K65-1)),"n.m.") -> n.m. | S65: =+IFERROR(IF(D65*J65<0,"n.m.",IF(D65/J65-1>100%,">100%",D65/J65-1)),"n.m.") -> 0
C67: Belgium (discontinued operations) | D67: =+H67+G67+F67+E67 -> 67 | E67: 21 | F67: 14 | G67: 18 | H67: 14 | J67: =+N67+M67+L67+K67 -> 52 | K67: 13 | L67: 13 | M67: 14 | N67: 12 | P67: =+IFERROR(IF(E67*K67<0,"n.m.",IF(E67/K67-1>100%,">100%",E67/K67-1)),"n.m.") -> 0.61538462 | S67: =+IFERROR(IF(D67*J67<0,"n.m.",IF(D67/J67-1>100%,">100%",D67/J67-1)),"n.m.") -> 0.28846154
...

Sheet Profit & Margin
C2: Consolidated figures | D2: =+Expenses!D2 -> 2015 | E2: Q4 '15 | F2: =+Revenues!F2 -> Q3 '15 | G2: =+Revenues!G2 -> Q2 '15 | H2: =+Revenues!H2 -> Q1 '15 | J2: =+Expenses!J2 -> 2014 | K2: =+Revenues!K2 -> Q4 '14 | L2: =+Revenues!L2 -> Q3 '14 | M2: =+Revenues!M2 -> Q2 '14 | N2: =+Revenues!N2 -> Q1 '14 | P2: =+Expenses!P2 -> y-on-y | S2: =+Expenses!S2 -> y-on-y
C3: EBITDA | P3: =+Revenues!P3 -> Q4% | S3: =+Revenues!S3 -> FY%
C5: Consumer Mobile | D5: =+H5+G5+F5+E5 -> 272 | E5: =Revenues!E5-Expenses!E5 -> 47 | F5: =+Revenues!F5-Expenses!F5 -> 85 | G5: =+Revenues!G5-Expenses!G5 -> 82 | H5: =+Revenues!H5-Expenses!H5 -> 58 | J5: =+N5+M5+L5+K5 -> 191 | K5: =+Revenues!K5-Expenses!K5 -> 39 | L5: =+Revenues!L5-Expenses!L5 -> 47 | M5: =+Revenues!M5-Expenses!M5 -> 50 | N5: =+Revenues!N5-Expenses!N5 -> 55 | P5: =+IFERROR(IF(E5*K5<0,"n.m.",IF(E5/K5-1>100%,">100%",E5/K5-1)),"n.m.") -> 0.20512821 | S5: =+IFERROR(IF(D5*J5<0,"n.m.",IF(D5/J5-1>100%,">100%",D5/J5-1)),"n.m.") -> 0.42408377
C6: Consumer Residential | D6: =+H6+G6+F6+E6 -> 415 | E6: =Revenues!E6-Expenses!E6 -> 99 | F6: =+Revenues!F6-Expenses!F6 -> 112 | G6: =+Revenues!G6-Expenses!G6 -> 104 | H6: =+Revenues!H6-Expenses!H6 -> 100 | J6: =+N6+M6+L6+K6 -> 404 | K6: =+Revenues!K6-Expenses!K6 -> 96 | L6: =+Revenues!L6-Expenses!L6 -> 108 | M6: =+Revenues!M6-Expenses!M6 -> 103 | N6: =+Revenues!N6-Expenses!N6 -> 97 | P6: =+IFERROR(IF(E6*K6<0,"n.m.",IF(E6/K6-1>100%,">100%",E6/K6-1)),"n.m.") -> 0.03125 | S6: =+IFERROR(IF(D6*J6<0,"n.m.",IF(D6/J6-1>100%,">100%",D6/J6-1)),"n.m.") -> 0.027227723
C7: Business | D7: =+H7+G7+F7+E7 -> 439 | E7: =Revenues!E7-Expenses!E7 -> 112 | F7: =+Revenues!F7-Expenses!F7 -> 119 | G7: =+Revenues!G7-Expenses!G7 -> 88 | H7: =+Revenues!H7-Expenses!H7 -> 120 | J7: =+N7+M7+L7+K7 -> 590 | K7: =+Revenues!K7-Expenses!K7 -> 146 | L7: =+Revenues!L7-Expenses!L7 -> 153 | M7: =+Revenues!M7-Expenses!M7 -> 142 | N7: =+Revenues!N7-Expenses!N7 -> 149 | P7: =+IFERROR(IF(E7*K7<0,"n.m.",IF(E7/K7-1>100%,">100%",E7/K7-1)),"n.m.") -> -0.23287671 | S7: =+IFERROR(IF(D7*J7<0,"n.m.",IF(D7/J7-1>100%,">100%",D7/J7-1)),"n.m.") -> -0.2559322
C8: NetCo | D8: =+H8+G8+F8+E8 -> 1283 | E8: =Revenues!E8-Expenses!E8 -> 328 | F8: =+Revenues!F8-Expenses!F8 -> 329 | G8: =+Revenues!G8-Expenses!G8 -> 315 | H8: =+Revenues!H8-Expenses!H8 -> 311 | J8: =+N8+M8+L8+K8 -> 1241 | K8: =+Revenues!K8-Expenses!K8 -> 321 | L8: =+Revenues!L8-Expenses!L8 -> 302 | M8: =+Revenues!M8-Expenses!M8 -> 314 | N8: =+Revenues!N8-Expenses!N8 -> 304 | P8: =+IFERROR(IF(E8*K8<0,"n.m.",IF(E8/K8-1>100%,">100%",E8/K8-1)),"n.m.") -> 0.021806854 | S8: =+IFERROR(IF(D8*J8<0,"n.m.",IF(D8/J8-1>100%,">100%",D8/J8-1)),"n.m.") -> 0.033843674
C9: Other (incl. eliminations) | D9: =+H9+G9+F9+E9 -> -42 | E9: =Revenues!E9-Expenses!E9 -> -8 | F9: =+Revenues!F9-Expenses!F9 -> -23 | G9: =+Revenues!G9-Expenses!G9 -> -5 | H9: =+Revenues!H9-Expenses!H9 -> -6 | J9: =+N9+M9+L9+K9 -> 24 | K9: =+Revenues!K9-Expenses!K9 -> 54 | L9: =+Revenues!L9-Expenses!L9 -> -3 | M9: =+Revenues!M9-Expenses!M9 -> -19 | N9: =+Revenues!N9-Expenses!N9 -> -8 | P9: =+IFERROR(IF(E9*K9<0,"n.m.",IF(E9/K9-1>100%,">100%",E9/K9-1)),"n.m.") -> n.m. | S9: =+IFERROR(IF(D9*J9<0,"n.m.",IF(D9/J9-1>100%,">100%",D9/J9-1)),"n.m.") -> n.m.
C10: The Netherlands | D10: =+H10+G10+F10+E10 -> 2367 | E10: =Revenues!E10-Expenses!E10 -> 578 | F10: =+Revenues!F10-Expenses!F10 -> 622 | G10: =+Revenues!G10-Expenses!G10 -> 584 | H10: =+Revenues!H10-Expenses!H10 -> 583 | J10: =+N10+M10+L10+K10 -> 2450 | K10: =+Revenues!K10-Expenses!K10 -> 656 | L10: =+Revenues!L10-Expenses!L10 -> 607 | M10: =+Revenues!M10-Expenses!M10 -> 590 | N10: =+Revenues!N10-Expenses!N10 -> 597 | P10: =+IFERROR(IF(E10*K10<0,"n.m.",IF(E10/K10-1>100%,">100%",E10/K10-1)),"n.m.") -> -0.11890244 | S10: =+IFERROR(IF(D10*J10<0,"n.m.",IF(D10/J10-1>100%,">100%",D10/J10-1)),"n.m.") -> -0.033877551
C12: iBasis | D12: =+H12+G12+F12+E12 -> 23 | E12: =Revenues!E12-Expenses!E12 -> 6 | F12: =+Revenues!F12-Expenses!F12 -> 6 | G12: =+Revenues!G12-Expenses!G12 -> 6 | H12: =+Revenues!H12-Expenses!H12 -> 5 | J12: =+N12+M12+L12+K12 -> 23 | K12: =+Revenues!K12-Expenses!K12 -> 6 | L12: =+Revenues!L12-Expenses!L12 -> 7 | M12: =+Revenues!M12-Expenses!M12 -> 5 | N12: =+Revenues!N12-Expenses!N12 -> 5 | P12: =+IFERROR(IF(E12*K12<0,"n.m.",IF(E12/K12-1>100%,">100%",E12/K12-1)),"n.m.") -> 0 | S12: =+IFERROR(IF(D12*J12<0,"n.m.",IF(D12/J12-1>100%,">100%",D12/J12-1)),"n.m.") -> 0
C14: Belgium (discontinued operations) | D14: =+H14+G14+F14+E14 -> 262 | E14: =Revenues!E14-Expenses!E14 -> 144 | F14: =+Revenues!F14-Expenses!F14 -> 46 | G14: =+Revenues!G14-Expenses!G14 -> 46 | H14: =+Revenues!H14-Expenses!H14 -> 26 | J14: =+N14+M14+L14+K14 -> 149 | K14: =+Revenues!K14-Expenses!K14 -> 34 | L14: =+Revenues!L14-Expenses!L14 -> 38 | M14: =+Revenues!M14-Expenses!M14 -> 36 | N14: =+Revenues!N14-Expenses!N14 -> 41 | P14: =+IFERROR(IF(E14*K14<0,"n.m.",IF(E14/K14-1>100%,">100%",E14/K14-1)),"n.m.") -> >100% | S14: =+IFERROR(IF(D14*J14<0,"n.m.",IF(D14/J14-1>100%,">100%",D14/J14-1)),"n.m.") -> 0.75838926
C16: Other activities1 | D16: =+H16+G16+F16+E16 -> -64 | E16: =Revenues!E16-Expenses!E16 -> -5 | F16: =+Revenues!F16-Expenses!F16 -> -25 | G16: =+Revenues!G16-Expenses!G16 -> -23 | H16: =+Revenues!H16-Expenses!H16 -> -11 | J16: =+N16+M16+L16+K16 -> 393 | K16: =+Revenues!K16-Expenses!K16 -> -5 | L16: =+Revenues!L16-Expenses!L16 -> -19 | M16: =+Revenues!M16-Expenses!M16 -> 436 | N16: =+Revenues!N16-Expenses!N16 -> -19 | P16: =+IFERROR(IF(E16*K16<0,"n.m.",IF(E16/K16-1>100%,">100%",E16/K16-1)),"n.m.") -> 0 | S16: =+IFERROR(IF(D16*J16<0,"n.m.",IF(D16/J16-1>100%,">100%",D16/J16-1)),"n.m.") -> n.m.
C18: Total EBITDA (reported; incl. discontinued operations) | D18: =+H18+G18+F18+E18 -> 2588 | E18: =+E10+E12+E16+E14 -> 723 | F18: =+F10+F12+F16+F14 -> 649 | G18: =+G10+G12+G16+G14 -> 613 | H18: =+H10+H12+H16+H14 -> 603 | J18: =+N18+M18+L18+K18 -> 3015 | K18: =+K10+K12+K16+K14 -> 691 | L18: =+L10+L12+L16+L14 -> 633 | M18: =+M10+M12+M16+M14 -> 1067 | N18: =+N10+N12+N16+N14 -> 624 | P18: =+IFERROR(IF(E18*K18<0,"n.m.",IF(E18/K18-1>100%,">100%",E18/K18-1)),"n.m.") -> 0.046309696 | S18: =+IFERROR(IF(D18*J18<0,"n.m.",IF(D18/J18-1>100%,">100%",D18/J18-1)),"n.m.") -> -0.14162521
C20: Of which discontinued operations | D20: =+H20+G20+F20+E20 -> 264 | E20: =Revenues!E22-Expenses!E22 -> 145 | F20: =+Revenues!F22-Expenses!F22 -> 47 | G20: =+Revenues!G22-Expenses!G22 -> 45 | H20: =+Revenues!H22-Expenses!H22 -> 27 | I20: =+Revenues!I22-Expenses!I22 -> 0 | J20: =+N20+M20+L20+K20 -> 149 | K20: =+Revenues!K22-Expenses!K22 -> 35 | L20: =+Revenues!L22-Expenses!L22 -> 38 | M20: =+Revenues!M22-Expenses!M22 -> 37 | N20: =+Revenues!N22-Expenses!N22 -> 39 | P20: =+IFERROR(IF(E20*K20<0,"n.m.",IF(E20/K20-1>100%,">100%",E20/K20-1)),"n.m.") -> >100% | S20: =+IFERROR(IF(D20*J20<0,"n.m.",IF(D20/J20-1>100%,">100%",D20/J20-1)),"n.m.") -> 0.77181208
C22: Total EBITDA (reported) from continuing operations | D22: =+H22+G22+F22+E22 -> 2324 | E22: =+E18-E20 -> 578 | F22: =+F18-F20 -> 602 | G22: =+G18-G20 -> 568 | H22: =+H18-H20 -> 576 | J22: =+N22+M22+L22+K22 -> 2866 | K22: =+K18-K20 -> 656 | L22: =+L18-L20 -> 595 | M22: =+M18-M20 -> 1030 | N22: =+N18-N20 -> 585 | P22: =+IFERROR(IF(E22*K22<0,"n.m.",IF(E22/K22-1>100%,">100%",E22/K22-1)),"n.m.") -> -0.11890244 | S22: =+IFERROR(IF(D22*J22<0,"n.m.",IF(D22/J22-1>100%,">100%",D22/J22-1)),"n.m.") -> -0.18911375
B25: 1 Including € 451m and € 26m release of provision related to the pension plan agreements in The Netherlands in Q2 2014 and Q4 2014 respectively
C28: Consolidated figures | D28: =+D2 -> 2015 | E28: Q4 '15 | F28: =+F2 -> Q3 '15 | G28: =+G2 -> Q2 '15 | H28: =+H2 -> Q1 '15 | J28: =+J2 -> 2014 | K28: =+K2 -> Q4 '14 | L28: =+L2 -> Q3 '14 | M28: =+M2 -> Q2 '14 | N28: =+N2 -> Q1 '14
C29: EBITDA margin
C31: Consumer Mobile | D31: =D5/Revenues!D5 -> 0.18617385 | E31: =E5/Revenues!E5 -> 0.1280654 | F31: =F5/Revenues!F5 -> 0.22606383 | G31: =G5/Revenues!G5 -> 0.21925134 | H31: =H5/Revenues!H5 -> 0.16860465 | J31: =J5/Revenues!J5 -> 0.13574982 | K31: =K5/Revenues!K5 -> 0.11079545 | L31: =L5/Revenues!L5 -> 0.13276836 | M31: =M5/Revenues!M5 -> 0.14124294 | N31: =N5/Revenues!N5 -> 0.15850144
C32: Consumer Residential | D32: =D6/Revenues!D6 -> 0.21413829 | E32: =E6/Revenues!E6 -> 0.20162933 | F32: =F6/Revenues!F6 -> 0.23045267 | G32: =G6/Revenues!G6 -> 0.21757322 | H32: =H6/Revenues!H6 -> 0.20703934 | J32: =J6/Revenues!J6 -> 0.21085595 | K32: =K6/Revenues!K6 -> 0.2 | L32: =L6/Revenues!L6 -> 0.22641509 | M32: =M6/Revenues!M6 -> 0.21638655 | N32: =N6/Revenues!N6 -> 0.20082816
C33: Business | D33: =D7/Revenues!D7 -> 0.16509966 | E33: =E7/Revenues!E7 -> 0.16666667 | F33: =F7/Revenues!F7 -> 0.18167939 | G33: =G7/Revenues!G7 -> 0.13496933 | H33: =H7/Revenues!H7 -> 0.17647059 | J33: =J7/Revenues!J7 -> 0.20205479 | K33: =K7/Revenues!K7 -> 0.19414894 | L33: =L7/Revenues!L7 -> 0.21671388 | M33: =M7/Revenues!M7 -> 0.19398907 | N33: =N7/Revenues!N7 -> 0.20410959
C34: NetCo | D34: =D8/Revenues!D8 -> 0.58691674 | E34: =E8/Revenues!E8 -> 0.59963437 | F34: =F8/Revenues!F8 -> 0.60036496 | G34: =G8/Revenues!G8 -> 0.57904412 | H34: =H8/Revenues!H8 -> 0.56855576 | J34: =J8/Revenues!J8 -> 0.54862953 | K34: =K8/Revenues!K8 -> 0.56713781 | L34: =L8/Revenues!L8 -> 0.54219031 | M34: =M8/Revenues!M8 -> 0.55087719 | N34: =N8/Revenues!N8 -> 0.53427065
C35: Other (incl. eliminations) | D35: =D9/Revenues!D9 -> 0.020309478 | E35: =E9/Revenues!E9 -> 0.015267176 | F35: =F9/Revenues!F9 -> 0.044747082 | G35: =G9/Revenues!G9 -> 0.0097465887 | H35: =H9/Revenues!H9 -> 0.011605416 | J35: =J9/Revenues!J9 -> -0.011707317 | K35: =K9/Revenues!K9 -> -0.11713666 | L35: =L9/Revenues!L9 -> 0.0056710775 | M35: =M9/Revenues!M9 -> 0.035916824 | N35: =N9/Revenues!N9 -> 0.015065913
C36: The Netherlands | D36: =D10/Revenues!D10 -> 0.38325777 | E36: =E10/Revenues!E10 -> 0.37218287 | F36: =F10/Revenues!F10 -> 0.40103159 | G36: =G10/Revenues!G10 -> 0.38045603 | H36: =H10/Revenues!H10 -> 0.37931034 | J36: =J10/Revenues!J10 -> 0.37955074 | K36: =K10/Revenues!K10 -> 0.3883955 | L36: =L10/Revenues!L10 -> 0.38785942 | M36: =M10/Revenues!M10 -> 0.36805989 | N36: =N10/Revenues!N10 -> 0.37359199
C38: iBasis | D38: =D12/Revenues!D12 -> 0.025 | E38: =E12/Revenues!E12 -> 0.027522936 | F38: =F12/Revenues!F12 -> 0.024896266 | G38: =G12/Revenues!G12 -> 0.025641026 | H38: =H12/Revenues!H12 -> 0.022026432 | J38: =J12/Revenues!J12 -> 0.024261603 | K38: =K12/Revenues!K12 -> 0.024193548 | L38: =L12/Revenues!L12 -> 0.028806584 | M38: =M12/Revenues!M12 -> 0.021645022 | N38: =N12/Revenues!N12 -> 0.022123894
C40: Belgium (discontinued operations) | D40: =D14/Revenues!D14 -> 0.35026738 | E40: =E14/Revenues!E14 -> 0.6 | F40: =F14/Revenues!F14 -> 0.27058824 | G40: =G14/Revenues!G14 -> 0.27218935 | H40: =H14/Revenues!H14 -> 0.15384615 | J40: =J14/Revenues!J14 -> 0.20956399 | K40: =K14/Revenues!K14 -> 0.18888889 | L40: =L14/Revenues!L14 -> 0.21590909 | M40: =M14/Revenues!M14 -> 0.20224719 | N40: =N14/Revenues!N14 -> 0.23163842
C42: Other activities1 | D42: =D16/Revenues!D16 -> -1.7297297 | E42: =E16/Revenues!E16 -> -1.6666667 | F42: =F16/Revenues!F16 -> -6.25 | G42: =G16/Revenues!G16 -> -5.75 | H42: =H16/Revenues!H16 -> -0.42307692 | J42: =J16/Revenues!J16 -> 2.1129032 | K42: =K16/Revenues!K16 -> -0.14705882 | L42: =L16/Revenues!L16 -> -0.35185185 | M42: =M16/Revenues!M16 -> 9.0833333 | N42: =N16/Revenues!N16 -> -0.38
C44: Total EBITDA margin (reported; incl. discontinued operations) | D44: =D18/Revenues!D20 -> 0.33505955 | E44: =E18/Revenues!E20 -> 0.36552073 | F44: =F18/Revenues!F20 -> 0.33714286 | G44: =G18/Revenues!G20 -> 0.32229232 | H44: =H18/Revenues!H20 -> 0.31422616 | J44: =J18/Revenues!J20 -> 0.37300507 | K44: =K18/Revenues!K20 -> 0.32826603 | L44: =L18/Revenues!L20 -> 0.32002022 | M44: =M18/Revenues!M20 -> 0.53243513 | N44: =N18/Revenues!N20 -> 0.31262525
C46: EBITDA margin (reported) from discontinued operations | D46: =D20/Revenues!D22 -> 0.36871508 | E46: =E20/Revenues!E22 -> 0.6223176 | F46: =F20/Revenues!F22 -> 0.29192547 | G46: =G20/Revenues!G22 -> 0.27950311 | H46: =H20/Revenues!H22 -> 0.16770186 | J46: =J20/Revenues!J22 -> 0.22106825 | K46: =K20/Revenues!K22 -> 0.20348837 | L46: =L20/Revenues!L22 -> 0.22754491 | M46: =M20/Revenues!M22 -> 0.21893491 | N46: =N20/Revenues!N22 -> 0.23493976
C48: Total EBITDA margin (reported) from continuing operations | D48: =D22/Revenues!D24 -> 0.331621 | E48: =E22/Revenues!E24 -> 0.33123209 | F48: =F22/Revenues!F24 -> 0.34126984 | G48: =G22/Revenues!G24 -> 0.32624928 | H48: =H22/Revenues!H24 -> 0.32764505 | J48: =J22/Revenues!J24 -> 0.38682683 | K48: =K22/Revenues!K24 -> 0.33936886 | L48: =L22/Revenues!L24 -> 0.32854776 | M48: =M22/Revenues!M24 -> 0.5613079 | N48: =N22/Revenues!N24 -> 0.31967213
B51: 1 Including € 451m and € 26m release of provision related to the pension plan agreements in The Netherlands in Q2 2014 and Q4 2014 respectively
C54: Consolidated figures | D54: =+D2 -> 2015 | E54: Q4 '15 | F54: =+F2 -> Q3 '15 | G54: =+G2 -> Q2 '15 | H54: =+H2 -> Q1 '15 | J54: =+J2 -> 2014 | K54: =+K2 -> Q4 '14 | L54: =+L2 -> Q3 '14 | M54: =+M2 -> Q2 '14 | N54: =+N2 -> Q1 '14 | P54: =+P2 -> y-on-y | S54: =+S2 -> y-on-y
C55: Adjusted EBITDA | P55: =+P3 -> Q4% | S55: =+S3 -> FY%
C57: Consumer Mobile | D57: =+H57+G57+F57+E57 -> 282 | E57: =+'Growth analysis Q4'!G32 -> 49 | F57: =+'Growth analysis Q3'!G32 -> 90 | G57: =+'Growth analysis Q2'!G32 -> 82 | H57: =+'Growth analysis Q1'!G32 -> 61 | J57: =+N57+M57+L57+K57 -> 192 | K57: =+'Growth analysis Q4'!L32 -> 39 | L57: =+'Growth analysis Q3'!L32 -> 47 | M57: =+'Growth analysis Q2'!L32 -> 51 | N57: =+'Growth analysis Q1'!L32 -> 55 | P57: =+IFERROR(IF(E57*K57<0,"n.m.",IF(E57/K57-1>100%,">100%",E57/K57-1)),"n.m.") -> 0.25641026 | S57: =+IFERROR(IF(D57*J57<0,"n.m.",IF(D57/J57-1>100%,">100%",D57/J57-1)),"n.m.") -> 0.46875
C58: Consumer Residential | D58: =+H58+G58+F58+E58 -> 419 | E58: =+'Growth analysis Q4'!G33 -> 100 | F58: =+'Growth analysis Q3'!G33 -> 113 | G58: =+'Growth analysis Q2'!G33 -> 105 | H58: =+'Growth analysis Q1'!G33 -> 101 | J58: =+N58+M58+L58+K58 -> 412 | K58: =+'Growth analysis Q4'!L33 -> 97 | L58: =+'Growth analysis Q3'!L33 -> 109 | M58: =+'Growth analysis Q2'!L33 -> 106 | N58: =+'Growth analysis Q1'!L33 -> 100 | P58: =+IFERROR(IF(E58*K58<0,"n.m.",IF(E58/K58-1>100%,">100%",E58/K58-1)),"n.m.") -> 0.030927835 | S58: =+IFERROR(IF(D58*J58<0,"n.m.",IF(D58/J58-1>100%,">100%",D58/J58-1)),"n.m.") -> 0.016990291
C59: Business | D59: =+H59+G59+F59+E59 -> 489 | E59: =+'Growth analysis Q4'!G34 -> 115 | F59: =+'Growth analysis Q3'!G34 -> 124 | G59: =+'Growth analysis Q2'!G34 -> 123 | H59: =+'Growth analysis Q1'!G34 -> 127 | J59: =+N59+M59+L59+K59 -> 606 | K59: =+'Growth analysis Q4'!L34 -> 149 | L59: =+'Growth analysis Q3'!L34 -> 158 | M59: =+'Growth analysis Q2'!L34 -> 153 | N59: =+'Growth analysis Q1'!L34 -> 146 | P59: =+IFERROR(IF(E59*K59<0,"n.m.",IF(E59/K59-1>100%,">100%",E59/K59-1)),"n.m.") -> -0.22818792 | S59: =+IFERROR(IF(D59*J59<0,"n.m.",IF(D59/J59-1>100%,">100%",D59/J59-1)),"n.m.") -> -0.19306931
C60: NetCo | D60: =+H60+G60+F60+E60 -> 1291 | E60: =+'Growth analysis Q4'!G35 -> 331 | F60: =+'Growth analysis Q3'!G35 -> 332 | G60: =+'Growth analysis Q2'!G35 -> 314 | H60: =+'Growth analysis Q1'!G35 -> 314 | J60: =+N60+M60+L60+K60 -> 1228 | K60: =+'Growth analysis Q4'!L35 -> 322 | L60: =+'Growth analysis Q3'!L35 -> 304 | M60: =+'Growth analysis Q2'!L35 -> 305 | N60: =+'Growth analysis Q1'!L35 -> 297 | P60: =+IFERROR(IF(E60*K60<0,"n.m.",IF(E60/K60-1>100%,">100%",E60/K60-1)),"n.m.") -> 0.027950311 | S60: =+IFERROR(IF(D60*J60<0,"n.m.",IF(D60/J60-1>100%,">100%",D60/J60-1)),"n.m.") -> 0.051302932
